BEGIN:VCALENDAR
VERSION:2.0
PRODID:-//Pentaweek Calendar//EN
BEGIN:VEVENT
DTSTART;VALUE=DATE:26870110
SUMMARY:Planning Sprint 1
UID:26870110-pentaweek@local
END:VEVENT
BEGIN:VEVENT
DTSTART;VALUE=DATE:26870117
SUMMARY:Sprint 1, Week 1
UID:26870117-pentaweek@local
END:VEVENT
BEGIN:VEVENT
DTSTART;VALUE=DATE:26870124
SUMMARY:Sprint 1, Week 2
UID:26870124-pentaweek@local
END:VEVENT
BEGIN:VEVENT
DTSTART;VALUE=DATE:26870131
SUMMARY:Sprint 1, Week 3
UID:26870131-pentaweek@local
END:VEVENT
BEGIN:VEVENT
DTSTART;VALUE=DATE:26870207
SUMMARY:Sprint 1, Week 4
UID:26870207-pentaweek@local
END:VEVENT
BEGIN:VEVENT
DTSTART;VALUE=DATE:26870214
SUMMARY:Sprint 1, Week 5
UID:26870214-pentaweek@local
END:VEVENT
BEGIN:VEVENT
DTSTART;VALUE=DATE:26870221
SUMMARY:Planning Sprint 2
UID:26870221-pentaweek@local
END:VEVENT
BEGIN:VEVENT
DTSTART;VALUE=DATE:26870228
SUMMARY:Sprint 2, Week 1
UID:26870228-pentaweek@local
END:VEVENT
BEGIN:VEVENT
DTSTART;VALUE=DATE:26870307
SUMMARY:Sprint 2, Week 2
UID:26870307-pentaweek@local
END:VEVENT
BEGIN:VEVENT
DTSTART;VALUE=DATE:26870314
SUMMARY:Sprint 2, Week 3
UID:26870314-pentaweek@local
END:VEVENT
BEGIN:VEVENT
DTSTART;VALUE=DATE:26870321
SUMMARY:Sprint 2, Week 4
UID:26870321-pentaweek@local
END:VEVENT
BEGIN:VEVENT
DTSTART;VALUE=DATE:26870328
SUMMARY:Sprint 2, Week 5
UID:26870328-pentaweek@local
END:VEVENT
BEGIN:VEVENT
DTSTART;VALUE=DATE:26870404
SUMMARY:Planning Sprint 3
UID:26870404-pentaweek@local
END:VEVENT
BEGIN:VEVENT
DTSTART;VALUE=DATE:26870411
SUMMARY:Sprint 3, Week 1
UID:26870411-pentaweek@local
END:VEVENT
BEGIN:VEVENT
DTSTART;VALUE=DATE:26870418
SUMMARY:Sprint 3, Week 2
UID:26870418-pentaweek@local
END:VEVENT
BEGIN:VEVENT
DTSTART;VALUE=DATE:26870425
SUMMARY:Sprint 3, Week 3
UID:26870425-pentaweek@local
END:VEVENT
BEGIN:VEVENT
DTSTART;VALUE=DATE:26870502
SUMMARY:Sprint 3, Week 4
UID:26870502-pentaweek@local
END:VEVENT
BEGIN:VEVENT
DTSTART;VALUE=DATE:26870509
SUMMARY:Sprint 3, Week 5
UID:26870509-pentaweek@local
END:VEVENT
BEGIN:VEVENT
DTSTART;VALUE=DATE:26870516
SUMMARY:Planning Sprint 4
UID:26870516-pentaweek@local
END:VEVENT
BEGIN:VEVENT
DTSTART;VALUE=DATE:26870523
SUMMARY:Sprint 4, Week 1
UID:26870523-pentaweek@local
END:VEVENT
BEGIN:VEVENT
DTSTART;VALUE=DATE:26870530
SUMMARY:Sprint 4, Week 2
UID:26870530-pentaweek@local
END:VEVENT
BEGIN:VEVENT
DTSTART;VALUE=DATE:26870606
SUMMARY:Sprint 4, Week 3
UID:26870606-pentaweek@local
END:VEVENT
BEGIN:VEVENT
DTSTART;VALUE=DATE:26870613
SUMMARY:Sprint 4, Week 4
UID:26870613-pentaweek@local
END:VEVENT
BEGIN:VEVENT
DTSTART;VALUE=DATE:26870620
SUMMARY:Sprint 4, Week 5
UID:26870620-pentaweek@local
END:VEVENT
BEGIN:VEVENT
DTSTART;VALUE=DATE:26870711
SUMMARY:Planning Sprint 5
UID:26870711-pentaweek@local
END:VEVENT
BEGIN:VEVENT
DTSTART;VALUE=DATE:26870718
SUMMARY:Sprint 5, Week 1
UID:26870718-pentaweek@local
END:VEVENT
BEGIN:VEVENT
DTSTART;VALUE=DATE:26870725
SUMMARY:Sprint 5, Week 2
UID:26870725-pentaweek@local
END:VEVENT
BEGIN:VEVENT
DTSTART;VALUE=DATE:26870801
SUMMARY:Sprint 5, Week 3
UID:26870801-pentaweek@local
END:VEVENT
BEGIN:VEVENT
DTSTART;VALUE=DATE:26870808
SUMMARY:Sprint 5, Week 4
UID:26870808-pentaweek@local
END:VEVENT
BEGIN:VEVENT
DTSTART;VALUE=DATE:26870815
SUMMARY:Sprint 5, Week 5
UID:26870815-pentaweek@local
END:VEVENT
BEGIN:VEVENT
DTSTART;VALUE=DATE:26870822
SUMMARY:Planning Sprint 6
UID:26870822-pentaweek@local
END:VEVENT
BEGIN:VEVENT
DTSTART;VALUE=DATE:26870829
SUMMARY:Sprint 6, Week 1
UID:26870829-pentaweek@local
END:VEVENT
BEGIN:VEVENT
DTSTART;VALUE=DATE:26870905
SUMMARY:Sprint 6, Week 2
UID:26870905-pentaweek@local
END:VEVENT
BEGIN:VEVENT
DTSTART;VALUE=DATE:26870912
SUMMARY:Sprint 6, Week 3
UID:26870912-pentaweek@local
END:VEVENT
BEGIN:VEVENT
DTSTART;VALUE=DATE:26870919
SUMMARY:Sprint 6, Week 4
UID:26870919-pentaweek@local
END:VEVENT
BEGIN:VEVENT
DTSTART;VALUE=DATE:26870926
SUMMARY:Sprint 6, Week 5
UID:26870926-pentaweek@local
END:VEVENT
BEGIN:VEVENT
DTSTART;VALUE=DATE:26871003
SUMMARY:Planning Sprint 7
UID:26871003-pentaweek@local
END:VEVENT
BEGIN:VEVENT
DTSTART;VALUE=DATE:26871010
SUMMARY:Sprint 7, Week 1
UID:26871010-pentaweek@local
END:VEVENT
BEGIN:VEVENT
DTSTART;VALUE=DATE:26871017
SUMMARY:Sprint 7, Week 2
UID:26871017-pentaweek@local
END:VEVENT
BEGIN:VEVENT
DTSTART;VALUE=DATE:26871024
SUMMARY:Sprint 7, Week 3
UID:26871024-pentaweek@local
END:VEVENT
BEGIN:VEVENT
DTSTART;VALUE=DATE:26871031
SUMMARY:Sprint 7, Week 4
UID:26871031-pentaweek@local
END:VEVENT
BEGIN:VEVENT
DTSTART;VALUE=DATE:26871107
SUMMARY:Sprint 7, Week 5
UID:26871107-pentaweek@local
END:VEVENT
BEGIN:VEVENT
DTSTART;VALUE=DATE:26871114
SUMMARY:Planning Sprint 8
UID:26871114-pentaweek@local
END:VEVENT
BEGIN:VEVENT
DTSTART;VALUE=DATE:26871121
SUMMARY:Sprint 8, Week 1
UID:26871121-pentaweek@local
END:VEVENT
BEGIN:VEVENT
DTSTART;VALUE=DATE:26871128
SUMMARY:Sprint 8, Week 2
UID:26871128-pentaweek@local
END:VEVENT
BEGIN:VEVENT
DTSTART;VALUE=DATE:26871205
SUMMARY:Sprint 8, Week 3
UID:26871205-pentaweek@local
END:VEVENT
BEGIN:VEVENT
DTSTART;VALUE=DATE:26871212
SUMMARY:Sprint 8, Week 4
UID:26871212-pentaweek@local
END:VEVENT
BEGIN:VEVENT
DTSTART;VALUE=DATE:26871219
SUMMARY:Sprint 8, Week 5
UID:26871219-pentaweek@local
END:VEVENT
END:VCALENDAR