BEGIN:VCALENDAR
VERSION:2.0
PRODID:-//Pentaweek Calendar//EN
BEGIN:VEVENT
DTSTART;VALUE=DATE:26860104
SUMMARY:Planning Sprint 1
UID:26860104-pentaweek@local
END:VEVENT
BEGIN:VEVENT
DTSTART;VALUE=DATE:26860111
SUMMARY:Sprint 1, Week 1
UID:26860111-pentaweek@local
END:VEVENT
BEGIN:VEVENT
DTSTART;VALUE=DATE:26860118
SUMMARY:Sprint 1, Week 2
UID:26860118-pentaweek@local
END:VEVENT
BEGIN:VEVENT
DTSTART;VALUE=DATE:26860125
SUMMARY:Sprint 1, Week 3
UID:26860125-pentaweek@local
END:VEVENT
BEGIN:VEVENT
DTSTART;VALUE=DATE:26860201
SUMMARY:Sprint 1, Week 4
UID:26860201-pentaweek@local
END:VEVENT
BEGIN:VEVENT
DTSTART;VALUE=DATE:26860208
SUMMARY:Sprint 1, Week 5
UID:26860208-pentaweek@local
END:VEVENT
BEGIN:VEVENT
DTSTART;VALUE=DATE:26860215
SUMMARY:Planning Sprint 2
UID:26860215-pentaweek@local
END:VEVENT
BEGIN:VEVENT
DTSTART;VALUE=DATE:26860222
SUMMARY:Sprint 2, Week 1
UID:26860222-pentaweek@local
END:VEVENT
BEGIN:VEVENT
DTSTART;VALUE=DATE:26860301
SUMMARY:Sprint 2, Week 2
UID:26860301-pentaweek@local
END:VEVENT
BEGIN:VEVENT
DTSTART;VALUE=DATE:26860308
SUMMARY:Sprint 2, Week 3
UID:26860308-pentaweek@local
END:VEVENT
BEGIN:VEVENT
DTSTART;VALUE=DATE:26860315
SUMMARY:Sprint 2, Week 4
UID:26860315-pentaweek@local
END:VEVENT
BEGIN:VEVENT
DTSTART;VALUE=DATE:26860322
SUMMARY:Sprint 2, Week 5
UID:26860322-pentaweek@local
END:VEVENT
BEGIN:VEVENT
DTSTART;VALUE=DATE:26860329
SUMMARY:Planning Sprint 3
UID:26860329-pentaweek@local
END:VEVENT
BEGIN:VEVENT
DTSTART;VALUE=DATE:26860405
SUMMARY:Sprint 3, Week 1
UID:26860405-pentaweek@local
END:VEVENT
BEGIN:VEVENT
DTSTART;VALUE=DATE:26860412
SUMMARY:Sprint 3, Week 2
UID:26860412-pentaweek@local
END:VEVENT
BEGIN:VEVENT
DTSTART;VALUE=DATE:26860419
SUMMARY:Sprint 3, Week 3
UID:26860419-pentaweek@local
END:VEVENT
BEGIN:VEVENT
DTSTART;VALUE=DATE:26860426
SUMMARY:Sprint 3, Week 4
UID:26860426-pentaweek@local
END:VEVENT
BEGIN:VEVENT
DTSTART;VALUE=DATE:26860503
SUMMARY:Sprint 3, Week 5
UID:26860503-pentaweek@local
END:VEVENT
BEGIN:VEVENT
DTSTART;VALUE=DATE:26860510
SUMMARY:Planning Sprint 4
UID:26860510-pentaweek@local
END:VEVENT
BEGIN:VEVENT
DTSTART;VALUE=DATE:26860517
SUMMARY:Sprint 4, Week 1
UID:26860517-pentaweek@local
END:VEVENT
BEGIN:VEVENT
DTSTART;VALUE=DATE:26860524
SUMMARY:Sprint 4, Week 2
UID:26860524-pentaweek@local
END:VEVENT
BEGIN:VEVENT
DTSTART;VALUE=DATE:26860531
SUMMARY:Sprint 4, Week 3
UID:26860531-pentaweek@local
END:VEVENT
BEGIN:VEVENT
DTSTART;VALUE=DATE:26860607
SUMMARY:Sprint 4, Week 4
UID:26860607-pentaweek@local
END:VEVENT
BEGIN:VEVENT
DTSTART;VALUE=DATE:26860614
SUMMARY:Sprint 4, Week 5
UID:26860614-pentaweek@local
END:VEVENT
BEGIN:VEVENT
DTSTART;VALUE=DATE:26860705
SUMMARY:Planning Sprint 5
UID:26860705-pentaweek@local
END:VEVENT
BEGIN:VEVENT
DTSTART;VALUE=DATE:26860712
SUMMARY:Sprint 5, Week 1
UID:26860712-pentaweek@local
END:VEVENT
BEGIN:VEVENT
DTSTART;VALUE=DATE:26860719
SUMMARY:Sprint 5, Week 2
UID:26860719-pentaweek@local
END:VEVENT
BEGIN:VEVENT
DTSTART;VALUE=DATE:26860726
SUMMARY:Sprint 5, Week 3
UID:26860726-pentaweek@local
END:VEVENT
BEGIN:VEVENT
DTSTART;VALUE=DATE:26860802
SUMMARY:Sprint 5, Week 4
UID:26860802-pentaweek@local
END:VEVENT
BEGIN:VEVENT
DTSTART;VALUE=DATE:26860809
SUMMARY:Sprint 5, Week 5
UID:26860809-pentaweek@local
END:VEVENT
BEGIN:VEVENT
DTSTART;VALUE=DATE:26860816
SUMMARY:Planning Sprint 6
UID:26860816-pentaweek@local
END:VEVENT
BEGIN:VEVENT
DTSTART;VALUE=DATE:26860823
SUMMARY:Sprint 6, Week 1
UID:26860823-pentaweek@local
END:VEVENT
BEGIN:VEVENT
DTSTART;VALUE=DATE:26860830
SUMMARY:Sprint 6, Week 2
UID:26860830-pentaweek@local
END:VEVENT
BEGIN:VEVENT
DTSTART;VALUE=DATE:26860906
SUMMARY:Sprint 6, Week 3
UID:26860906-pentaweek@local
END:VEVENT
BEGIN:VEVENT
DTSTART;VALUE=DATE:26860913
SUMMARY:Sprint 6, Week 4
UID:26860913-pentaweek@local
END:VEVENT
BEGIN:VEVENT
DTSTART;VALUE=DATE:26860920
SUMMARY:Sprint 6, Week 5
UID:26860920-pentaweek@local
END:VEVENT
BEGIN:VEVENT
DTSTART;VALUE=DATE:26860927
SUMMARY:Planning Sprint 7
UID:26860927-pentaweek@local
END:VEVENT
BEGIN:VEVENT
DTSTART;VALUE=DATE:26861004
SUMMARY:Sprint 7, Week 1
UID:26861004-pentaweek@local
END:VEVENT
BEGIN:VEVENT
DTSTART;VALUE=DATE:26861011
SUMMARY:Sprint 7, Week 2
UID:26861011-pentaweek@local
END:VEVENT
BEGIN:VEVENT
DTSTART;VALUE=DATE:26861018
SUMMARY:Sprint 7, Week 3
UID:26861018-pentaweek@local
END:VEVENT
BEGIN:VEVENT
DTSTART;VALUE=DATE:26861025
SUMMARY:Sprint 7, Week 4
UID:26861025-pentaweek@local
END:VEVENT
BEGIN:VEVENT
DTSTART;VALUE=DATE:26861101
SUMMARY:Sprint 7, Week 5
UID:26861101-pentaweek@local
END:VEVENT
BEGIN:VEVENT
DTSTART;VALUE=DATE:26861108
SUMMARY:Planning Sprint 8
UID:26861108-pentaweek@local
END:VEVENT
BEGIN:VEVENT
DTSTART;VALUE=DATE:26861115
SUMMARY:Sprint 8, Week 1
UID:26861115-pentaweek@local
END:VEVENT
BEGIN:VEVENT
DTSTART;VALUE=DATE:26861122
SUMMARY:Sprint 8, Week 2
UID:26861122-pentaweek@local
END:VEVENT
BEGIN:VEVENT
DTSTART;VALUE=DATE:26861129
SUMMARY:Sprint 8, Week 3
UID:26861129-pentaweek@local
END:VEVENT
BEGIN:VEVENT
DTSTART;VALUE=DATE:26861206
SUMMARY:Sprint 8, Week 4
UID:26861206-pentaweek@local
END:VEVENT
BEGIN:VEVENT
DTSTART;VALUE=DATE:26861213
SUMMARY:Sprint 8, Week 5
UID:26861213-pentaweek@local
END:VEVENT
END:VCALENDAR