BEGIN:VCALENDAR
VERSION:2.0
PRODID:-//Pentaweek Calendar//EN
BEGIN:VEVENT
DTSTART;VALUE=DATE:26850105
SUMMARY:Planning Sprint 1
UID:26850105-pentaweek@local
END:VEVENT
BEGIN:VEVENT
DTSTART;VALUE=DATE:26850112
SUMMARY:Sprint 1, Week 1
UID:26850112-pentaweek@local
END:VEVENT
BEGIN:VEVENT
DTSTART;VALUE=DATE:26850119
SUMMARY:Sprint 1, Week 2
UID:26850119-pentaweek@local
END:VEVENT
BEGIN:VEVENT
DTSTART;VALUE=DATE:26850126
SUMMARY:Sprint 1, Week 3
UID:26850126-pentaweek@local
END:VEVENT
BEGIN:VEVENT
DTSTART;VALUE=DATE:26850202
SUMMARY:Sprint 1, Week 4
UID:26850202-pentaweek@local
END:VEVENT
BEGIN:VEVENT
DTSTART;VALUE=DATE:26850209
SUMMARY:Sprint 1, Week 5
UID:26850209-pentaweek@local
END:VEVENT
BEGIN:VEVENT
DTSTART;VALUE=DATE:26850216
SUMMARY:Planning Sprint 2
UID:26850216-pentaweek@local
END:VEVENT
BEGIN:VEVENT
DTSTART;VALUE=DATE:26850223
SUMMARY:Sprint 2, Week 1
UID:26850223-pentaweek@local
END:VEVENT
BEGIN:VEVENT
DTSTART;VALUE=DATE:26850302
SUMMARY:Sprint 2, Week 2
UID:26850302-pentaweek@local
END:VEVENT
BEGIN:VEVENT
DTSTART;VALUE=DATE:26850309
SUMMARY:Sprint 2, Week 3
UID:26850309-pentaweek@local
END:VEVENT
BEGIN:VEVENT
DTSTART;VALUE=DATE:26850316
SUMMARY:Sprint 2, Week 4
UID:26850316-pentaweek@local
END:VEVENT
BEGIN:VEVENT
DTSTART;VALUE=DATE:26850323
SUMMARY:Sprint 2, Week 5
UID:26850323-pentaweek@local
END:VEVENT
BEGIN:VEVENT
DTSTART;VALUE=DATE:26850330
SUMMARY:Planning Sprint 3
UID:26850330-pentaweek@local
END:VEVENT
BEGIN:VEVENT
DTSTART;VALUE=DATE:26850406
SUMMARY:Sprint 3, Week 1
UID:26850406-pentaweek@local
END:VEVENT
BEGIN:VEVENT
DTSTART;VALUE=DATE:26850413
SUMMARY:Sprint 3, Week 2
UID:26850413-pentaweek@local
END:VEVENT
BEGIN:VEVENT
DTSTART;VALUE=DATE:26850420
SUMMARY:Sprint 3, Week 3
UID:26850420-pentaweek@local
END:VEVENT
BEGIN:VEVENT
DTSTART;VALUE=DATE:26850427
SUMMARY:Sprint 3, Week 4
UID:26850427-pentaweek@local
END:VEVENT
BEGIN:VEVENT
DTSTART;VALUE=DATE:26850504
SUMMARY:Sprint 3, Week 5
UID:26850504-pentaweek@local
END:VEVENT
BEGIN:VEVENT
DTSTART;VALUE=DATE:26850511
SUMMARY:Planning Sprint 4
UID:26850511-pentaweek@local
END:VEVENT
BEGIN:VEVENT
DTSTART;VALUE=DATE:26850518
SUMMARY:Sprint 4, Week 1
UID:26850518-pentaweek@local
END:VEVENT
BEGIN:VEVENT
DTSTART;VALUE=DATE:26850525
SUMMARY:Sprint 4, Week 2
UID:26850525-pentaweek@local
END:VEVENT
BEGIN:VEVENT
DTSTART;VALUE=DATE:26850601
SUMMARY:Sprint 4, Week 3
UID:26850601-pentaweek@local
END:VEVENT
BEGIN:VEVENT
DTSTART;VALUE=DATE:26850608
SUMMARY:Sprint 4, Week 4
UID:26850608-pentaweek@local
END:VEVENT
BEGIN:VEVENT
DTSTART;VALUE=DATE:26850615
SUMMARY:Sprint 4, Week 5
UID:26850615-pentaweek@local
END:VEVENT
BEGIN:VEVENT
DTSTART;VALUE=DATE:26850706
SUMMARY:Planning Sprint 5
UID:26850706-pentaweek@local
END:VEVENT
BEGIN:VEVENT
DTSTART;VALUE=DATE:26850713
SUMMARY:Sprint 5, Week 1
UID:26850713-pentaweek@local
END:VEVENT
BEGIN:VEVENT
DTSTART;VALUE=DATE:26850720
SUMMARY:Sprint 5, Week 2
UID:26850720-pentaweek@local
END:VEVENT
BEGIN:VEVENT
DTSTART;VALUE=DATE:26850727
SUMMARY:Sprint 5, Week 3
UID:26850727-pentaweek@local
END:VEVENT
BEGIN:VEVENT
DTSTART;VALUE=DATE:26850803
SUMMARY:Sprint 5, Week 4
UID:26850803-pentaweek@local
END:VEVENT
BEGIN:VEVENT
DTSTART;VALUE=DATE:26850810
SUMMARY:Sprint 5, Week 5
UID:26850810-pentaweek@local
END:VEVENT
BEGIN:VEVENT
DTSTART;VALUE=DATE:26850817
SUMMARY:Planning Sprint 6
UID:26850817-pentaweek@local
END:VEVENT
BEGIN:VEVENT
DTSTART;VALUE=DATE:26850824
SUMMARY:Sprint 6, Week 1
UID:26850824-pentaweek@local
END:VEVENT
BEGIN:VEVENT
DTSTART;VALUE=DATE:26850831
SUMMARY:Sprint 6, Week 2
UID:26850831-pentaweek@local
END:VEVENT
BEGIN:VEVENT
DTSTART;VALUE=DATE:26850907
SUMMARY:Sprint 6, Week 3
UID:26850907-pentaweek@local
END:VEVENT
BEGIN:VEVENT
DTSTART;VALUE=DATE:26850914
SUMMARY:Sprint 6, Week 4
UID:26850914-pentaweek@local
END:VEVENT
BEGIN:VEVENT
DTSTART;VALUE=DATE:26850921
SUMMARY:Sprint 6, Week 5
UID:26850921-pentaweek@local
END:VEVENT
BEGIN:VEVENT
DTSTART;VALUE=DATE:26850928
SUMMARY:Planning Sprint 7
UID:26850928-pentaweek@local
END:VEVENT
BEGIN:VEVENT
DTSTART;VALUE=DATE:26851005
SUMMARY:Sprint 7, Week 1
UID:26851005-pentaweek@local
END:VEVENT
BEGIN:VEVENT
DTSTART;VALUE=DATE:26851012
SUMMARY:Sprint 7, Week 2
UID:26851012-pentaweek@local
END:VEVENT
BEGIN:VEVENT
DTSTART;VALUE=DATE:26851019
SUMMARY:Sprint 7, Week 3
UID:26851019-pentaweek@local
END:VEVENT
BEGIN:VEVENT
DTSTART;VALUE=DATE:26851026
SUMMARY:Sprint 7, Week 4
UID:26851026-pentaweek@local
END:VEVENT
BEGIN:VEVENT
DTSTART;VALUE=DATE:26851102
SUMMARY:Sprint 7, Week 5
UID:26851102-pentaweek@local
END:VEVENT
BEGIN:VEVENT
DTSTART;VALUE=DATE:26851109
SUMMARY:Planning Sprint 8
UID:26851109-pentaweek@local
END:VEVENT
BEGIN:VEVENT
DTSTART;VALUE=DATE:26851116
SUMMARY:Sprint 8, Week 1
UID:26851116-pentaweek@local
END:VEVENT
BEGIN:VEVENT
DTSTART;VALUE=DATE:26851123
SUMMARY:Sprint 8, Week 2
UID:26851123-pentaweek@local
END:VEVENT
BEGIN:VEVENT
DTSTART;VALUE=DATE:26851130
SUMMARY:Sprint 8, Week 3
UID:26851130-pentaweek@local
END:VEVENT
BEGIN:VEVENT
DTSTART;VALUE=DATE:26851207
SUMMARY:Sprint 8, Week 4
UID:26851207-pentaweek@local
END:VEVENT
BEGIN:VEVENT
DTSTART;VALUE=DATE:26851214
SUMMARY:Sprint 8, Week 5
UID:26851214-pentaweek@local
END:VEVENT
END:VCALENDAR