BEGIN:VCALENDAR
VERSION:2.0
PRODID:-//Pentaweek Calendar//EN
BEGIN:VEVENT
DTSTART;VALUE=DATE:26840107
SUMMARY:Planning Sprint 1
UID:26840107-pentaweek@local
END:VEVENT
BEGIN:VEVENT
DTSTART;VALUE=DATE:26840114
SUMMARY:Sprint 1, Week 1
UID:26840114-pentaweek@local
END:VEVENT
BEGIN:VEVENT
DTSTART;VALUE=DATE:26840121
SUMMARY:Sprint 1, Week 2
UID:26840121-pentaweek@local
END:VEVENT
BEGIN:VEVENT
DTSTART;VALUE=DATE:26840128
SUMMARY:Sprint 1, Week 3
UID:26840128-pentaweek@local
END:VEVENT
BEGIN:VEVENT
DTSTART;VALUE=DATE:26840204
SUMMARY:Sprint 1, Week 4
UID:26840204-pentaweek@local
END:VEVENT
BEGIN:VEVENT
DTSTART;VALUE=DATE:26840211
SUMMARY:Sprint 1, Week 5
UID:26840211-pentaweek@local
END:VEVENT
BEGIN:VEVENT
DTSTART;VALUE=DATE:26840218
SUMMARY:Planning Sprint 2
UID:26840218-pentaweek@local
END:VEVENT
BEGIN:VEVENT
DTSTART;VALUE=DATE:26840225
SUMMARY:Sprint 2, Week 1
UID:26840225-pentaweek@local
END:VEVENT
BEGIN:VEVENT
DTSTART;VALUE=DATE:26840303
SUMMARY:Sprint 2, Week 2
UID:26840303-pentaweek@local
END:VEVENT
BEGIN:VEVENT
DTSTART;VALUE=DATE:26840310
SUMMARY:Sprint 2, Week 3
UID:26840310-pentaweek@local
END:VEVENT
BEGIN:VEVENT
DTSTART;VALUE=DATE:26840317
SUMMARY:Sprint 2, Week 4
UID:26840317-pentaweek@local
END:VEVENT
BEGIN:VEVENT
DTSTART;VALUE=DATE:26840324
SUMMARY:Sprint 2, Week 5
UID:26840324-pentaweek@local
END:VEVENT
BEGIN:VEVENT
DTSTART;VALUE=DATE:26840331
SUMMARY:Planning Sprint 3
UID:26840331-pentaweek@local
END:VEVENT
BEGIN:VEVENT
DTSTART;VALUE=DATE:26840407
SUMMARY:Sprint 3, Week 1
UID:26840407-pentaweek@local
END:VEVENT
BEGIN:VEVENT
DTSTART;VALUE=DATE:26840414
SUMMARY:Sprint 3, Week 2
UID:26840414-pentaweek@local
END:VEVENT
BEGIN:VEVENT
DTSTART;VALUE=DATE:26840421
SUMMARY:Sprint 3, Week 3
UID:26840421-pentaweek@local
END:VEVENT
BEGIN:VEVENT
DTSTART;VALUE=DATE:26840428
SUMMARY:Sprint 3, Week 4
UID:26840428-pentaweek@local
END:VEVENT
BEGIN:VEVENT
DTSTART;VALUE=DATE:26840505
SUMMARY:Sprint 3, Week 5
UID:26840505-pentaweek@local
END:VEVENT
BEGIN:VEVENT
DTSTART;VALUE=DATE:26840512
SUMMARY:Planning Sprint 4
UID:26840512-pentaweek@local
END:VEVENT
BEGIN:VEVENT
DTSTART;VALUE=DATE:26840519
SUMMARY:Sprint 4, Week 1
UID:26840519-pentaweek@local
END:VEVENT
BEGIN:VEVENT
DTSTART;VALUE=DATE:26840526
SUMMARY:Sprint 4, Week 2
UID:26840526-pentaweek@local
END:VEVENT
BEGIN:VEVENT
DTSTART;VALUE=DATE:26840602
SUMMARY:Sprint 4, Week 3
UID:26840602-pentaweek@local
END:VEVENT
BEGIN:VEVENT
DTSTART;VALUE=DATE:26840609
SUMMARY:Sprint 4, Week 4
UID:26840609-pentaweek@local
END:VEVENT
BEGIN:VEVENT
DTSTART;VALUE=DATE:26840616
SUMMARY:Sprint 4, Week 5
UID:26840616-pentaweek@local
END:VEVENT
BEGIN:VEVENT
DTSTART;VALUE=DATE:26840707
SUMMARY:Planning Sprint 5
UID:26840707-pentaweek@local
END:VEVENT
BEGIN:VEVENT
DTSTART;VALUE=DATE:26840714
SUMMARY:Sprint 5, Week 1
UID:26840714-pentaweek@local
END:VEVENT
BEGIN:VEVENT
DTSTART;VALUE=DATE:26840721
SUMMARY:Sprint 5, Week 2
UID:26840721-pentaweek@local
END:VEVENT
BEGIN:VEVENT
DTSTART;VALUE=DATE:26840728
SUMMARY:Sprint 5, Week 3
UID:26840728-pentaweek@local
END:VEVENT
BEGIN:VEVENT
DTSTART;VALUE=DATE:26840804
SUMMARY:Sprint 5, Week 4
UID:26840804-pentaweek@local
END:VEVENT
BEGIN:VEVENT
DTSTART;VALUE=DATE:26840811
SUMMARY:Sprint 5, Week 5
UID:26840811-pentaweek@local
END:VEVENT
BEGIN:VEVENT
DTSTART;VALUE=DATE:26840818
SUMMARY:Planning Sprint 6
UID:26840818-pentaweek@local
END:VEVENT
BEGIN:VEVENT
DTSTART;VALUE=DATE:26840825
SUMMARY:Sprint 6, Week 1
UID:26840825-pentaweek@local
END:VEVENT
BEGIN:VEVENT
DTSTART;VALUE=DATE:26840901
SUMMARY:Sprint 6, Week 2
UID:26840901-pentaweek@local
END:VEVENT
BEGIN:VEVENT
DTSTART;VALUE=DATE:26840908
SUMMARY:Sprint 6, Week 3
UID:26840908-pentaweek@local
END:VEVENT
BEGIN:VEVENT
DTSTART;VALUE=DATE:26840915
SUMMARY:Sprint 6, Week 4
UID:26840915-pentaweek@local
END:VEVENT
BEGIN:VEVENT
DTSTART;VALUE=DATE:26840922
SUMMARY:Sprint 6, Week 5
UID:26840922-pentaweek@local
END:VEVENT
BEGIN:VEVENT
DTSTART;VALUE=DATE:26840929
SUMMARY:Planning Sprint 7
UID:26840929-pentaweek@local
END:VEVENT
BEGIN:VEVENT
DTSTART;VALUE=DATE:26841006
SUMMARY:Sprint 7, Week 1
UID:26841006-pentaweek@local
END:VEVENT
BEGIN:VEVENT
DTSTART;VALUE=DATE:26841013
SUMMARY:Sprint 7, Week 2
UID:26841013-pentaweek@local
END:VEVENT
BEGIN:VEVENT
DTSTART;VALUE=DATE:26841020
SUMMARY:Sprint 7, Week 3
UID:26841020-pentaweek@local
END:VEVENT
BEGIN:VEVENT
DTSTART;VALUE=DATE:26841027
SUMMARY:Sprint 7, Week 4
UID:26841027-pentaweek@local
END:VEVENT
BEGIN:VEVENT
DTSTART;VALUE=DATE:26841103
SUMMARY:Sprint 7, Week 5
UID:26841103-pentaweek@local
END:VEVENT
BEGIN:VEVENT
DTSTART;VALUE=DATE:26841110
SUMMARY:Planning Sprint 8
UID:26841110-pentaweek@local
END:VEVENT
BEGIN:VEVENT
DTSTART;VALUE=DATE:26841117
SUMMARY:Sprint 8, Week 1
UID:26841117-pentaweek@local
END:VEVENT
BEGIN:VEVENT
DTSTART;VALUE=DATE:26841124
SUMMARY:Sprint 8, Week 2
UID:26841124-pentaweek@local
END:VEVENT
BEGIN:VEVENT
DTSTART;VALUE=DATE:26841201
SUMMARY:Sprint 8, Week 3
UID:26841201-pentaweek@local
END:VEVENT
BEGIN:VEVENT
DTSTART;VALUE=DATE:26841208
SUMMARY:Sprint 8, Week 4
UID:26841208-pentaweek@local
END:VEVENT
BEGIN:VEVENT
DTSTART;VALUE=DATE:26841215
SUMMARY:Sprint 8, Week 5
UID:26841215-pentaweek@local
END:VEVENT
END:VCALENDAR