BEGIN:VCALENDAR
VERSION:2.0
PRODID:-//Pentaweek Calendar//EN
BEGIN:VEVENT
DTSTART;VALUE=DATE:26830108
SUMMARY:Planning Sprint 1
UID:26830108-pentaweek@local
END:VEVENT
BEGIN:VEVENT
DTSTART;VALUE=DATE:26830115
SUMMARY:Sprint 1, Week 1
UID:26830115-pentaweek@local
END:VEVENT
BEGIN:VEVENT
DTSTART;VALUE=DATE:26830122
SUMMARY:Sprint 1, Week 2
UID:26830122-pentaweek@local
END:VEVENT
BEGIN:VEVENT
DTSTART;VALUE=DATE:26830129
SUMMARY:Sprint 1, Week 3
UID:26830129-pentaweek@local
END:VEVENT
BEGIN:VEVENT
DTSTART;VALUE=DATE:26830205
SUMMARY:Sprint 1, Week 4
UID:26830205-pentaweek@local
END:VEVENT
BEGIN:VEVENT
DTSTART;VALUE=DATE:26830212
SUMMARY:Sprint 1, Week 5
UID:26830212-pentaweek@local
END:VEVENT
BEGIN:VEVENT
DTSTART;VALUE=DATE:26830219
SUMMARY:Planning Sprint 2
UID:26830219-pentaweek@local
END:VEVENT
BEGIN:VEVENT
DTSTART;VALUE=DATE:26830226
SUMMARY:Sprint 2, Week 1
UID:26830226-pentaweek@local
END:VEVENT
BEGIN:VEVENT
DTSTART;VALUE=DATE:26830305
SUMMARY:Sprint 2, Week 2
UID:26830305-pentaweek@local
END:VEVENT
BEGIN:VEVENT
DTSTART;VALUE=DATE:26830312
SUMMARY:Sprint 2, Week 3
UID:26830312-pentaweek@local
END:VEVENT
BEGIN:VEVENT
DTSTART;VALUE=DATE:26830319
SUMMARY:Sprint 2, Week 4
UID:26830319-pentaweek@local
END:VEVENT
BEGIN:VEVENT
DTSTART;VALUE=DATE:26830326
SUMMARY:Sprint 2, Week 5
UID:26830326-pentaweek@local
END:VEVENT
BEGIN:VEVENT
DTSTART;VALUE=DATE:26830402
SUMMARY:Planning Sprint 3
UID:26830402-pentaweek@local
END:VEVENT
BEGIN:VEVENT
DTSTART;VALUE=DATE:26830409
SUMMARY:Sprint 3, Week 1
UID:26830409-pentaweek@local
END:VEVENT
BEGIN:VEVENT
DTSTART;VALUE=DATE:26830416
SUMMARY:Sprint 3, Week 2
UID:26830416-pentaweek@local
END:VEVENT
BEGIN:VEVENT
DTSTART;VALUE=DATE:26830423
SUMMARY:Sprint 3, Week 3
UID:26830423-pentaweek@local
END:VEVENT
BEGIN:VEVENT
DTSTART;VALUE=DATE:26830430
SUMMARY:Sprint 3, Week 4
UID:26830430-pentaweek@local
END:VEVENT
BEGIN:VEVENT
DTSTART;VALUE=DATE:26830507
SUMMARY:Sprint 3, Week 5
UID:26830507-pentaweek@local
END:VEVENT
BEGIN:VEVENT
DTSTART;VALUE=DATE:26830514
SUMMARY:Planning Sprint 4
UID:26830514-pentaweek@local
END:VEVENT
BEGIN:VEVENT
DTSTART;VALUE=DATE:26830521
SUMMARY:Sprint 4, Week 1
UID:26830521-pentaweek@local
END:VEVENT
BEGIN:VEVENT
DTSTART;VALUE=DATE:26830528
SUMMARY:Sprint 4, Week 2
UID:26830528-pentaweek@local
END:VEVENT
BEGIN:VEVENT
DTSTART;VALUE=DATE:26830604
SUMMARY:Sprint 4, Week 3
UID:26830604-pentaweek@local
END:VEVENT
BEGIN:VEVENT
DTSTART;VALUE=DATE:26830611
SUMMARY:Sprint 4, Week 4
UID:26830611-pentaweek@local
END:VEVENT
BEGIN:VEVENT
DTSTART;VALUE=DATE:26830618
SUMMARY:Sprint 4, Week 5
UID:26830618-pentaweek@local
END:VEVENT
BEGIN:VEVENT
DTSTART;VALUE=DATE:26830709
SUMMARY:Planning Sprint 5
UID:26830709-pentaweek@local
END:VEVENT
BEGIN:VEVENT
DTSTART;VALUE=DATE:26830716
SUMMARY:Sprint 5, Week 1
UID:26830716-pentaweek@local
END:VEVENT
BEGIN:VEVENT
DTSTART;VALUE=DATE:26830723
SUMMARY:Sprint 5, Week 2
UID:26830723-pentaweek@local
END:VEVENT
BEGIN:VEVENT
DTSTART;VALUE=DATE:26830730
SUMMARY:Sprint 5, Week 3
UID:26830730-pentaweek@local
END:VEVENT
BEGIN:VEVENT
DTSTART;VALUE=DATE:26830806
SUMMARY:Sprint 5, Week 4
UID:26830806-pentaweek@local
END:VEVENT
BEGIN:VEVENT
DTSTART;VALUE=DATE:26830813
SUMMARY:Sprint 5, Week 5
UID:26830813-pentaweek@local
END:VEVENT
BEGIN:VEVENT
DTSTART;VALUE=DATE:26830820
SUMMARY:Planning Sprint 6
UID:26830820-pentaweek@local
END:VEVENT
BEGIN:VEVENT
DTSTART;VALUE=DATE:26830827
SUMMARY:Sprint 6, Week 1
UID:26830827-pentaweek@local
END:VEVENT
BEGIN:VEVENT
DTSTART;VALUE=DATE:26830903
SUMMARY:Sprint 6, Week 2
UID:26830903-pentaweek@local
END:VEVENT
BEGIN:VEVENT
DTSTART;VALUE=DATE:26830910
SUMMARY:Sprint 6, Week 3
UID:26830910-pentaweek@local
END:VEVENT
BEGIN:VEVENT
DTSTART;VALUE=DATE:26830917
SUMMARY:Sprint 6, Week 4
UID:26830917-pentaweek@local
END:VEVENT
BEGIN:VEVENT
DTSTART;VALUE=DATE:26830924
SUMMARY:Sprint 6, Week 5
UID:26830924-pentaweek@local
END:VEVENT
BEGIN:VEVENT
DTSTART;VALUE=DATE:26831001
SUMMARY:Planning Sprint 7
UID:26831001-pentaweek@local
END:VEVENT
BEGIN:VEVENT
DTSTART;VALUE=DATE:26831008
SUMMARY:Sprint 7, Week 1
UID:26831008-pentaweek@local
END:VEVENT
BEGIN:VEVENT
DTSTART;VALUE=DATE:26831015
SUMMARY:Sprint 7, Week 2
UID:26831015-pentaweek@local
END:VEVENT
BEGIN:VEVENT
DTSTART;VALUE=DATE:26831022
SUMMARY:Sprint 7, Week 3
UID:26831022-pentaweek@local
END:VEVENT
BEGIN:VEVENT
DTSTART;VALUE=DATE:26831029
SUMMARY:Sprint 7, Week 4
UID:26831029-pentaweek@local
END:VEVENT
BEGIN:VEVENT
DTSTART;VALUE=DATE:26831105
SUMMARY:Sprint 7, Week 5
UID:26831105-pentaweek@local
END:VEVENT
BEGIN:VEVENT
DTSTART;VALUE=DATE:26831112
SUMMARY:Planning Sprint 8
UID:26831112-pentaweek@local
END:VEVENT
BEGIN:VEVENT
DTSTART;VALUE=DATE:26831119
SUMMARY:Sprint 8, Week 1
UID:26831119-pentaweek@local
END:VEVENT
BEGIN:VEVENT
DTSTART;VALUE=DATE:26831126
SUMMARY:Sprint 8, Week 2
UID:26831126-pentaweek@local
END:VEVENT
BEGIN:VEVENT
DTSTART;VALUE=DATE:26831203
SUMMARY:Sprint 8, Week 3
UID:26831203-pentaweek@local
END:VEVENT
BEGIN:VEVENT
DTSTART;VALUE=DATE:26831210
SUMMARY:Sprint 8, Week 4
UID:26831210-pentaweek@local
END:VEVENT
BEGIN:VEVENT
DTSTART;VALUE=DATE:26831217
SUMMARY:Sprint 8, Week 5
UID:26831217-pentaweek@local
END:VEVENT
END:VCALENDAR