BEGIN:VCALENDAR
VERSION:2.0
PRODID:-//Pentaweek Calendar//EN
BEGIN:VEVENT
DTSTART;VALUE=DATE:26820109
SUMMARY:Planning Sprint 1
UID:26820109-pentaweek@local
END:VEVENT
BEGIN:VEVENT
DTSTART;VALUE=DATE:26820116
SUMMARY:Sprint 1, Week 1
UID:26820116-pentaweek@local
END:VEVENT
BEGIN:VEVENT
DTSTART;VALUE=DATE:26820123
SUMMARY:Sprint 1, Week 2
UID:26820123-pentaweek@local
END:VEVENT
BEGIN:VEVENT
DTSTART;VALUE=DATE:26820130
SUMMARY:Sprint 1, Week 3
UID:26820130-pentaweek@local
END:VEVENT
BEGIN:VEVENT
DTSTART;VALUE=DATE:26820206
SUMMARY:Sprint 1, Week 4
UID:26820206-pentaweek@local
END:VEVENT
BEGIN:VEVENT
DTSTART;VALUE=DATE:26820213
SUMMARY:Sprint 1, Week 5
UID:26820213-pentaweek@local
END:VEVENT
BEGIN:VEVENT
DTSTART;VALUE=DATE:26820220
SUMMARY:Planning Sprint 2
UID:26820220-pentaweek@local
END:VEVENT
BEGIN:VEVENT
DTSTART;VALUE=DATE:26820227
SUMMARY:Sprint 2, Week 1
UID:26820227-pentaweek@local
END:VEVENT
BEGIN:VEVENT
DTSTART;VALUE=DATE:26820306
SUMMARY:Sprint 2, Week 2
UID:26820306-pentaweek@local
END:VEVENT
BEGIN:VEVENT
DTSTART;VALUE=DATE:26820313
SUMMARY:Sprint 2, Week 3
UID:26820313-pentaweek@local
END:VEVENT
BEGIN:VEVENT
DTSTART;VALUE=DATE:26820320
SUMMARY:Sprint 2, Week 4
UID:26820320-pentaweek@local
END:VEVENT
BEGIN:VEVENT
DTSTART;VALUE=DATE:26820327
SUMMARY:Sprint 2, Week 5
UID:26820327-pentaweek@local
END:VEVENT
BEGIN:VEVENT
DTSTART;VALUE=DATE:26820403
SUMMARY:Planning Sprint 3
UID:26820403-pentaweek@local
END:VEVENT
BEGIN:VEVENT
DTSTART;VALUE=DATE:26820410
SUMMARY:Sprint 3, Week 1
UID:26820410-pentaweek@local
END:VEVENT
BEGIN:VEVENT
DTSTART;VALUE=DATE:26820417
SUMMARY:Sprint 3, Week 2
UID:26820417-pentaweek@local
END:VEVENT
BEGIN:VEVENT
DTSTART;VALUE=DATE:26820424
SUMMARY:Sprint 3, Week 3
UID:26820424-pentaweek@local
END:VEVENT
BEGIN:VEVENT
DTSTART;VALUE=DATE:26820501
SUMMARY:Sprint 3, Week 4
UID:26820501-pentaweek@local
END:VEVENT
BEGIN:VEVENT
DTSTART;VALUE=DATE:26820508
SUMMARY:Sprint 3, Week 5
UID:26820508-pentaweek@local
END:VEVENT
BEGIN:VEVENT
DTSTART;VALUE=DATE:26820515
SUMMARY:Planning Sprint 4
UID:26820515-pentaweek@local
END:VEVENT
BEGIN:VEVENT
DTSTART;VALUE=DATE:26820522
SUMMARY:Sprint 4, Week 1
UID:26820522-pentaweek@local
END:VEVENT
BEGIN:VEVENT
DTSTART;VALUE=DATE:26820529
SUMMARY:Sprint 4, Week 2
UID:26820529-pentaweek@local
END:VEVENT
BEGIN:VEVENT
DTSTART;VALUE=DATE:26820605
SUMMARY:Sprint 4, Week 3
UID:26820605-pentaweek@local
END:VEVENT
BEGIN:VEVENT
DTSTART;VALUE=DATE:26820612
SUMMARY:Sprint 4, Week 4
UID:26820612-pentaweek@local
END:VEVENT
BEGIN:VEVENT
DTSTART;VALUE=DATE:26820619
SUMMARY:Sprint 4, Week 5
UID:26820619-pentaweek@local
END:VEVENT
BEGIN:VEVENT
DTSTART;VALUE=DATE:26820710
SUMMARY:Planning Sprint 5
UID:26820710-pentaweek@local
END:VEVENT
BEGIN:VEVENT
DTSTART;VALUE=DATE:26820717
SUMMARY:Sprint 5, Week 1
UID:26820717-pentaweek@local
END:VEVENT
BEGIN:VEVENT
DTSTART;VALUE=DATE:26820724
SUMMARY:Sprint 5, Week 2
UID:26820724-pentaweek@local
END:VEVENT
BEGIN:VEVENT
DTSTART;VALUE=DATE:26820731
SUMMARY:Sprint 5, Week 3
UID:26820731-pentaweek@local
END:VEVENT
BEGIN:VEVENT
DTSTART;VALUE=DATE:26820807
SUMMARY:Sprint 5, Week 4
UID:26820807-pentaweek@local
END:VEVENT
BEGIN:VEVENT
DTSTART;VALUE=DATE:26820814
SUMMARY:Sprint 5, Week 5
UID:26820814-pentaweek@local
END:VEVENT
BEGIN:VEVENT
DTSTART;VALUE=DATE:26820821
SUMMARY:Planning Sprint 6
UID:26820821-pentaweek@local
END:VEVENT
BEGIN:VEVENT
DTSTART;VALUE=DATE:26820828
SUMMARY:Sprint 6, Week 1
UID:26820828-pentaweek@local
END:VEVENT
BEGIN:VEVENT
DTSTART;VALUE=DATE:26820904
SUMMARY:Sprint 6, Week 2
UID:26820904-pentaweek@local
END:VEVENT
BEGIN:VEVENT
DTSTART;VALUE=DATE:26820911
SUMMARY:Sprint 6, Week 3
UID:26820911-pentaweek@local
END:VEVENT
BEGIN:VEVENT
DTSTART;VALUE=DATE:26820918
SUMMARY:Sprint 6, Week 4
UID:26820918-pentaweek@local
END:VEVENT
BEGIN:VEVENT
DTSTART;VALUE=DATE:26820925
SUMMARY:Sprint 6, Week 5
UID:26820925-pentaweek@local
END:VEVENT
BEGIN:VEVENT
DTSTART;VALUE=DATE:26821002
SUMMARY:Planning Sprint 7
UID:26821002-pentaweek@local
END:VEVENT
BEGIN:VEVENT
DTSTART;VALUE=DATE:26821009
SUMMARY:Sprint 7, Week 1
UID:26821009-pentaweek@local
END:VEVENT
BEGIN:VEVENT
DTSTART;VALUE=DATE:26821016
SUMMARY:Sprint 7, Week 2
UID:26821016-pentaweek@local
END:VEVENT
BEGIN:VEVENT
DTSTART;VALUE=DATE:26821023
SUMMARY:Sprint 7, Week 3
UID:26821023-pentaweek@local
END:VEVENT
BEGIN:VEVENT
DTSTART;VALUE=DATE:26821030
SUMMARY:Sprint 7, Week 4
UID:26821030-pentaweek@local
END:VEVENT
BEGIN:VEVENT
DTSTART;VALUE=DATE:26821106
SUMMARY:Sprint 7, Week 5
UID:26821106-pentaweek@local
END:VEVENT
BEGIN:VEVENT
DTSTART;VALUE=DATE:26821113
SUMMARY:Planning Sprint 8
UID:26821113-pentaweek@local
END:VEVENT
BEGIN:VEVENT
DTSTART;VALUE=DATE:26821120
SUMMARY:Sprint 8, Week 1
UID:26821120-pentaweek@local
END:VEVENT
BEGIN:VEVENT
DTSTART;VALUE=DATE:26821127
SUMMARY:Sprint 8, Week 2
UID:26821127-pentaweek@local
END:VEVENT
BEGIN:VEVENT
DTSTART;VALUE=DATE:26821204
SUMMARY:Sprint 8, Week 3
UID:26821204-pentaweek@local
END:VEVENT
BEGIN:VEVENT
DTSTART;VALUE=DATE:26821211
SUMMARY:Sprint 8, Week 4
UID:26821211-pentaweek@local
END:VEVENT
BEGIN:VEVENT
DTSTART;VALUE=DATE:26821218
SUMMARY:Sprint 8, Week 5
UID:26821218-pentaweek@local
END:VEVENT
END:VCALENDAR