BEGIN:VCALENDAR
VERSION:2.0
PRODID:-//Pentaweek Calendar//EN
BEGIN:VEVENT
DTSTART;VALUE=DATE:26810110
SUMMARY:Planning Sprint 1
UID:26810110-pentaweek@local
END:VEVENT
BEGIN:VEVENT
DTSTART;VALUE=DATE:26810117
SUMMARY:Sprint 1, Week 1
UID:26810117-pentaweek@local
END:VEVENT
BEGIN:VEVENT
DTSTART;VALUE=DATE:26810124
SUMMARY:Sprint 1, Week 2
UID:26810124-pentaweek@local
END:VEVENT
BEGIN:VEVENT
DTSTART;VALUE=DATE:26810131
SUMMARY:Sprint 1, Week 3
UID:26810131-pentaweek@local
END:VEVENT
BEGIN:VEVENT
DTSTART;VALUE=DATE:26810207
SUMMARY:Sprint 1, Week 4
UID:26810207-pentaweek@local
END:VEVENT
BEGIN:VEVENT
DTSTART;VALUE=DATE:26810214
SUMMARY:Sprint 1, Week 5
UID:26810214-pentaweek@local
END:VEVENT
BEGIN:VEVENT
DTSTART;VALUE=DATE:26810221
SUMMARY:Planning Sprint 2
UID:26810221-pentaweek@local
END:VEVENT
BEGIN:VEVENT
DTSTART;VALUE=DATE:26810228
SUMMARY:Sprint 2, Week 1
UID:26810228-pentaweek@local
END:VEVENT
BEGIN:VEVENT
DTSTART;VALUE=DATE:26810307
SUMMARY:Sprint 2, Week 2
UID:26810307-pentaweek@local
END:VEVENT
BEGIN:VEVENT
DTSTART;VALUE=DATE:26810314
SUMMARY:Sprint 2, Week 3
UID:26810314-pentaweek@local
END:VEVENT
BEGIN:VEVENT
DTSTART;VALUE=DATE:26810321
SUMMARY:Sprint 2, Week 4
UID:26810321-pentaweek@local
END:VEVENT
BEGIN:VEVENT
DTSTART;VALUE=DATE:26810328
SUMMARY:Sprint 2, Week 5
UID:26810328-pentaweek@local
END:VEVENT
BEGIN:VEVENT
DTSTART;VALUE=DATE:26810404
SUMMARY:Planning Sprint 3
UID:26810404-pentaweek@local
END:VEVENT
BEGIN:VEVENT
DTSTART;VALUE=DATE:26810411
SUMMARY:Sprint 3, Week 1
UID:26810411-pentaweek@local
END:VEVENT
BEGIN:VEVENT
DTSTART;VALUE=DATE:26810418
SUMMARY:Sprint 3, Week 2
UID:26810418-pentaweek@local
END:VEVENT
BEGIN:VEVENT
DTSTART;VALUE=DATE:26810425
SUMMARY:Sprint 3, Week 3
UID:26810425-pentaweek@local
END:VEVENT
BEGIN:VEVENT
DTSTART;VALUE=DATE:26810502
SUMMARY:Sprint 3, Week 4
UID:26810502-pentaweek@local
END:VEVENT
BEGIN:VEVENT
DTSTART;VALUE=DATE:26810509
SUMMARY:Sprint 3, Week 5
UID:26810509-pentaweek@local
END:VEVENT
BEGIN:VEVENT
DTSTART;VALUE=DATE:26810516
SUMMARY:Planning Sprint 4
UID:26810516-pentaweek@local
END:VEVENT
BEGIN:VEVENT
DTSTART;VALUE=DATE:26810523
SUMMARY:Sprint 4, Week 1
UID:26810523-pentaweek@local
END:VEVENT
BEGIN:VEVENT
DTSTART;VALUE=DATE:26810530
SUMMARY:Sprint 4, Week 2
UID:26810530-pentaweek@local
END:VEVENT
BEGIN:VEVENT
DTSTART;VALUE=DATE:26810606
SUMMARY:Sprint 4, Week 3
UID:26810606-pentaweek@local
END:VEVENT
BEGIN:VEVENT
DTSTART;VALUE=DATE:26810613
SUMMARY:Sprint 4, Week 4
UID:26810613-pentaweek@local
END:VEVENT
BEGIN:VEVENT
DTSTART;VALUE=DATE:26810620
SUMMARY:Sprint 4, Week 5
UID:26810620-pentaweek@local
END:VEVENT
BEGIN:VEVENT
DTSTART;VALUE=DATE:26810711
SUMMARY:Planning Sprint 5
UID:26810711-pentaweek@local
END:VEVENT
BEGIN:VEVENT
DTSTART;VALUE=DATE:26810718
SUMMARY:Sprint 5, Week 1
UID:26810718-pentaweek@local
END:VEVENT
BEGIN:VEVENT
DTSTART;VALUE=DATE:26810725
SUMMARY:Sprint 5, Week 2
UID:26810725-pentaweek@local
END:VEVENT
BEGIN:VEVENT
DTSTART;VALUE=DATE:26810801
SUMMARY:Sprint 5, Week 3
UID:26810801-pentaweek@local
END:VEVENT
BEGIN:VEVENT
DTSTART;VALUE=DATE:26810808
SUMMARY:Sprint 5, Week 4
UID:26810808-pentaweek@local
END:VEVENT
BEGIN:VEVENT
DTSTART;VALUE=DATE:26810815
SUMMARY:Sprint 5, Week 5
UID:26810815-pentaweek@local
END:VEVENT
BEGIN:VEVENT
DTSTART;VALUE=DATE:26810822
SUMMARY:Planning Sprint 6
UID:26810822-pentaweek@local
END:VEVENT
BEGIN:VEVENT
DTSTART;VALUE=DATE:26810829
SUMMARY:Sprint 6, Week 1
UID:26810829-pentaweek@local
END:VEVENT
BEGIN:VEVENT
DTSTART;VALUE=DATE:26810905
SUMMARY:Sprint 6, Week 2
UID:26810905-pentaweek@local
END:VEVENT
BEGIN:VEVENT
DTSTART;VALUE=DATE:26810912
SUMMARY:Sprint 6, Week 3
UID:26810912-pentaweek@local
END:VEVENT
BEGIN:VEVENT
DTSTART;VALUE=DATE:26810919
SUMMARY:Sprint 6, Week 4
UID:26810919-pentaweek@local
END:VEVENT
BEGIN:VEVENT
DTSTART;VALUE=DATE:26810926
SUMMARY:Sprint 6, Week 5
UID:26810926-pentaweek@local
END:VEVENT
BEGIN:VEVENT
DTSTART;VALUE=DATE:26811003
SUMMARY:Planning Sprint 7
UID:26811003-pentaweek@local
END:VEVENT
BEGIN:VEVENT
DTSTART;VALUE=DATE:26811010
SUMMARY:Sprint 7, Week 1
UID:26811010-pentaweek@local
END:VEVENT
BEGIN:VEVENT
DTSTART;VALUE=DATE:26811017
SUMMARY:Sprint 7, Week 2
UID:26811017-pentaweek@local
END:VEVENT
BEGIN:VEVENT
DTSTART;VALUE=DATE:26811024
SUMMARY:Sprint 7, Week 3
UID:26811024-pentaweek@local
END:VEVENT
BEGIN:VEVENT
DTSTART;VALUE=DATE:26811031
SUMMARY:Sprint 7, Week 4
UID:26811031-pentaweek@local
END:VEVENT
BEGIN:VEVENT
DTSTART;VALUE=DATE:26811107
SUMMARY:Sprint 7, Week 5
UID:26811107-pentaweek@local
END:VEVENT
BEGIN:VEVENT
DTSTART;VALUE=DATE:26811114
SUMMARY:Planning Sprint 8
UID:26811114-pentaweek@local
END:VEVENT
BEGIN:VEVENT
DTSTART;VALUE=DATE:26811121
SUMMARY:Sprint 8, Week 1
UID:26811121-pentaweek@local
END:VEVENT
BEGIN:VEVENT
DTSTART;VALUE=DATE:26811128
SUMMARY:Sprint 8, Week 2
UID:26811128-pentaweek@local
END:VEVENT
BEGIN:VEVENT
DTSTART;VALUE=DATE:26811205
SUMMARY:Sprint 8, Week 3
UID:26811205-pentaweek@local
END:VEVENT
BEGIN:VEVENT
DTSTART;VALUE=DATE:26811212
SUMMARY:Sprint 8, Week 4
UID:26811212-pentaweek@local
END:VEVENT
BEGIN:VEVENT
DTSTART;VALUE=DATE:26811219
SUMMARY:Sprint 8, Week 5
UID:26811219-pentaweek@local
END:VEVENT
END:VCALENDAR