BEGIN:VCALENDAR
VERSION:2.0
PRODID:-//Pentaweek Calendar//EN
BEGIN:VEVENT
DTSTART;VALUE=DATE:26800105
SUMMARY:Planning Sprint 1
UID:26800105-pentaweek@local
END:VEVENT
BEGIN:VEVENT
DTSTART;VALUE=DATE:26800112
SUMMARY:Sprint 1, Week 1
UID:26800112-pentaweek@local
END:VEVENT
BEGIN:VEVENT
DTSTART;VALUE=DATE:26800119
SUMMARY:Sprint 1, Week 2
UID:26800119-pentaweek@local
END:VEVENT
BEGIN:VEVENT
DTSTART;VALUE=DATE:26800126
SUMMARY:Sprint 1, Week 3
UID:26800126-pentaweek@local
END:VEVENT
BEGIN:VEVENT
DTSTART;VALUE=DATE:26800202
SUMMARY:Sprint 1, Week 4
UID:26800202-pentaweek@local
END:VEVENT
BEGIN:VEVENT
DTSTART;VALUE=DATE:26800209
SUMMARY:Sprint 1, Week 5
UID:26800209-pentaweek@local
END:VEVENT
BEGIN:VEVENT
DTSTART;VALUE=DATE:26800216
SUMMARY:Planning Sprint 2
UID:26800216-pentaweek@local
END:VEVENT
BEGIN:VEVENT
DTSTART;VALUE=DATE:26800223
SUMMARY:Sprint 2, Week 1
UID:26800223-pentaweek@local
END:VEVENT
BEGIN:VEVENT
DTSTART;VALUE=DATE:26800301
SUMMARY:Sprint 2, Week 2
UID:26800301-pentaweek@local
END:VEVENT
BEGIN:VEVENT
DTSTART;VALUE=DATE:26800308
SUMMARY:Sprint 2, Week 3
UID:26800308-pentaweek@local
END:VEVENT
BEGIN:VEVENT
DTSTART;VALUE=DATE:26800315
SUMMARY:Sprint 2, Week 4
UID:26800315-pentaweek@local
END:VEVENT
BEGIN:VEVENT
DTSTART;VALUE=DATE:26800322
SUMMARY:Sprint 2, Week 5
UID:26800322-pentaweek@local
END:VEVENT
BEGIN:VEVENT
DTSTART;VALUE=DATE:26800329
SUMMARY:Planning Sprint 3
UID:26800329-pentaweek@local
END:VEVENT
BEGIN:VEVENT
DTSTART;VALUE=DATE:26800405
SUMMARY:Sprint 3, Week 1
UID:26800405-pentaweek@local
END:VEVENT
BEGIN:VEVENT
DTSTART;VALUE=DATE:26800412
SUMMARY:Sprint 3, Week 2
UID:26800412-pentaweek@local
END:VEVENT
BEGIN:VEVENT
DTSTART;VALUE=DATE:26800419
SUMMARY:Sprint 3, Week 3
UID:26800419-pentaweek@local
END:VEVENT
BEGIN:VEVENT
DTSTART;VALUE=DATE:26800426
SUMMARY:Sprint 3, Week 4
UID:26800426-pentaweek@local
END:VEVENT
BEGIN:VEVENT
DTSTART;VALUE=DATE:26800503
SUMMARY:Sprint 3, Week 5
UID:26800503-pentaweek@local
END:VEVENT
BEGIN:VEVENT
DTSTART;VALUE=DATE:26800510
SUMMARY:Planning Sprint 4
UID:26800510-pentaweek@local
END:VEVENT
BEGIN:VEVENT
DTSTART;VALUE=DATE:26800517
SUMMARY:Sprint 4, Week 1
UID:26800517-pentaweek@local
END:VEVENT
BEGIN:VEVENT
DTSTART;VALUE=DATE:26800524
SUMMARY:Sprint 4, Week 2
UID:26800524-pentaweek@local
END:VEVENT
BEGIN:VEVENT
DTSTART;VALUE=DATE:26800531
SUMMARY:Sprint 4, Week 3
UID:26800531-pentaweek@local
END:VEVENT
BEGIN:VEVENT
DTSTART;VALUE=DATE:26800607
SUMMARY:Sprint 4, Week 4
UID:26800607-pentaweek@local
END:VEVENT
BEGIN:VEVENT
DTSTART;VALUE=DATE:26800614
SUMMARY:Sprint 4, Week 5
UID:26800614-pentaweek@local
END:VEVENT
BEGIN:VEVENT
DTSTART;VALUE=DATE:26800705
SUMMARY:Planning Sprint 5
UID:26800705-pentaweek@local
END:VEVENT
BEGIN:VEVENT
DTSTART;VALUE=DATE:26800712
SUMMARY:Sprint 5, Week 1
UID:26800712-pentaweek@local
END:VEVENT
BEGIN:VEVENT
DTSTART;VALUE=DATE:26800719
SUMMARY:Sprint 5, Week 2
UID:26800719-pentaweek@local
END:VEVENT
BEGIN:VEVENT
DTSTART;VALUE=DATE:26800726
SUMMARY:Sprint 5, Week 3
UID:26800726-pentaweek@local
END:VEVENT
BEGIN:VEVENT
DTSTART;VALUE=DATE:26800802
SUMMARY:Sprint 5, Week 4
UID:26800802-pentaweek@local
END:VEVENT
BEGIN:VEVENT
DTSTART;VALUE=DATE:26800809
SUMMARY:Sprint 5, Week 5
UID:26800809-pentaweek@local
END:VEVENT
BEGIN:VEVENT
DTSTART;VALUE=DATE:26800816
SUMMARY:Planning Sprint 6
UID:26800816-pentaweek@local
END:VEVENT
BEGIN:VEVENT
DTSTART;VALUE=DATE:26800823
SUMMARY:Sprint 6, Week 1
UID:26800823-pentaweek@local
END:VEVENT
BEGIN:VEVENT
DTSTART;VALUE=DATE:26800830
SUMMARY:Sprint 6, Week 2
UID:26800830-pentaweek@local
END:VEVENT
BEGIN:VEVENT
DTSTART;VALUE=DATE:26800906
SUMMARY:Sprint 6, Week 3
UID:26800906-pentaweek@local
END:VEVENT
BEGIN:VEVENT
DTSTART;VALUE=DATE:26800913
SUMMARY:Sprint 6, Week 4
UID:26800913-pentaweek@local
END:VEVENT
BEGIN:VEVENT
DTSTART;VALUE=DATE:26800920
SUMMARY:Sprint 6, Week 5
UID:26800920-pentaweek@local
END:VEVENT
BEGIN:VEVENT
DTSTART;VALUE=DATE:26800927
SUMMARY:Planning Sprint 7
UID:26800927-pentaweek@local
END:VEVENT
BEGIN:VEVENT
DTSTART;VALUE=DATE:26801004
SUMMARY:Sprint 7, Week 1
UID:26801004-pentaweek@local
END:VEVENT
BEGIN:VEVENT
DTSTART;VALUE=DATE:26801011
SUMMARY:Sprint 7, Week 2
UID:26801011-pentaweek@local
END:VEVENT
BEGIN:VEVENT
DTSTART;VALUE=DATE:26801018
SUMMARY:Sprint 7, Week 3
UID:26801018-pentaweek@local
END:VEVENT
BEGIN:VEVENT
DTSTART;VALUE=DATE:26801025
SUMMARY:Sprint 7, Week 4
UID:26801025-pentaweek@local
END:VEVENT
BEGIN:VEVENT
DTSTART;VALUE=DATE:26801101
SUMMARY:Sprint 7, Week 5
UID:26801101-pentaweek@local
END:VEVENT
BEGIN:VEVENT
DTSTART;VALUE=DATE:26801108
SUMMARY:Planning Sprint 8
UID:26801108-pentaweek@local
END:VEVENT
BEGIN:VEVENT
DTSTART;VALUE=DATE:26801115
SUMMARY:Sprint 8, Week 1
UID:26801115-pentaweek@local
END:VEVENT
BEGIN:VEVENT
DTSTART;VALUE=DATE:26801122
SUMMARY:Sprint 8, Week 2
UID:26801122-pentaweek@local
END:VEVENT
BEGIN:VEVENT
DTSTART;VALUE=DATE:26801129
SUMMARY:Sprint 8, Week 3
UID:26801129-pentaweek@local
END:VEVENT
BEGIN:VEVENT
DTSTART;VALUE=DATE:26801206
SUMMARY:Sprint 8, Week 4
UID:26801206-pentaweek@local
END:VEVENT
BEGIN:VEVENT
DTSTART;VALUE=DATE:26801213
SUMMARY:Sprint 8, Week 5
UID:26801213-pentaweek@local
END:VEVENT
END:VCALENDAR