BEGIN:VCALENDAR
VERSION:2.0
PRODID:-//Pentaweek Calendar//EN
BEGIN:VEVENT
DTSTART;VALUE=DATE:26790106
SUMMARY:Planning Sprint 1
UID:26790106-pentaweek@local
END:VEVENT
BEGIN:VEVENT
DTSTART;VALUE=DATE:26790113
SUMMARY:Sprint 1, Week 1
UID:26790113-pentaweek@local
END:VEVENT
BEGIN:VEVENT
DTSTART;VALUE=DATE:26790120
SUMMARY:Sprint 1, Week 2
UID:26790120-pentaweek@local
END:VEVENT
BEGIN:VEVENT
DTSTART;VALUE=DATE:26790127
SUMMARY:Sprint 1, Week 3
UID:26790127-pentaweek@local
END:VEVENT
BEGIN:VEVENT
DTSTART;VALUE=DATE:26790203
SUMMARY:Sprint 1, Week 4
UID:26790203-pentaweek@local
END:VEVENT
BEGIN:VEVENT
DTSTART;VALUE=DATE:26790210
SUMMARY:Sprint 1, Week 5
UID:26790210-pentaweek@local
END:VEVENT
BEGIN:VEVENT
DTSTART;VALUE=DATE:26790217
SUMMARY:Planning Sprint 2
UID:26790217-pentaweek@local
END:VEVENT
BEGIN:VEVENT
DTSTART;VALUE=DATE:26790224
SUMMARY:Sprint 2, Week 1
UID:26790224-pentaweek@local
END:VEVENT
BEGIN:VEVENT
DTSTART;VALUE=DATE:26790303
SUMMARY:Sprint 2, Week 2
UID:26790303-pentaweek@local
END:VEVENT
BEGIN:VEVENT
DTSTART;VALUE=DATE:26790310
SUMMARY:Sprint 2, Week 3
UID:26790310-pentaweek@local
END:VEVENT
BEGIN:VEVENT
DTSTART;VALUE=DATE:26790317
SUMMARY:Sprint 2, Week 4
UID:26790317-pentaweek@local
END:VEVENT
BEGIN:VEVENT
DTSTART;VALUE=DATE:26790324
SUMMARY:Sprint 2, Week 5
UID:26790324-pentaweek@local
END:VEVENT
BEGIN:VEVENT
DTSTART;VALUE=DATE:26790331
SUMMARY:Planning Sprint 3
UID:26790331-pentaweek@local
END:VEVENT
BEGIN:VEVENT
DTSTART;VALUE=DATE:26790407
SUMMARY:Sprint 3, Week 1
UID:26790407-pentaweek@local
END:VEVENT
BEGIN:VEVENT
DTSTART;VALUE=DATE:26790414
SUMMARY:Sprint 3, Week 2
UID:26790414-pentaweek@local
END:VEVENT
BEGIN:VEVENT
DTSTART;VALUE=DATE:26790421
SUMMARY:Sprint 3, Week 3
UID:26790421-pentaweek@local
END:VEVENT
BEGIN:VEVENT
DTSTART;VALUE=DATE:26790428
SUMMARY:Sprint 3, Week 4
UID:26790428-pentaweek@local
END:VEVENT
BEGIN:VEVENT
DTSTART;VALUE=DATE:26790505
SUMMARY:Sprint 3, Week 5
UID:26790505-pentaweek@local
END:VEVENT
BEGIN:VEVENT
DTSTART;VALUE=DATE:26790512
SUMMARY:Planning Sprint 4
UID:26790512-pentaweek@local
END:VEVENT
BEGIN:VEVENT
DTSTART;VALUE=DATE:26790519
SUMMARY:Sprint 4, Week 1
UID:26790519-pentaweek@local
END:VEVENT
BEGIN:VEVENT
DTSTART;VALUE=DATE:26790526
SUMMARY:Sprint 4, Week 2
UID:26790526-pentaweek@local
END:VEVENT
BEGIN:VEVENT
DTSTART;VALUE=DATE:26790602
SUMMARY:Sprint 4, Week 3
UID:26790602-pentaweek@local
END:VEVENT
BEGIN:VEVENT
DTSTART;VALUE=DATE:26790609
SUMMARY:Sprint 4, Week 4
UID:26790609-pentaweek@local
END:VEVENT
BEGIN:VEVENT
DTSTART;VALUE=DATE:26790616
SUMMARY:Sprint 4, Week 5
UID:26790616-pentaweek@local
END:VEVENT
BEGIN:VEVENT
DTSTART;VALUE=DATE:26790707
SUMMARY:Planning Sprint 5
UID:26790707-pentaweek@local
END:VEVENT
BEGIN:VEVENT
DTSTART;VALUE=DATE:26790714
SUMMARY:Sprint 5, Week 1
UID:26790714-pentaweek@local
END:VEVENT
BEGIN:VEVENT
DTSTART;VALUE=DATE:26790721
SUMMARY:Sprint 5, Week 2
UID:26790721-pentaweek@local
END:VEVENT
BEGIN:VEVENT
DTSTART;VALUE=DATE:26790728
SUMMARY:Sprint 5, Week 3
UID:26790728-pentaweek@local
END:VEVENT
BEGIN:VEVENT
DTSTART;VALUE=DATE:26790804
SUMMARY:Sprint 5, Week 4
UID:26790804-pentaweek@local
END:VEVENT
BEGIN:VEVENT
DTSTART;VALUE=DATE:26790811
SUMMARY:Sprint 5, Week 5
UID:26790811-pentaweek@local
END:VEVENT
BEGIN:VEVENT
DTSTART;VALUE=DATE:26790818
SUMMARY:Planning Sprint 6
UID:26790818-pentaweek@local
END:VEVENT
BEGIN:VEVENT
DTSTART;VALUE=DATE:26790825
SUMMARY:Sprint 6, Week 1
UID:26790825-pentaweek@local
END:VEVENT
BEGIN:VEVENT
DTSTART;VALUE=DATE:26790901
SUMMARY:Sprint 6, Week 2
UID:26790901-pentaweek@local
END:VEVENT
BEGIN:VEVENT
DTSTART;VALUE=DATE:26790908
SUMMARY:Sprint 6, Week 3
UID:26790908-pentaweek@local
END:VEVENT
BEGIN:VEVENT
DTSTART;VALUE=DATE:26790915
SUMMARY:Sprint 6, Week 4
UID:26790915-pentaweek@local
END:VEVENT
BEGIN:VEVENT
DTSTART;VALUE=DATE:26790922
SUMMARY:Sprint 6, Week 5
UID:26790922-pentaweek@local
END:VEVENT
BEGIN:VEVENT
DTSTART;VALUE=DATE:26790929
SUMMARY:Planning Sprint 7
UID:26790929-pentaweek@local
END:VEVENT
BEGIN:VEVENT
DTSTART;VALUE=DATE:26791006
SUMMARY:Sprint 7, Week 1
UID:26791006-pentaweek@local
END:VEVENT
BEGIN:VEVENT
DTSTART;VALUE=DATE:26791013
SUMMARY:Sprint 7, Week 2
UID:26791013-pentaweek@local
END:VEVENT
BEGIN:VEVENT
DTSTART;VALUE=DATE:26791020
SUMMARY:Sprint 7, Week 3
UID:26791020-pentaweek@local
END:VEVENT
BEGIN:VEVENT
DTSTART;VALUE=DATE:26791027
SUMMARY:Sprint 7, Week 4
UID:26791027-pentaweek@local
END:VEVENT
BEGIN:VEVENT
DTSTART;VALUE=DATE:26791103
SUMMARY:Sprint 7, Week 5
UID:26791103-pentaweek@local
END:VEVENT
BEGIN:VEVENT
DTSTART;VALUE=DATE:26791110
SUMMARY:Planning Sprint 8
UID:26791110-pentaweek@local
END:VEVENT
BEGIN:VEVENT
DTSTART;VALUE=DATE:26791117
SUMMARY:Sprint 8, Week 1
UID:26791117-pentaweek@local
END:VEVENT
BEGIN:VEVENT
DTSTART;VALUE=DATE:26791124
SUMMARY:Sprint 8, Week 2
UID:26791124-pentaweek@local
END:VEVENT
BEGIN:VEVENT
DTSTART;VALUE=DATE:26791201
SUMMARY:Sprint 8, Week 3
UID:26791201-pentaweek@local
END:VEVENT
BEGIN:VEVENT
DTSTART;VALUE=DATE:26791208
SUMMARY:Sprint 8, Week 4
UID:26791208-pentaweek@local
END:VEVENT
BEGIN:VEVENT
DTSTART;VALUE=DATE:26791215
SUMMARY:Sprint 8, Week 5
UID:26791215-pentaweek@local
END:VEVENT
END:VCALENDAR