BEGIN:VCALENDAR
VERSION:2.0
PRODID:-//Pentaweek Calendar//EN
BEGIN:VEVENT
DTSTART;VALUE=DATE:26780107
SUMMARY:Planning Sprint 1
UID:26780107-pentaweek@local
END:VEVENT
BEGIN:VEVENT
DTSTART;VALUE=DATE:26780114
SUMMARY:Sprint 1, Week 1
UID:26780114-pentaweek@local
END:VEVENT
BEGIN:VEVENT
DTSTART;VALUE=DATE:26780121
SUMMARY:Sprint 1, Week 2
UID:26780121-pentaweek@local
END:VEVENT
BEGIN:VEVENT
DTSTART;VALUE=DATE:26780128
SUMMARY:Sprint 1, Week 3
UID:26780128-pentaweek@local
END:VEVENT
BEGIN:VEVENT
DTSTART;VALUE=DATE:26780204
SUMMARY:Sprint 1, Week 4
UID:26780204-pentaweek@local
END:VEVENT
BEGIN:VEVENT
DTSTART;VALUE=DATE:26780211
SUMMARY:Sprint 1, Week 5
UID:26780211-pentaweek@local
END:VEVENT
BEGIN:VEVENT
DTSTART;VALUE=DATE:26780218
SUMMARY:Planning Sprint 2
UID:26780218-pentaweek@local
END:VEVENT
BEGIN:VEVENT
DTSTART;VALUE=DATE:26780225
SUMMARY:Sprint 2, Week 1
UID:26780225-pentaweek@local
END:VEVENT
BEGIN:VEVENT
DTSTART;VALUE=DATE:26780304
SUMMARY:Sprint 2, Week 2
UID:26780304-pentaweek@local
END:VEVENT
BEGIN:VEVENT
DTSTART;VALUE=DATE:26780311
SUMMARY:Sprint 2, Week 3
UID:26780311-pentaweek@local
END:VEVENT
BEGIN:VEVENT
DTSTART;VALUE=DATE:26780318
SUMMARY:Sprint 2, Week 4
UID:26780318-pentaweek@local
END:VEVENT
BEGIN:VEVENT
DTSTART;VALUE=DATE:26780325
SUMMARY:Sprint 2, Week 5
UID:26780325-pentaweek@local
END:VEVENT
BEGIN:VEVENT
DTSTART;VALUE=DATE:26780401
SUMMARY:Planning Sprint 3
UID:26780401-pentaweek@local
END:VEVENT
BEGIN:VEVENT
DTSTART;VALUE=DATE:26780408
SUMMARY:Sprint 3, Week 1
UID:26780408-pentaweek@local
END:VEVENT
BEGIN:VEVENT
DTSTART;VALUE=DATE:26780415
SUMMARY:Sprint 3, Week 2
UID:26780415-pentaweek@local
END:VEVENT
BEGIN:VEVENT
DTSTART;VALUE=DATE:26780422
SUMMARY:Sprint 3, Week 3
UID:26780422-pentaweek@local
END:VEVENT
BEGIN:VEVENT
DTSTART;VALUE=DATE:26780429
SUMMARY:Sprint 3, Week 4
UID:26780429-pentaweek@local
END:VEVENT
BEGIN:VEVENT
DTSTART;VALUE=DATE:26780506
SUMMARY:Sprint 3, Week 5
UID:26780506-pentaweek@local
END:VEVENT
BEGIN:VEVENT
DTSTART;VALUE=DATE:26780513
SUMMARY:Planning Sprint 4
UID:26780513-pentaweek@local
END:VEVENT
BEGIN:VEVENT
DTSTART;VALUE=DATE:26780520
SUMMARY:Sprint 4, Week 1
UID:26780520-pentaweek@local
END:VEVENT
BEGIN:VEVENT
DTSTART;VALUE=DATE:26780527
SUMMARY:Sprint 4, Week 2
UID:26780527-pentaweek@local
END:VEVENT
BEGIN:VEVENT
DTSTART;VALUE=DATE:26780603
SUMMARY:Sprint 4, Week 3
UID:26780603-pentaweek@local
END:VEVENT
BEGIN:VEVENT
DTSTART;VALUE=DATE:26780610
SUMMARY:Sprint 4, Week 4
UID:26780610-pentaweek@local
END:VEVENT
BEGIN:VEVENT
DTSTART;VALUE=DATE:26780617
SUMMARY:Sprint 4, Week 5
UID:26780617-pentaweek@local
END:VEVENT
BEGIN:VEVENT
DTSTART;VALUE=DATE:26780708
SUMMARY:Planning Sprint 5
UID:26780708-pentaweek@local
END:VEVENT
BEGIN:VEVENT
DTSTART;VALUE=DATE:26780715
SUMMARY:Sprint 5, Week 1
UID:26780715-pentaweek@local
END:VEVENT
BEGIN:VEVENT
DTSTART;VALUE=DATE:26780722
SUMMARY:Sprint 5, Week 2
UID:26780722-pentaweek@local
END:VEVENT
BEGIN:VEVENT
DTSTART;VALUE=DATE:26780729
SUMMARY:Sprint 5, Week 3
UID:26780729-pentaweek@local
END:VEVENT
BEGIN:VEVENT
DTSTART;VALUE=DATE:26780805
SUMMARY:Sprint 5, Week 4
UID:26780805-pentaweek@local
END:VEVENT
BEGIN:VEVENT
DTSTART;VALUE=DATE:26780812
SUMMARY:Sprint 5, Week 5
UID:26780812-pentaweek@local
END:VEVENT
BEGIN:VEVENT
DTSTART;VALUE=DATE:26780819
SUMMARY:Planning Sprint 6
UID:26780819-pentaweek@local
END:VEVENT
BEGIN:VEVENT
DTSTART;VALUE=DATE:26780826
SUMMARY:Sprint 6, Week 1
UID:26780826-pentaweek@local
END:VEVENT
BEGIN:VEVENT
DTSTART;VALUE=DATE:26780902
SUMMARY:Sprint 6, Week 2
UID:26780902-pentaweek@local
END:VEVENT
BEGIN:VEVENT
DTSTART;VALUE=DATE:26780909
SUMMARY:Sprint 6, Week 3
UID:26780909-pentaweek@local
END:VEVENT
BEGIN:VEVENT
DTSTART;VALUE=DATE:26780916
SUMMARY:Sprint 6, Week 4
UID:26780916-pentaweek@local
END:VEVENT
BEGIN:VEVENT
DTSTART;VALUE=DATE:26780923
SUMMARY:Sprint 6, Week 5
UID:26780923-pentaweek@local
END:VEVENT
BEGIN:VEVENT
DTSTART;VALUE=DATE:26780930
SUMMARY:Planning Sprint 7
UID:26780930-pentaweek@local
END:VEVENT
BEGIN:VEVENT
DTSTART;VALUE=DATE:26781007
SUMMARY:Sprint 7, Week 1
UID:26781007-pentaweek@local
END:VEVENT
BEGIN:VEVENT
DTSTART;VALUE=DATE:26781014
SUMMARY:Sprint 7, Week 2
UID:26781014-pentaweek@local
END:VEVENT
BEGIN:VEVENT
DTSTART;VALUE=DATE:26781021
SUMMARY:Sprint 7, Week 3
UID:26781021-pentaweek@local
END:VEVENT
BEGIN:VEVENT
DTSTART;VALUE=DATE:26781028
SUMMARY:Sprint 7, Week 4
UID:26781028-pentaweek@local
END:VEVENT
BEGIN:VEVENT
DTSTART;VALUE=DATE:26781104
SUMMARY:Sprint 7, Week 5
UID:26781104-pentaweek@local
END:VEVENT
BEGIN:VEVENT
DTSTART;VALUE=DATE:26781111
SUMMARY:Planning Sprint 8
UID:26781111-pentaweek@local
END:VEVENT
BEGIN:VEVENT
DTSTART;VALUE=DATE:26781118
SUMMARY:Sprint 8, Week 1
UID:26781118-pentaweek@local
END:VEVENT
BEGIN:VEVENT
DTSTART;VALUE=DATE:26781125
SUMMARY:Sprint 8, Week 2
UID:26781125-pentaweek@local
END:VEVENT
BEGIN:VEVENT
DTSTART;VALUE=DATE:26781202
SUMMARY:Sprint 8, Week 3
UID:26781202-pentaweek@local
END:VEVENT
BEGIN:VEVENT
DTSTART;VALUE=DATE:26781209
SUMMARY:Sprint 8, Week 4
UID:26781209-pentaweek@local
END:VEVENT
BEGIN:VEVENT
DTSTART;VALUE=DATE:26781216
SUMMARY:Sprint 8, Week 5
UID:26781216-pentaweek@local
END:VEVENT
END:VCALENDAR