BEGIN:VCALENDAR
VERSION:2.0
PRODID:-//Pentaweek Calendar//EN
BEGIN:VEVENT
DTSTART;VALUE=DATE:26770108
SUMMARY:Planning Sprint 1
UID:26770108-pentaweek@local
END:VEVENT
BEGIN:VEVENT
DTSTART;VALUE=DATE:26770115
SUMMARY:Sprint 1, Week 1
UID:26770115-pentaweek@local
END:VEVENT
BEGIN:VEVENT
DTSTART;VALUE=DATE:26770122
SUMMARY:Sprint 1, Week 2
UID:26770122-pentaweek@local
END:VEVENT
BEGIN:VEVENT
DTSTART;VALUE=DATE:26770129
SUMMARY:Sprint 1, Week 3
UID:26770129-pentaweek@local
END:VEVENT
BEGIN:VEVENT
DTSTART;VALUE=DATE:26770205
SUMMARY:Sprint 1, Week 4
UID:26770205-pentaweek@local
END:VEVENT
BEGIN:VEVENT
DTSTART;VALUE=DATE:26770212
SUMMARY:Sprint 1, Week 5
UID:26770212-pentaweek@local
END:VEVENT
BEGIN:VEVENT
DTSTART;VALUE=DATE:26770219
SUMMARY:Planning Sprint 2
UID:26770219-pentaweek@local
END:VEVENT
BEGIN:VEVENT
DTSTART;VALUE=DATE:26770226
SUMMARY:Sprint 2, Week 1
UID:26770226-pentaweek@local
END:VEVENT
BEGIN:VEVENT
DTSTART;VALUE=DATE:26770305
SUMMARY:Sprint 2, Week 2
UID:26770305-pentaweek@local
END:VEVENT
BEGIN:VEVENT
DTSTART;VALUE=DATE:26770312
SUMMARY:Sprint 2, Week 3
UID:26770312-pentaweek@local
END:VEVENT
BEGIN:VEVENT
DTSTART;VALUE=DATE:26770319
SUMMARY:Sprint 2, Week 4
UID:26770319-pentaweek@local
END:VEVENT
BEGIN:VEVENT
DTSTART;VALUE=DATE:26770326
SUMMARY:Sprint 2, Week 5
UID:26770326-pentaweek@local
END:VEVENT
BEGIN:VEVENT
DTSTART;VALUE=DATE:26770402
SUMMARY:Planning Sprint 3
UID:26770402-pentaweek@local
END:VEVENT
BEGIN:VEVENT
DTSTART;VALUE=DATE:26770409
SUMMARY:Sprint 3, Week 1
UID:26770409-pentaweek@local
END:VEVENT
BEGIN:VEVENT
DTSTART;VALUE=DATE:26770416
SUMMARY:Sprint 3, Week 2
UID:26770416-pentaweek@local
END:VEVENT
BEGIN:VEVENT
DTSTART;VALUE=DATE:26770423
SUMMARY:Sprint 3, Week 3
UID:26770423-pentaweek@local
END:VEVENT
BEGIN:VEVENT
DTSTART;VALUE=DATE:26770430
SUMMARY:Sprint 3, Week 4
UID:26770430-pentaweek@local
END:VEVENT
BEGIN:VEVENT
DTSTART;VALUE=DATE:26770507
SUMMARY:Sprint 3, Week 5
UID:26770507-pentaweek@local
END:VEVENT
BEGIN:VEVENT
DTSTART;VALUE=DATE:26770514
SUMMARY:Planning Sprint 4
UID:26770514-pentaweek@local
END:VEVENT
BEGIN:VEVENT
DTSTART;VALUE=DATE:26770521
SUMMARY:Sprint 4, Week 1
UID:26770521-pentaweek@local
END:VEVENT
BEGIN:VEVENT
DTSTART;VALUE=DATE:26770528
SUMMARY:Sprint 4, Week 2
UID:26770528-pentaweek@local
END:VEVENT
BEGIN:VEVENT
DTSTART;VALUE=DATE:26770604
SUMMARY:Sprint 4, Week 3
UID:26770604-pentaweek@local
END:VEVENT
BEGIN:VEVENT
DTSTART;VALUE=DATE:26770611
SUMMARY:Sprint 4, Week 4
UID:26770611-pentaweek@local
END:VEVENT
BEGIN:VEVENT
DTSTART;VALUE=DATE:26770618
SUMMARY:Sprint 4, Week 5
UID:26770618-pentaweek@local
END:VEVENT
BEGIN:VEVENT
DTSTART;VALUE=DATE:26770709
SUMMARY:Planning Sprint 5
UID:26770709-pentaweek@local
END:VEVENT
BEGIN:VEVENT
DTSTART;VALUE=DATE:26770716
SUMMARY:Sprint 5, Week 1
UID:26770716-pentaweek@local
END:VEVENT
BEGIN:VEVENT
DTSTART;VALUE=DATE:26770723
SUMMARY:Sprint 5, Week 2
UID:26770723-pentaweek@local
END:VEVENT
BEGIN:VEVENT
DTSTART;VALUE=DATE:26770730
SUMMARY:Sprint 5, Week 3
UID:26770730-pentaweek@local
END:VEVENT
BEGIN:VEVENT
DTSTART;VALUE=DATE:26770806
SUMMARY:Sprint 5, Week 4
UID:26770806-pentaweek@local
END:VEVENT
BEGIN:VEVENT
DTSTART;VALUE=DATE:26770813
SUMMARY:Sprint 5, Week 5
UID:26770813-pentaweek@local
END:VEVENT
BEGIN:VEVENT
DTSTART;VALUE=DATE:26770820
SUMMARY:Planning Sprint 6
UID:26770820-pentaweek@local
END:VEVENT
BEGIN:VEVENT
DTSTART;VALUE=DATE:26770827
SUMMARY:Sprint 6, Week 1
UID:26770827-pentaweek@local
END:VEVENT
BEGIN:VEVENT
DTSTART;VALUE=DATE:26770903
SUMMARY:Sprint 6, Week 2
UID:26770903-pentaweek@local
END:VEVENT
BEGIN:VEVENT
DTSTART;VALUE=DATE:26770910
SUMMARY:Sprint 6, Week 3
UID:26770910-pentaweek@local
END:VEVENT
BEGIN:VEVENT
DTSTART;VALUE=DATE:26770917
SUMMARY:Sprint 6, Week 4
UID:26770917-pentaweek@local
END:VEVENT
BEGIN:VEVENT
DTSTART;VALUE=DATE:26770924
SUMMARY:Sprint 6, Week 5
UID:26770924-pentaweek@local
END:VEVENT
BEGIN:VEVENT
DTSTART;VALUE=DATE:26771001
SUMMARY:Planning Sprint 7
UID:26771001-pentaweek@local
END:VEVENT
BEGIN:VEVENT
DTSTART;VALUE=DATE:26771008
SUMMARY:Sprint 7, Week 1
UID:26771008-pentaweek@local
END:VEVENT
BEGIN:VEVENT
DTSTART;VALUE=DATE:26771015
SUMMARY:Sprint 7, Week 2
UID:26771015-pentaweek@local
END:VEVENT
BEGIN:VEVENT
DTSTART;VALUE=DATE:26771022
SUMMARY:Sprint 7, Week 3
UID:26771022-pentaweek@local
END:VEVENT
BEGIN:VEVENT
DTSTART;VALUE=DATE:26771029
SUMMARY:Sprint 7, Week 4
UID:26771029-pentaweek@local
END:VEVENT
BEGIN:VEVENT
DTSTART;VALUE=DATE:26771105
SUMMARY:Sprint 7, Week 5
UID:26771105-pentaweek@local
END:VEVENT
BEGIN:VEVENT
DTSTART;VALUE=DATE:26771112
SUMMARY:Planning Sprint 8
UID:26771112-pentaweek@local
END:VEVENT
BEGIN:VEVENT
DTSTART;VALUE=DATE:26771119
SUMMARY:Sprint 8, Week 1
UID:26771119-pentaweek@local
END:VEVENT
BEGIN:VEVENT
DTSTART;VALUE=DATE:26771126
SUMMARY:Sprint 8, Week 2
UID:26771126-pentaweek@local
END:VEVENT
BEGIN:VEVENT
DTSTART;VALUE=DATE:26771203
SUMMARY:Sprint 8, Week 3
UID:26771203-pentaweek@local
END:VEVENT
BEGIN:VEVENT
DTSTART;VALUE=DATE:26771210
SUMMARY:Sprint 8, Week 4
UID:26771210-pentaweek@local
END:VEVENT
BEGIN:VEVENT
DTSTART;VALUE=DATE:26771217
SUMMARY:Sprint 8, Week 5
UID:26771217-pentaweek@local
END:VEVENT
END:VCALENDAR