BEGIN:VCALENDAR
VERSION:2.0
PRODID:-//Pentaweek Calendar//EN
BEGIN:VEVENT
DTSTART;VALUE=DATE:26760110
SUMMARY:Planning Sprint 1
UID:26760110-pentaweek@local
END:VEVENT
BEGIN:VEVENT
DTSTART;VALUE=DATE:26760117
SUMMARY:Sprint 1, Week 1
UID:26760117-pentaweek@local
END:VEVENT
BEGIN:VEVENT
DTSTART;VALUE=DATE:26760124
SUMMARY:Sprint 1, Week 2
UID:26760124-pentaweek@local
END:VEVENT
BEGIN:VEVENT
DTSTART;VALUE=DATE:26760131
SUMMARY:Sprint 1, Week 3
UID:26760131-pentaweek@local
END:VEVENT
BEGIN:VEVENT
DTSTART;VALUE=DATE:26760207
SUMMARY:Sprint 1, Week 4
UID:26760207-pentaweek@local
END:VEVENT
BEGIN:VEVENT
DTSTART;VALUE=DATE:26760214
SUMMARY:Sprint 1, Week 5
UID:26760214-pentaweek@local
END:VEVENT
BEGIN:VEVENT
DTSTART;VALUE=DATE:26760221
SUMMARY:Planning Sprint 2
UID:26760221-pentaweek@local
END:VEVENT
BEGIN:VEVENT
DTSTART;VALUE=DATE:26760228
SUMMARY:Sprint 2, Week 1
UID:26760228-pentaweek@local
END:VEVENT
BEGIN:VEVENT
DTSTART;VALUE=DATE:26760306
SUMMARY:Sprint 2, Week 2
UID:26760306-pentaweek@local
END:VEVENT
BEGIN:VEVENT
DTSTART;VALUE=DATE:26760313
SUMMARY:Sprint 2, Week 3
UID:26760313-pentaweek@local
END:VEVENT
BEGIN:VEVENT
DTSTART;VALUE=DATE:26760320
SUMMARY:Sprint 2, Week 4
UID:26760320-pentaweek@local
END:VEVENT
BEGIN:VEVENT
DTSTART;VALUE=DATE:26760327
SUMMARY:Sprint 2, Week 5
UID:26760327-pentaweek@local
END:VEVENT
BEGIN:VEVENT
DTSTART;VALUE=DATE:26760403
SUMMARY:Planning Sprint 3
UID:26760403-pentaweek@local
END:VEVENT
BEGIN:VEVENT
DTSTART;VALUE=DATE:26760410
SUMMARY:Sprint 3, Week 1
UID:26760410-pentaweek@local
END:VEVENT
BEGIN:VEVENT
DTSTART;VALUE=DATE:26760417
SUMMARY:Sprint 3, Week 2
UID:26760417-pentaweek@local
END:VEVENT
BEGIN:VEVENT
DTSTART;VALUE=DATE:26760424
SUMMARY:Sprint 3, Week 3
UID:26760424-pentaweek@local
END:VEVENT
BEGIN:VEVENT
DTSTART;VALUE=DATE:26760501
SUMMARY:Sprint 3, Week 4
UID:26760501-pentaweek@local
END:VEVENT
BEGIN:VEVENT
DTSTART;VALUE=DATE:26760508
SUMMARY:Sprint 3, Week 5
UID:26760508-pentaweek@local
END:VEVENT
BEGIN:VEVENT
DTSTART;VALUE=DATE:26760515
SUMMARY:Planning Sprint 4
UID:26760515-pentaweek@local
END:VEVENT
BEGIN:VEVENT
DTSTART;VALUE=DATE:26760522
SUMMARY:Sprint 4, Week 1
UID:26760522-pentaweek@local
END:VEVENT
BEGIN:VEVENT
DTSTART;VALUE=DATE:26760529
SUMMARY:Sprint 4, Week 2
UID:26760529-pentaweek@local
END:VEVENT
BEGIN:VEVENT
DTSTART;VALUE=DATE:26760605
SUMMARY:Sprint 4, Week 3
UID:26760605-pentaweek@local
END:VEVENT
BEGIN:VEVENT
DTSTART;VALUE=DATE:26760612
SUMMARY:Sprint 4, Week 4
UID:26760612-pentaweek@local
END:VEVENT
BEGIN:VEVENT
DTSTART;VALUE=DATE:26760619
SUMMARY:Sprint 4, Week 5
UID:26760619-pentaweek@local
END:VEVENT
BEGIN:VEVENT
DTSTART;VALUE=DATE:26760710
SUMMARY:Planning Sprint 5
UID:26760710-pentaweek@local
END:VEVENT
BEGIN:VEVENT
DTSTART;VALUE=DATE:26760717
SUMMARY:Sprint 5, Week 1
UID:26760717-pentaweek@local
END:VEVENT
BEGIN:VEVENT
DTSTART;VALUE=DATE:26760724
SUMMARY:Sprint 5, Week 2
UID:26760724-pentaweek@local
END:VEVENT
BEGIN:VEVENT
DTSTART;VALUE=DATE:26760731
SUMMARY:Sprint 5, Week 3
UID:26760731-pentaweek@local
END:VEVENT
BEGIN:VEVENT
DTSTART;VALUE=DATE:26760807
SUMMARY:Sprint 5, Week 4
UID:26760807-pentaweek@local
END:VEVENT
BEGIN:VEVENT
DTSTART;VALUE=DATE:26760814
SUMMARY:Sprint 5, Week 5
UID:26760814-pentaweek@local
END:VEVENT
BEGIN:VEVENT
DTSTART;VALUE=DATE:26760821
SUMMARY:Planning Sprint 6
UID:26760821-pentaweek@local
END:VEVENT
BEGIN:VEVENT
DTSTART;VALUE=DATE:26760828
SUMMARY:Sprint 6, Week 1
UID:26760828-pentaweek@local
END:VEVENT
BEGIN:VEVENT
DTSTART;VALUE=DATE:26760904
SUMMARY:Sprint 6, Week 2
UID:26760904-pentaweek@local
END:VEVENT
BEGIN:VEVENT
DTSTART;VALUE=DATE:26760911
SUMMARY:Sprint 6, Week 3
UID:26760911-pentaweek@local
END:VEVENT
BEGIN:VEVENT
DTSTART;VALUE=DATE:26760918
SUMMARY:Sprint 6, Week 4
UID:26760918-pentaweek@local
END:VEVENT
BEGIN:VEVENT
DTSTART;VALUE=DATE:26760925
SUMMARY:Sprint 6, Week 5
UID:26760925-pentaweek@local
END:VEVENT
BEGIN:VEVENT
DTSTART;VALUE=DATE:26761002
SUMMARY:Planning Sprint 7
UID:26761002-pentaweek@local
END:VEVENT
BEGIN:VEVENT
DTSTART;VALUE=DATE:26761009
SUMMARY:Sprint 7, Week 1
UID:26761009-pentaweek@local
END:VEVENT
BEGIN:VEVENT
DTSTART;VALUE=DATE:26761016
SUMMARY:Sprint 7, Week 2
UID:26761016-pentaweek@local
END:VEVENT
BEGIN:VEVENT
DTSTART;VALUE=DATE:26761023
SUMMARY:Sprint 7, Week 3
UID:26761023-pentaweek@local
END:VEVENT
BEGIN:VEVENT
DTSTART;VALUE=DATE:26761030
SUMMARY:Sprint 7, Week 4
UID:26761030-pentaweek@local
END:VEVENT
BEGIN:VEVENT
DTSTART;VALUE=DATE:26761106
SUMMARY:Sprint 7, Week 5
UID:26761106-pentaweek@local
END:VEVENT
BEGIN:VEVENT
DTSTART;VALUE=DATE:26761113
SUMMARY:Planning Sprint 8
UID:26761113-pentaweek@local
END:VEVENT
BEGIN:VEVENT
DTSTART;VALUE=DATE:26761120
SUMMARY:Sprint 8, Week 1
UID:26761120-pentaweek@local
END:VEVENT
BEGIN:VEVENT
DTSTART;VALUE=DATE:26761127
SUMMARY:Sprint 8, Week 2
UID:26761127-pentaweek@local
END:VEVENT
BEGIN:VEVENT
DTSTART;VALUE=DATE:26761204
SUMMARY:Sprint 8, Week 3
UID:26761204-pentaweek@local
END:VEVENT
BEGIN:VEVENT
DTSTART;VALUE=DATE:26761211
SUMMARY:Sprint 8, Week 4
UID:26761211-pentaweek@local
END:VEVENT
BEGIN:VEVENT
DTSTART;VALUE=DATE:26761218
SUMMARY:Sprint 8, Week 5
UID:26761218-pentaweek@local
END:VEVENT
END:VCALENDAR