BEGIN:VCALENDAR
VERSION:2.0
PRODID:-//Pentaweek Calendar//EN
BEGIN:VEVENT
DTSTART;VALUE=DATE:26750104
SUMMARY:Planning Sprint 1
UID:26750104-pentaweek@local
END:VEVENT
BEGIN:VEVENT
DTSTART;VALUE=DATE:26750111
SUMMARY:Sprint 1, Week 1
UID:26750111-pentaweek@local
END:VEVENT
BEGIN:VEVENT
DTSTART;VALUE=DATE:26750118
SUMMARY:Sprint 1, Week 2
UID:26750118-pentaweek@local
END:VEVENT
BEGIN:VEVENT
DTSTART;VALUE=DATE:26750125
SUMMARY:Sprint 1, Week 3
UID:26750125-pentaweek@local
END:VEVENT
BEGIN:VEVENT
DTSTART;VALUE=DATE:26750201
SUMMARY:Sprint 1, Week 4
UID:26750201-pentaweek@local
END:VEVENT
BEGIN:VEVENT
DTSTART;VALUE=DATE:26750208
SUMMARY:Sprint 1, Week 5
UID:26750208-pentaweek@local
END:VEVENT
BEGIN:VEVENT
DTSTART;VALUE=DATE:26750215
SUMMARY:Planning Sprint 2
UID:26750215-pentaweek@local
END:VEVENT
BEGIN:VEVENT
DTSTART;VALUE=DATE:26750222
SUMMARY:Sprint 2, Week 1
UID:26750222-pentaweek@local
END:VEVENT
BEGIN:VEVENT
DTSTART;VALUE=DATE:26750301
SUMMARY:Sprint 2, Week 2
UID:26750301-pentaweek@local
END:VEVENT
BEGIN:VEVENT
DTSTART;VALUE=DATE:26750308
SUMMARY:Sprint 2, Week 3
UID:26750308-pentaweek@local
END:VEVENT
BEGIN:VEVENT
DTSTART;VALUE=DATE:26750315
SUMMARY:Sprint 2, Week 4
UID:26750315-pentaweek@local
END:VEVENT
BEGIN:VEVENT
DTSTART;VALUE=DATE:26750322
SUMMARY:Sprint 2, Week 5
UID:26750322-pentaweek@local
END:VEVENT
BEGIN:VEVENT
DTSTART;VALUE=DATE:26750329
SUMMARY:Planning Sprint 3
UID:26750329-pentaweek@local
END:VEVENT
BEGIN:VEVENT
DTSTART;VALUE=DATE:26750405
SUMMARY:Sprint 3, Week 1
UID:26750405-pentaweek@local
END:VEVENT
BEGIN:VEVENT
DTSTART;VALUE=DATE:26750412
SUMMARY:Sprint 3, Week 2
UID:26750412-pentaweek@local
END:VEVENT
BEGIN:VEVENT
DTSTART;VALUE=DATE:26750419
SUMMARY:Sprint 3, Week 3
UID:26750419-pentaweek@local
END:VEVENT
BEGIN:VEVENT
DTSTART;VALUE=DATE:26750426
SUMMARY:Sprint 3, Week 4
UID:26750426-pentaweek@local
END:VEVENT
BEGIN:VEVENT
DTSTART;VALUE=DATE:26750503
SUMMARY:Sprint 3, Week 5
UID:26750503-pentaweek@local
END:VEVENT
BEGIN:VEVENT
DTSTART;VALUE=DATE:26750510
SUMMARY:Planning Sprint 4
UID:26750510-pentaweek@local
END:VEVENT
BEGIN:VEVENT
DTSTART;VALUE=DATE:26750517
SUMMARY:Sprint 4, Week 1
UID:26750517-pentaweek@local
END:VEVENT
BEGIN:VEVENT
DTSTART;VALUE=DATE:26750524
SUMMARY:Sprint 4, Week 2
UID:26750524-pentaweek@local
END:VEVENT
BEGIN:VEVENT
DTSTART;VALUE=DATE:26750531
SUMMARY:Sprint 4, Week 3
UID:26750531-pentaweek@local
END:VEVENT
BEGIN:VEVENT
DTSTART;VALUE=DATE:26750607
SUMMARY:Sprint 4, Week 4
UID:26750607-pentaweek@local
END:VEVENT
BEGIN:VEVENT
DTSTART;VALUE=DATE:26750614
SUMMARY:Sprint 4, Week 5
UID:26750614-pentaweek@local
END:VEVENT
BEGIN:VEVENT
DTSTART;VALUE=DATE:26750705
SUMMARY:Planning Sprint 5
UID:26750705-pentaweek@local
END:VEVENT
BEGIN:VEVENT
DTSTART;VALUE=DATE:26750712
SUMMARY:Sprint 5, Week 1
UID:26750712-pentaweek@local
END:VEVENT
BEGIN:VEVENT
DTSTART;VALUE=DATE:26750719
SUMMARY:Sprint 5, Week 2
UID:26750719-pentaweek@local
END:VEVENT
BEGIN:VEVENT
DTSTART;VALUE=DATE:26750726
SUMMARY:Sprint 5, Week 3
UID:26750726-pentaweek@local
END:VEVENT
BEGIN:VEVENT
DTSTART;VALUE=DATE:26750802
SUMMARY:Sprint 5, Week 4
UID:26750802-pentaweek@local
END:VEVENT
BEGIN:VEVENT
DTSTART;VALUE=DATE:26750809
SUMMARY:Sprint 5, Week 5
UID:26750809-pentaweek@local
END:VEVENT
BEGIN:VEVENT
DTSTART;VALUE=DATE:26750816
SUMMARY:Planning Sprint 6
UID:26750816-pentaweek@local
END:VEVENT
BEGIN:VEVENT
DTSTART;VALUE=DATE:26750823
SUMMARY:Sprint 6, Week 1
UID:26750823-pentaweek@local
END:VEVENT
BEGIN:VEVENT
DTSTART;VALUE=DATE:26750830
SUMMARY:Sprint 6, Week 2
UID:26750830-pentaweek@local
END:VEVENT
BEGIN:VEVENT
DTSTART;VALUE=DATE:26750906
SUMMARY:Sprint 6, Week 3
UID:26750906-pentaweek@local
END:VEVENT
BEGIN:VEVENT
DTSTART;VALUE=DATE:26750913
SUMMARY:Sprint 6, Week 4
UID:26750913-pentaweek@local
END:VEVENT
BEGIN:VEVENT
DTSTART;VALUE=DATE:26750920
SUMMARY:Sprint 6, Week 5
UID:26750920-pentaweek@local
END:VEVENT
BEGIN:VEVENT
DTSTART;VALUE=DATE:26750927
SUMMARY:Planning Sprint 7
UID:26750927-pentaweek@local
END:VEVENT
BEGIN:VEVENT
DTSTART;VALUE=DATE:26751004
SUMMARY:Sprint 7, Week 1
UID:26751004-pentaweek@local
END:VEVENT
BEGIN:VEVENT
DTSTART;VALUE=DATE:26751011
SUMMARY:Sprint 7, Week 2
UID:26751011-pentaweek@local
END:VEVENT
BEGIN:VEVENT
DTSTART;VALUE=DATE:26751018
SUMMARY:Sprint 7, Week 3
UID:26751018-pentaweek@local
END:VEVENT
BEGIN:VEVENT
DTSTART;VALUE=DATE:26751025
SUMMARY:Sprint 7, Week 4
UID:26751025-pentaweek@local
END:VEVENT
BEGIN:VEVENT
DTSTART;VALUE=DATE:26751101
SUMMARY:Sprint 7, Week 5
UID:26751101-pentaweek@local
END:VEVENT
BEGIN:VEVENT
DTSTART;VALUE=DATE:26751108
SUMMARY:Planning Sprint 8
UID:26751108-pentaweek@local
END:VEVENT
BEGIN:VEVENT
DTSTART;VALUE=DATE:26751115
SUMMARY:Sprint 8, Week 1
UID:26751115-pentaweek@local
END:VEVENT
BEGIN:VEVENT
DTSTART;VALUE=DATE:26751122
SUMMARY:Sprint 8, Week 2
UID:26751122-pentaweek@local
END:VEVENT
BEGIN:VEVENT
DTSTART;VALUE=DATE:26751129
SUMMARY:Sprint 8, Week 3
UID:26751129-pentaweek@local
END:VEVENT
BEGIN:VEVENT
DTSTART;VALUE=DATE:26751206
SUMMARY:Sprint 8, Week 4
UID:26751206-pentaweek@local
END:VEVENT
BEGIN:VEVENT
DTSTART;VALUE=DATE:26751213
SUMMARY:Sprint 8, Week 5
UID:26751213-pentaweek@local
END:VEVENT
END:VCALENDAR