BEGIN:VCALENDAR
VERSION:2.0
PRODID:-//Pentaweek Calendar//EN
BEGIN:VEVENT
DTSTART;VALUE=DATE:26740105
SUMMARY:Planning Sprint 1
UID:26740105-pentaweek@local
END:VEVENT
BEGIN:VEVENT
DTSTART;VALUE=DATE:26740112
SUMMARY:Sprint 1, Week 1
UID:26740112-pentaweek@local
END:VEVENT
BEGIN:VEVENT
DTSTART;VALUE=DATE:26740119
SUMMARY:Sprint 1, Week 2
UID:26740119-pentaweek@local
END:VEVENT
BEGIN:VEVENT
DTSTART;VALUE=DATE:26740126
SUMMARY:Sprint 1, Week 3
UID:26740126-pentaweek@local
END:VEVENT
BEGIN:VEVENT
DTSTART;VALUE=DATE:26740202
SUMMARY:Sprint 1, Week 4
UID:26740202-pentaweek@local
END:VEVENT
BEGIN:VEVENT
DTSTART;VALUE=DATE:26740209
SUMMARY:Sprint 1, Week 5
UID:26740209-pentaweek@local
END:VEVENT
BEGIN:VEVENT
DTSTART;VALUE=DATE:26740216
SUMMARY:Planning Sprint 2
UID:26740216-pentaweek@local
END:VEVENT
BEGIN:VEVENT
DTSTART;VALUE=DATE:26740223
SUMMARY:Sprint 2, Week 1
UID:26740223-pentaweek@local
END:VEVENT
BEGIN:VEVENT
DTSTART;VALUE=DATE:26740302
SUMMARY:Sprint 2, Week 2
UID:26740302-pentaweek@local
END:VEVENT
BEGIN:VEVENT
DTSTART;VALUE=DATE:26740309
SUMMARY:Sprint 2, Week 3
UID:26740309-pentaweek@local
END:VEVENT
BEGIN:VEVENT
DTSTART;VALUE=DATE:26740316
SUMMARY:Sprint 2, Week 4
UID:26740316-pentaweek@local
END:VEVENT
BEGIN:VEVENT
DTSTART;VALUE=DATE:26740323
SUMMARY:Sprint 2, Week 5
UID:26740323-pentaweek@local
END:VEVENT
BEGIN:VEVENT
DTSTART;VALUE=DATE:26740330
SUMMARY:Planning Sprint 3
UID:26740330-pentaweek@local
END:VEVENT
BEGIN:VEVENT
DTSTART;VALUE=DATE:26740406
SUMMARY:Sprint 3, Week 1
UID:26740406-pentaweek@local
END:VEVENT
BEGIN:VEVENT
DTSTART;VALUE=DATE:26740413
SUMMARY:Sprint 3, Week 2
UID:26740413-pentaweek@local
END:VEVENT
BEGIN:VEVENT
DTSTART;VALUE=DATE:26740420
SUMMARY:Sprint 3, Week 3
UID:26740420-pentaweek@local
END:VEVENT
BEGIN:VEVENT
DTSTART;VALUE=DATE:26740427
SUMMARY:Sprint 3, Week 4
UID:26740427-pentaweek@local
END:VEVENT
BEGIN:VEVENT
DTSTART;VALUE=DATE:26740504
SUMMARY:Sprint 3, Week 5
UID:26740504-pentaweek@local
END:VEVENT
BEGIN:VEVENT
DTSTART;VALUE=DATE:26740511
SUMMARY:Planning Sprint 4
UID:26740511-pentaweek@local
END:VEVENT
BEGIN:VEVENT
DTSTART;VALUE=DATE:26740518
SUMMARY:Sprint 4, Week 1
UID:26740518-pentaweek@local
END:VEVENT
BEGIN:VEVENT
DTSTART;VALUE=DATE:26740525
SUMMARY:Sprint 4, Week 2
UID:26740525-pentaweek@local
END:VEVENT
BEGIN:VEVENT
DTSTART;VALUE=DATE:26740601
SUMMARY:Sprint 4, Week 3
UID:26740601-pentaweek@local
END:VEVENT
BEGIN:VEVENT
DTSTART;VALUE=DATE:26740608
SUMMARY:Sprint 4, Week 4
UID:26740608-pentaweek@local
END:VEVENT
BEGIN:VEVENT
DTSTART;VALUE=DATE:26740615
SUMMARY:Sprint 4, Week 5
UID:26740615-pentaweek@local
END:VEVENT
BEGIN:VEVENT
DTSTART;VALUE=DATE:26740706
SUMMARY:Planning Sprint 5
UID:26740706-pentaweek@local
END:VEVENT
BEGIN:VEVENT
DTSTART;VALUE=DATE:26740713
SUMMARY:Sprint 5, Week 1
UID:26740713-pentaweek@local
END:VEVENT
BEGIN:VEVENT
DTSTART;VALUE=DATE:26740720
SUMMARY:Sprint 5, Week 2
UID:26740720-pentaweek@local
END:VEVENT
BEGIN:VEVENT
DTSTART;VALUE=DATE:26740727
SUMMARY:Sprint 5, Week 3
UID:26740727-pentaweek@local
END:VEVENT
BEGIN:VEVENT
DTSTART;VALUE=DATE:26740803
SUMMARY:Sprint 5, Week 4
UID:26740803-pentaweek@local
END:VEVENT
BEGIN:VEVENT
DTSTART;VALUE=DATE:26740810
SUMMARY:Sprint 5, Week 5
UID:26740810-pentaweek@local
END:VEVENT
BEGIN:VEVENT
DTSTART;VALUE=DATE:26740817
SUMMARY:Planning Sprint 6
UID:26740817-pentaweek@local
END:VEVENT
BEGIN:VEVENT
DTSTART;VALUE=DATE:26740824
SUMMARY:Sprint 6, Week 1
UID:26740824-pentaweek@local
END:VEVENT
BEGIN:VEVENT
DTSTART;VALUE=DATE:26740831
SUMMARY:Sprint 6, Week 2
UID:26740831-pentaweek@local
END:VEVENT
BEGIN:VEVENT
DTSTART;VALUE=DATE:26740907
SUMMARY:Sprint 6, Week 3
UID:26740907-pentaweek@local
END:VEVENT
BEGIN:VEVENT
DTSTART;VALUE=DATE:26740914
SUMMARY:Sprint 6, Week 4
UID:26740914-pentaweek@local
END:VEVENT
BEGIN:VEVENT
DTSTART;VALUE=DATE:26740921
SUMMARY:Sprint 6, Week 5
UID:26740921-pentaweek@local
END:VEVENT
BEGIN:VEVENT
DTSTART;VALUE=DATE:26740928
SUMMARY:Planning Sprint 7
UID:26740928-pentaweek@local
END:VEVENT
BEGIN:VEVENT
DTSTART;VALUE=DATE:26741005
SUMMARY:Sprint 7, Week 1
UID:26741005-pentaweek@local
END:VEVENT
BEGIN:VEVENT
DTSTART;VALUE=DATE:26741012
SUMMARY:Sprint 7, Week 2
UID:26741012-pentaweek@local
END:VEVENT
BEGIN:VEVENT
DTSTART;VALUE=DATE:26741019
SUMMARY:Sprint 7, Week 3
UID:26741019-pentaweek@local
END:VEVENT
BEGIN:VEVENT
DTSTART;VALUE=DATE:26741026
SUMMARY:Sprint 7, Week 4
UID:26741026-pentaweek@local
END:VEVENT
BEGIN:VEVENT
DTSTART;VALUE=DATE:26741102
SUMMARY:Sprint 7, Week 5
UID:26741102-pentaweek@local
END:VEVENT
BEGIN:VEVENT
DTSTART;VALUE=DATE:26741109
SUMMARY:Planning Sprint 8
UID:26741109-pentaweek@local
END:VEVENT
BEGIN:VEVENT
DTSTART;VALUE=DATE:26741116
SUMMARY:Sprint 8, Week 1
UID:26741116-pentaweek@local
END:VEVENT
BEGIN:VEVENT
DTSTART;VALUE=DATE:26741123
SUMMARY:Sprint 8, Week 2
UID:26741123-pentaweek@local
END:VEVENT
BEGIN:VEVENT
DTSTART;VALUE=DATE:26741130
SUMMARY:Sprint 8, Week 3
UID:26741130-pentaweek@local
END:VEVENT
BEGIN:VEVENT
DTSTART;VALUE=DATE:26741207
SUMMARY:Sprint 8, Week 4
UID:26741207-pentaweek@local
END:VEVENT
BEGIN:VEVENT
DTSTART;VALUE=DATE:26741214
SUMMARY:Sprint 8, Week 5
UID:26741214-pentaweek@local
END:VEVENT
END:VCALENDAR