BEGIN:VCALENDAR
VERSION:2.0
PRODID:-//Pentaweek Calendar//EN
BEGIN:VEVENT
DTSTART;VALUE=DATE:26730106
SUMMARY:Planning Sprint 1
UID:26730106-pentaweek@local
END:VEVENT
BEGIN:VEVENT
DTSTART;VALUE=DATE:26730113
SUMMARY:Sprint 1, Week 1
UID:26730113-pentaweek@local
END:VEVENT
BEGIN:VEVENT
DTSTART;VALUE=DATE:26730120
SUMMARY:Sprint 1, Week 2
UID:26730120-pentaweek@local
END:VEVENT
BEGIN:VEVENT
DTSTART;VALUE=DATE:26730127
SUMMARY:Sprint 1, Week 3
UID:26730127-pentaweek@local
END:VEVENT
BEGIN:VEVENT
DTSTART;VALUE=DATE:26730203
SUMMARY:Sprint 1, Week 4
UID:26730203-pentaweek@local
END:VEVENT
BEGIN:VEVENT
DTSTART;VALUE=DATE:26730210
SUMMARY:Sprint 1, Week 5
UID:26730210-pentaweek@local
END:VEVENT
BEGIN:VEVENT
DTSTART;VALUE=DATE:26730217
SUMMARY:Planning Sprint 2
UID:26730217-pentaweek@local
END:VEVENT
BEGIN:VEVENT
DTSTART;VALUE=DATE:26730224
SUMMARY:Sprint 2, Week 1
UID:26730224-pentaweek@local
END:VEVENT
BEGIN:VEVENT
DTSTART;VALUE=DATE:26730303
SUMMARY:Sprint 2, Week 2
UID:26730303-pentaweek@local
END:VEVENT
BEGIN:VEVENT
DTSTART;VALUE=DATE:26730310
SUMMARY:Sprint 2, Week 3
UID:26730310-pentaweek@local
END:VEVENT
BEGIN:VEVENT
DTSTART;VALUE=DATE:26730317
SUMMARY:Sprint 2, Week 4
UID:26730317-pentaweek@local
END:VEVENT
BEGIN:VEVENT
DTSTART;VALUE=DATE:26730324
SUMMARY:Sprint 2, Week 5
UID:26730324-pentaweek@local
END:VEVENT
BEGIN:VEVENT
DTSTART;VALUE=DATE:26730331
SUMMARY:Planning Sprint 3
UID:26730331-pentaweek@local
END:VEVENT
BEGIN:VEVENT
DTSTART;VALUE=DATE:26730407
SUMMARY:Sprint 3, Week 1
UID:26730407-pentaweek@local
END:VEVENT
BEGIN:VEVENT
DTSTART;VALUE=DATE:26730414
SUMMARY:Sprint 3, Week 2
UID:26730414-pentaweek@local
END:VEVENT
BEGIN:VEVENT
DTSTART;VALUE=DATE:26730421
SUMMARY:Sprint 3, Week 3
UID:26730421-pentaweek@local
END:VEVENT
BEGIN:VEVENT
DTSTART;VALUE=DATE:26730428
SUMMARY:Sprint 3, Week 4
UID:26730428-pentaweek@local
END:VEVENT
BEGIN:VEVENT
DTSTART;VALUE=DATE:26730505
SUMMARY:Sprint 3, Week 5
UID:26730505-pentaweek@local
END:VEVENT
BEGIN:VEVENT
DTSTART;VALUE=DATE:26730512
SUMMARY:Planning Sprint 4
UID:26730512-pentaweek@local
END:VEVENT
BEGIN:VEVENT
DTSTART;VALUE=DATE:26730519
SUMMARY:Sprint 4, Week 1
UID:26730519-pentaweek@local
END:VEVENT
BEGIN:VEVENT
DTSTART;VALUE=DATE:26730526
SUMMARY:Sprint 4, Week 2
UID:26730526-pentaweek@local
END:VEVENT
BEGIN:VEVENT
DTSTART;VALUE=DATE:26730602
SUMMARY:Sprint 4, Week 3
UID:26730602-pentaweek@local
END:VEVENT
BEGIN:VEVENT
DTSTART;VALUE=DATE:26730609
SUMMARY:Sprint 4, Week 4
UID:26730609-pentaweek@local
END:VEVENT
BEGIN:VEVENT
DTSTART;VALUE=DATE:26730616
SUMMARY:Sprint 4, Week 5
UID:26730616-pentaweek@local
END:VEVENT
BEGIN:VEVENT
DTSTART;VALUE=DATE:26730707
SUMMARY:Planning Sprint 5
UID:26730707-pentaweek@local
END:VEVENT
BEGIN:VEVENT
DTSTART;VALUE=DATE:26730714
SUMMARY:Sprint 5, Week 1
UID:26730714-pentaweek@local
END:VEVENT
BEGIN:VEVENT
DTSTART;VALUE=DATE:26730721
SUMMARY:Sprint 5, Week 2
UID:26730721-pentaweek@local
END:VEVENT
BEGIN:VEVENT
DTSTART;VALUE=DATE:26730728
SUMMARY:Sprint 5, Week 3
UID:26730728-pentaweek@local
END:VEVENT
BEGIN:VEVENT
DTSTART;VALUE=DATE:26730804
SUMMARY:Sprint 5, Week 4
UID:26730804-pentaweek@local
END:VEVENT
BEGIN:VEVENT
DTSTART;VALUE=DATE:26730811
SUMMARY:Sprint 5, Week 5
UID:26730811-pentaweek@local
END:VEVENT
BEGIN:VEVENT
DTSTART;VALUE=DATE:26730818
SUMMARY:Planning Sprint 6
UID:26730818-pentaweek@local
END:VEVENT
BEGIN:VEVENT
DTSTART;VALUE=DATE:26730825
SUMMARY:Sprint 6, Week 1
UID:26730825-pentaweek@local
END:VEVENT
BEGIN:VEVENT
DTSTART;VALUE=DATE:26730901
SUMMARY:Sprint 6, Week 2
UID:26730901-pentaweek@local
END:VEVENT
BEGIN:VEVENT
DTSTART;VALUE=DATE:26730908
SUMMARY:Sprint 6, Week 3
UID:26730908-pentaweek@local
END:VEVENT
BEGIN:VEVENT
DTSTART;VALUE=DATE:26730915
SUMMARY:Sprint 6, Week 4
UID:26730915-pentaweek@local
END:VEVENT
BEGIN:VEVENT
DTSTART;VALUE=DATE:26730922
SUMMARY:Sprint 6, Week 5
UID:26730922-pentaweek@local
END:VEVENT
BEGIN:VEVENT
DTSTART;VALUE=DATE:26730929
SUMMARY:Planning Sprint 7
UID:26730929-pentaweek@local
END:VEVENT
BEGIN:VEVENT
DTSTART;VALUE=DATE:26731006
SUMMARY:Sprint 7, Week 1
UID:26731006-pentaweek@local
END:VEVENT
BEGIN:VEVENT
DTSTART;VALUE=DATE:26731013
SUMMARY:Sprint 7, Week 2
UID:26731013-pentaweek@local
END:VEVENT
BEGIN:VEVENT
DTSTART;VALUE=DATE:26731020
SUMMARY:Sprint 7, Week 3
UID:26731020-pentaweek@local
END:VEVENT
BEGIN:VEVENT
DTSTART;VALUE=DATE:26731027
SUMMARY:Sprint 7, Week 4
UID:26731027-pentaweek@local
END:VEVENT
BEGIN:VEVENT
DTSTART;VALUE=DATE:26731103
SUMMARY:Sprint 7, Week 5
UID:26731103-pentaweek@local
END:VEVENT
BEGIN:VEVENT
DTSTART;VALUE=DATE:26731110
SUMMARY:Planning Sprint 8
UID:26731110-pentaweek@local
END:VEVENT
BEGIN:VEVENT
DTSTART;VALUE=DATE:26731117
SUMMARY:Sprint 8, Week 1
UID:26731117-pentaweek@local
END:VEVENT
BEGIN:VEVENT
DTSTART;VALUE=DATE:26731124
SUMMARY:Sprint 8, Week 2
UID:26731124-pentaweek@local
END:VEVENT
BEGIN:VEVENT
DTSTART;VALUE=DATE:26731201
SUMMARY:Sprint 8, Week 3
UID:26731201-pentaweek@local
END:VEVENT
BEGIN:VEVENT
DTSTART;VALUE=DATE:26731208
SUMMARY:Sprint 8, Week 4
UID:26731208-pentaweek@local
END:VEVENT
BEGIN:VEVENT
DTSTART;VALUE=DATE:26731215
SUMMARY:Sprint 8, Week 5
UID:26731215-pentaweek@local
END:VEVENT
END:VCALENDAR