BEGIN:VCALENDAR
VERSION:2.0
PRODID:-//Pentaweek Calendar//EN
BEGIN:VEVENT
DTSTART;VALUE=DATE:26720108
SUMMARY:Planning Sprint 1
UID:26720108-pentaweek@local
END:VEVENT
BEGIN:VEVENT
DTSTART;VALUE=DATE:26720115
SUMMARY:Sprint 1, Week 1
UID:26720115-pentaweek@local
END:VEVENT
BEGIN:VEVENT
DTSTART;VALUE=DATE:26720122
SUMMARY:Sprint 1, Week 2
UID:26720122-pentaweek@local
END:VEVENT
BEGIN:VEVENT
DTSTART;VALUE=DATE:26720129
SUMMARY:Sprint 1, Week 3
UID:26720129-pentaweek@local
END:VEVENT
BEGIN:VEVENT
DTSTART;VALUE=DATE:26720205
SUMMARY:Sprint 1, Week 4
UID:26720205-pentaweek@local
END:VEVENT
BEGIN:VEVENT
DTSTART;VALUE=DATE:26720212
SUMMARY:Sprint 1, Week 5
UID:26720212-pentaweek@local
END:VEVENT
BEGIN:VEVENT
DTSTART;VALUE=DATE:26720219
SUMMARY:Planning Sprint 2
UID:26720219-pentaweek@local
END:VEVENT
BEGIN:VEVENT
DTSTART;VALUE=DATE:26720226
SUMMARY:Sprint 2, Week 1
UID:26720226-pentaweek@local
END:VEVENT
BEGIN:VEVENT
DTSTART;VALUE=DATE:26720304
SUMMARY:Sprint 2, Week 2
UID:26720304-pentaweek@local
END:VEVENT
BEGIN:VEVENT
DTSTART;VALUE=DATE:26720311
SUMMARY:Sprint 2, Week 3
UID:26720311-pentaweek@local
END:VEVENT
BEGIN:VEVENT
DTSTART;VALUE=DATE:26720318
SUMMARY:Sprint 2, Week 4
UID:26720318-pentaweek@local
END:VEVENT
BEGIN:VEVENT
DTSTART;VALUE=DATE:26720325
SUMMARY:Sprint 2, Week 5
UID:26720325-pentaweek@local
END:VEVENT
BEGIN:VEVENT
DTSTART;VALUE=DATE:26720401
SUMMARY:Planning Sprint 3
UID:26720401-pentaweek@local
END:VEVENT
BEGIN:VEVENT
DTSTART;VALUE=DATE:26720408
SUMMARY:Sprint 3, Week 1
UID:26720408-pentaweek@local
END:VEVENT
BEGIN:VEVENT
DTSTART;VALUE=DATE:26720415
SUMMARY:Sprint 3, Week 2
UID:26720415-pentaweek@local
END:VEVENT
BEGIN:VEVENT
DTSTART;VALUE=DATE:26720422
SUMMARY:Sprint 3, Week 3
UID:26720422-pentaweek@local
END:VEVENT
BEGIN:VEVENT
DTSTART;VALUE=DATE:26720429
SUMMARY:Sprint 3, Week 4
UID:26720429-pentaweek@local
END:VEVENT
BEGIN:VEVENT
DTSTART;VALUE=DATE:26720506
SUMMARY:Sprint 3, Week 5
UID:26720506-pentaweek@local
END:VEVENT
BEGIN:VEVENT
DTSTART;VALUE=DATE:26720513
SUMMARY:Planning Sprint 4
UID:26720513-pentaweek@local
END:VEVENT
BEGIN:VEVENT
DTSTART;VALUE=DATE:26720520
SUMMARY:Sprint 4, Week 1
UID:26720520-pentaweek@local
END:VEVENT
BEGIN:VEVENT
DTSTART;VALUE=DATE:26720527
SUMMARY:Sprint 4, Week 2
UID:26720527-pentaweek@local
END:VEVENT
BEGIN:VEVENT
DTSTART;VALUE=DATE:26720603
SUMMARY:Sprint 4, Week 3
UID:26720603-pentaweek@local
END:VEVENT
BEGIN:VEVENT
DTSTART;VALUE=DATE:26720610
SUMMARY:Sprint 4, Week 4
UID:26720610-pentaweek@local
END:VEVENT
BEGIN:VEVENT
DTSTART;VALUE=DATE:26720617
SUMMARY:Sprint 4, Week 5
UID:26720617-pentaweek@local
END:VEVENT
BEGIN:VEVENT
DTSTART;VALUE=DATE:26720708
SUMMARY:Planning Sprint 5
UID:26720708-pentaweek@local
END:VEVENT
BEGIN:VEVENT
DTSTART;VALUE=DATE:26720715
SUMMARY:Sprint 5, Week 1
UID:26720715-pentaweek@local
END:VEVENT
BEGIN:VEVENT
DTSTART;VALUE=DATE:26720722
SUMMARY:Sprint 5, Week 2
UID:26720722-pentaweek@local
END:VEVENT
BEGIN:VEVENT
DTSTART;VALUE=DATE:26720729
SUMMARY:Sprint 5, Week 3
UID:26720729-pentaweek@local
END:VEVENT
BEGIN:VEVENT
DTSTART;VALUE=DATE:26720805
SUMMARY:Sprint 5, Week 4
UID:26720805-pentaweek@local
END:VEVENT
BEGIN:VEVENT
DTSTART;VALUE=DATE:26720812
SUMMARY:Sprint 5, Week 5
UID:26720812-pentaweek@local
END:VEVENT
BEGIN:VEVENT
DTSTART;VALUE=DATE:26720819
SUMMARY:Planning Sprint 6
UID:26720819-pentaweek@local
END:VEVENT
BEGIN:VEVENT
DTSTART;VALUE=DATE:26720826
SUMMARY:Sprint 6, Week 1
UID:26720826-pentaweek@local
END:VEVENT
BEGIN:VEVENT
DTSTART;VALUE=DATE:26720902
SUMMARY:Sprint 6, Week 2
UID:26720902-pentaweek@local
END:VEVENT
BEGIN:VEVENT
DTSTART;VALUE=DATE:26720909
SUMMARY:Sprint 6, Week 3
UID:26720909-pentaweek@local
END:VEVENT
BEGIN:VEVENT
DTSTART;VALUE=DATE:26720916
SUMMARY:Sprint 6, Week 4
UID:26720916-pentaweek@local
END:VEVENT
BEGIN:VEVENT
DTSTART;VALUE=DATE:26720923
SUMMARY:Sprint 6, Week 5
UID:26720923-pentaweek@local
END:VEVENT
BEGIN:VEVENT
DTSTART;VALUE=DATE:26720930
SUMMARY:Planning Sprint 7
UID:26720930-pentaweek@local
END:VEVENT
BEGIN:VEVENT
DTSTART;VALUE=DATE:26721007
SUMMARY:Sprint 7, Week 1
UID:26721007-pentaweek@local
END:VEVENT
BEGIN:VEVENT
DTSTART;VALUE=DATE:26721014
SUMMARY:Sprint 7, Week 2
UID:26721014-pentaweek@local
END:VEVENT
BEGIN:VEVENT
DTSTART;VALUE=DATE:26721021
SUMMARY:Sprint 7, Week 3
UID:26721021-pentaweek@local
END:VEVENT
BEGIN:VEVENT
DTSTART;VALUE=DATE:26721028
SUMMARY:Sprint 7, Week 4
UID:26721028-pentaweek@local
END:VEVENT
BEGIN:VEVENT
DTSTART;VALUE=DATE:26721104
SUMMARY:Sprint 7, Week 5
UID:26721104-pentaweek@local
END:VEVENT
BEGIN:VEVENT
DTSTART;VALUE=DATE:26721111
SUMMARY:Planning Sprint 8
UID:26721111-pentaweek@local
END:VEVENT
BEGIN:VEVENT
DTSTART;VALUE=DATE:26721118
SUMMARY:Sprint 8, Week 1
UID:26721118-pentaweek@local
END:VEVENT
BEGIN:VEVENT
DTSTART;VALUE=DATE:26721125
SUMMARY:Sprint 8, Week 2
UID:26721125-pentaweek@local
END:VEVENT
BEGIN:VEVENT
DTSTART;VALUE=DATE:26721202
SUMMARY:Sprint 8, Week 3
UID:26721202-pentaweek@local
END:VEVENT
BEGIN:VEVENT
DTSTART;VALUE=DATE:26721209
SUMMARY:Sprint 8, Week 4
UID:26721209-pentaweek@local
END:VEVENT
BEGIN:VEVENT
DTSTART;VALUE=DATE:26721216
SUMMARY:Sprint 8, Week 5
UID:26721216-pentaweek@local
END:VEVENT
END:VCALENDAR