BEGIN:VCALENDAR
VERSION:2.0
PRODID:-//Pentaweek Calendar//EN
BEGIN:VEVENT
DTSTART;VALUE=DATE:26710109
SUMMARY:Planning Sprint 1
UID:26710109-pentaweek@local
END:VEVENT
BEGIN:VEVENT
DTSTART;VALUE=DATE:26710116
SUMMARY:Sprint 1, Week 1
UID:26710116-pentaweek@local
END:VEVENT
BEGIN:VEVENT
DTSTART;VALUE=DATE:26710123
SUMMARY:Sprint 1, Week 2
UID:26710123-pentaweek@local
END:VEVENT
BEGIN:VEVENT
DTSTART;VALUE=DATE:26710130
SUMMARY:Sprint 1, Week 3
UID:26710130-pentaweek@local
END:VEVENT
BEGIN:VEVENT
DTSTART;VALUE=DATE:26710206
SUMMARY:Sprint 1, Week 4
UID:26710206-pentaweek@local
END:VEVENT
BEGIN:VEVENT
DTSTART;VALUE=DATE:26710213
SUMMARY:Sprint 1, Week 5
UID:26710213-pentaweek@local
END:VEVENT
BEGIN:VEVENT
DTSTART;VALUE=DATE:26710220
SUMMARY:Planning Sprint 2
UID:26710220-pentaweek@local
END:VEVENT
BEGIN:VEVENT
DTSTART;VALUE=DATE:26710227
SUMMARY:Sprint 2, Week 1
UID:26710227-pentaweek@local
END:VEVENT
BEGIN:VEVENT
DTSTART;VALUE=DATE:26710306
SUMMARY:Sprint 2, Week 2
UID:26710306-pentaweek@local
END:VEVENT
BEGIN:VEVENT
DTSTART;VALUE=DATE:26710313
SUMMARY:Sprint 2, Week 3
UID:26710313-pentaweek@local
END:VEVENT
BEGIN:VEVENT
DTSTART;VALUE=DATE:26710320
SUMMARY:Sprint 2, Week 4
UID:26710320-pentaweek@local
END:VEVENT
BEGIN:VEVENT
DTSTART;VALUE=DATE:26710327
SUMMARY:Sprint 2, Week 5
UID:26710327-pentaweek@local
END:VEVENT
BEGIN:VEVENT
DTSTART;VALUE=DATE:26710403
SUMMARY:Planning Sprint 3
UID:26710403-pentaweek@local
END:VEVENT
BEGIN:VEVENT
DTSTART;VALUE=DATE:26710410
SUMMARY:Sprint 3, Week 1
UID:26710410-pentaweek@local
END:VEVENT
BEGIN:VEVENT
DTSTART;VALUE=DATE:26710417
SUMMARY:Sprint 3, Week 2
UID:26710417-pentaweek@local
END:VEVENT
BEGIN:VEVENT
DTSTART;VALUE=DATE:26710424
SUMMARY:Sprint 3, Week 3
UID:26710424-pentaweek@local
END:VEVENT
BEGIN:VEVENT
DTSTART;VALUE=DATE:26710501
SUMMARY:Sprint 3, Week 4
UID:26710501-pentaweek@local
END:VEVENT
BEGIN:VEVENT
DTSTART;VALUE=DATE:26710508
SUMMARY:Sprint 3, Week 5
UID:26710508-pentaweek@local
END:VEVENT
BEGIN:VEVENT
DTSTART;VALUE=DATE:26710515
SUMMARY:Planning Sprint 4
UID:26710515-pentaweek@local
END:VEVENT
BEGIN:VEVENT
DTSTART;VALUE=DATE:26710522
SUMMARY:Sprint 4, Week 1
UID:26710522-pentaweek@local
END:VEVENT
BEGIN:VEVENT
DTSTART;VALUE=DATE:26710529
SUMMARY:Sprint 4, Week 2
UID:26710529-pentaweek@local
END:VEVENT
BEGIN:VEVENT
DTSTART;VALUE=DATE:26710605
SUMMARY:Sprint 4, Week 3
UID:26710605-pentaweek@local
END:VEVENT
BEGIN:VEVENT
DTSTART;VALUE=DATE:26710612
SUMMARY:Sprint 4, Week 4
UID:26710612-pentaweek@local
END:VEVENT
BEGIN:VEVENT
DTSTART;VALUE=DATE:26710619
SUMMARY:Sprint 4, Week 5
UID:26710619-pentaweek@local
END:VEVENT
BEGIN:VEVENT
DTSTART;VALUE=DATE:26710710
SUMMARY:Planning Sprint 5
UID:26710710-pentaweek@local
END:VEVENT
BEGIN:VEVENT
DTSTART;VALUE=DATE:26710717
SUMMARY:Sprint 5, Week 1
UID:26710717-pentaweek@local
END:VEVENT
BEGIN:VEVENT
DTSTART;VALUE=DATE:26710724
SUMMARY:Sprint 5, Week 2
UID:26710724-pentaweek@local
END:VEVENT
BEGIN:VEVENT
DTSTART;VALUE=DATE:26710731
SUMMARY:Sprint 5, Week 3
UID:26710731-pentaweek@local
END:VEVENT
BEGIN:VEVENT
DTSTART;VALUE=DATE:26710807
SUMMARY:Sprint 5, Week 4
UID:26710807-pentaweek@local
END:VEVENT
BEGIN:VEVENT
DTSTART;VALUE=DATE:26710814
SUMMARY:Sprint 5, Week 5
UID:26710814-pentaweek@local
END:VEVENT
BEGIN:VEVENT
DTSTART;VALUE=DATE:26710821
SUMMARY:Planning Sprint 6
UID:26710821-pentaweek@local
END:VEVENT
BEGIN:VEVENT
DTSTART;VALUE=DATE:26710828
SUMMARY:Sprint 6, Week 1
UID:26710828-pentaweek@local
END:VEVENT
BEGIN:VEVENT
DTSTART;VALUE=DATE:26710904
SUMMARY:Sprint 6, Week 2
UID:26710904-pentaweek@local
END:VEVENT
BEGIN:VEVENT
DTSTART;VALUE=DATE:26710911
SUMMARY:Sprint 6, Week 3
UID:26710911-pentaweek@local
END:VEVENT
BEGIN:VEVENT
DTSTART;VALUE=DATE:26710918
SUMMARY:Sprint 6, Week 4
UID:26710918-pentaweek@local
END:VEVENT
BEGIN:VEVENT
DTSTART;VALUE=DATE:26710925
SUMMARY:Sprint 6, Week 5
UID:26710925-pentaweek@local
END:VEVENT
BEGIN:VEVENT
DTSTART;VALUE=DATE:26711002
SUMMARY:Planning Sprint 7
UID:26711002-pentaweek@local
END:VEVENT
BEGIN:VEVENT
DTSTART;VALUE=DATE:26711009
SUMMARY:Sprint 7, Week 1
UID:26711009-pentaweek@local
END:VEVENT
BEGIN:VEVENT
DTSTART;VALUE=DATE:26711016
SUMMARY:Sprint 7, Week 2
UID:26711016-pentaweek@local
END:VEVENT
BEGIN:VEVENT
DTSTART;VALUE=DATE:26711023
SUMMARY:Sprint 7, Week 3
UID:26711023-pentaweek@local
END:VEVENT
BEGIN:VEVENT
DTSTART;VALUE=DATE:26711030
SUMMARY:Sprint 7, Week 4
UID:26711030-pentaweek@local
END:VEVENT
BEGIN:VEVENT
DTSTART;VALUE=DATE:26711106
SUMMARY:Sprint 7, Week 5
UID:26711106-pentaweek@local
END:VEVENT
BEGIN:VEVENT
DTSTART;VALUE=DATE:26711113
SUMMARY:Planning Sprint 8
UID:26711113-pentaweek@local
END:VEVENT
BEGIN:VEVENT
DTSTART;VALUE=DATE:26711120
SUMMARY:Sprint 8, Week 1
UID:26711120-pentaweek@local
END:VEVENT
BEGIN:VEVENT
DTSTART;VALUE=DATE:26711127
SUMMARY:Sprint 8, Week 2
UID:26711127-pentaweek@local
END:VEVENT
BEGIN:VEVENT
DTSTART;VALUE=DATE:26711204
SUMMARY:Sprint 8, Week 3
UID:26711204-pentaweek@local
END:VEVENT
BEGIN:VEVENT
DTSTART;VALUE=DATE:26711211
SUMMARY:Sprint 8, Week 4
UID:26711211-pentaweek@local
END:VEVENT
BEGIN:VEVENT
DTSTART;VALUE=DATE:26711218
SUMMARY:Sprint 8, Week 5
UID:26711218-pentaweek@local
END:VEVENT
END:VCALENDAR