BEGIN:VCALENDAR
VERSION:2.0
PRODID:-//Pentaweek Calendar//EN
BEGIN:VEVENT
DTSTART;VALUE=DATE:26700110
SUMMARY:Planning Sprint 1
UID:26700110-pentaweek@local
END:VEVENT
BEGIN:VEVENT
DTSTART;VALUE=DATE:26700117
SUMMARY:Sprint 1, Week 1
UID:26700117-pentaweek@local
END:VEVENT
BEGIN:VEVENT
DTSTART;VALUE=DATE:26700124
SUMMARY:Sprint 1, Week 2
UID:26700124-pentaweek@local
END:VEVENT
BEGIN:VEVENT
DTSTART;VALUE=DATE:26700131
SUMMARY:Sprint 1, Week 3
UID:26700131-pentaweek@local
END:VEVENT
BEGIN:VEVENT
DTSTART;VALUE=DATE:26700207
SUMMARY:Sprint 1, Week 4
UID:26700207-pentaweek@local
END:VEVENT
BEGIN:VEVENT
DTSTART;VALUE=DATE:26700214
SUMMARY:Sprint 1, Week 5
UID:26700214-pentaweek@local
END:VEVENT
BEGIN:VEVENT
DTSTART;VALUE=DATE:26700221
SUMMARY:Planning Sprint 2
UID:26700221-pentaweek@local
END:VEVENT
BEGIN:VEVENT
DTSTART;VALUE=DATE:26700228
SUMMARY:Sprint 2, Week 1
UID:26700228-pentaweek@local
END:VEVENT
BEGIN:VEVENT
DTSTART;VALUE=DATE:26700307
SUMMARY:Sprint 2, Week 2
UID:26700307-pentaweek@local
END:VEVENT
BEGIN:VEVENT
DTSTART;VALUE=DATE:26700314
SUMMARY:Sprint 2, Week 3
UID:26700314-pentaweek@local
END:VEVENT
BEGIN:VEVENT
DTSTART;VALUE=DATE:26700321
SUMMARY:Sprint 2, Week 4
UID:26700321-pentaweek@local
END:VEVENT
BEGIN:VEVENT
DTSTART;VALUE=DATE:26700328
SUMMARY:Sprint 2, Week 5
UID:26700328-pentaweek@local
END:VEVENT
BEGIN:VEVENT
DTSTART;VALUE=DATE:26700404
SUMMARY:Planning Sprint 3
UID:26700404-pentaweek@local
END:VEVENT
BEGIN:VEVENT
DTSTART;VALUE=DATE:26700411
SUMMARY:Sprint 3, Week 1
UID:26700411-pentaweek@local
END:VEVENT
BEGIN:VEVENT
DTSTART;VALUE=DATE:26700418
SUMMARY:Sprint 3, Week 2
UID:26700418-pentaweek@local
END:VEVENT
BEGIN:VEVENT
DTSTART;VALUE=DATE:26700425
SUMMARY:Sprint 3, Week 3
UID:26700425-pentaweek@local
END:VEVENT
BEGIN:VEVENT
DTSTART;VALUE=DATE:26700502
SUMMARY:Sprint 3, Week 4
UID:26700502-pentaweek@local
END:VEVENT
BEGIN:VEVENT
DTSTART;VALUE=DATE:26700509
SUMMARY:Sprint 3, Week 5
UID:26700509-pentaweek@local
END:VEVENT
BEGIN:VEVENT
DTSTART;VALUE=DATE:26700516
SUMMARY:Planning Sprint 4
UID:26700516-pentaweek@local
END:VEVENT
BEGIN:VEVENT
DTSTART;VALUE=DATE:26700523
SUMMARY:Sprint 4, Week 1
UID:26700523-pentaweek@local
END:VEVENT
BEGIN:VEVENT
DTSTART;VALUE=DATE:26700530
SUMMARY:Sprint 4, Week 2
UID:26700530-pentaweek@local
END:VEVENT
BEGIN:VEVENT
DTSTART;VALUE=DATE:26700606
SUMMARY:Sprint 4, Week 3
UID:26700606-pentaweek@local
END:VEVENT
BEGIN:VEVENT
DTSTART;VALUE=DATE:26700613
SUMMARY:Sprint 4, Week 4
UID:26700613-pentaweek@local
END:VEVENT
BEGIN:VEVENT
DTSTART;VALUE=DATE:26700620
SUMMARY:Sprint 4, Week 5
UID:26700620-pentaweek@local
END:VEVENT
BEGIN:VEVENT
DTSTART;VALUE=DATE:26700711
SUMMARY:Planning Sprint 5
UID:26700711-pentaweek@local
END:VEVENT
BEGIN:VEVENT
DTSTART;VALUE=DATE:26700718
SUMMARY:Sprint 5, Week 1
UID:26700718-pentaweek@local
END:VEVENT
BEGIN:VEVENT
DTSTART;VALUE=DATE:26700725
SUMMARY:Sprint 5, Week 2
UID:26700725-pentaweek@local
END:VEVENT
BEGIN:VEVENT
DTSTART;VALUE=DATE:26700801
SUMMARY:Sprint 5, Week 3
UID:26700801-pentaweek@local
END:VEVENT
BEGIN:VEVENT
DTSTART;VALUE=DATE:26700808
SUMMARY:Sprint 5, Week 4
UID:26700808-pentaweek@local
END:VEVENT
BEGIN:VEVENT
DTSTART;VALUE=DATE:26700815
SUMMARY:Sprint 5, Week 5
UID:26700815-pentaweek@local
END:VEVENT
BEGIN:VEVENT
DTSTART;VALUE=DATE:26700822
SUMMARY:Planning Sprint 6
UID:26700822-pentaweek@local
END:VEVENT
BEGIN:VEVENT
DTSTART;VALUE=DATE:26700829
SUMMARY:Sprint 6, Week 1
UID:26700829-pentaweek@local
END:VEVENT
BEGIN:VEVENT
DTSTART;VALUE=DATE:26700905
SUMMARY:Sprint 6, Week 2
UID:26700905-pentaweek@local
END:VEVENT
BEGIN:VEVENT
DTSTART;VALUE=DATE:26700912
SUMMARY:Sprint 6, Week 3
UID:26700912-pentaweek@local
END:VEVENT
BEGIN:VEVENT
DTSTART;VALUE=DATE:26700919
SUMMARY:Sprint 6, Week 4
UID:26700919-pentaweek@local
END:VEVENT
BEGIN:VEVENT
DTSTART;VALUE=DATE:26700926
SUMMARY:Sprint 6, Week 5
UID:26700926-pentaweek@local
END:VEVENT
BEGIN:VEVENT
DTSTART;VALUE=DATE:26701003
SUMMARY:Planning Sprint 7
UID:26701003-pentaweek@local
END:VEVENT
BEGIN:VEVENT
DTSTART;VALUE=DATE:26701010
SUMMARY:Sprint 7, Week 1
UID:26701010-pentaweek@local
END:VEVENT
BEGIN:VEVENT
DTSTART;VALUE=DATE:26701017
SUMMARY:Sprint 7, Week 2
UID:26701017-pentaweek@local
END:VEVENT
BEGIN:VEVENT
DTSTART;VALUE=DATE:26701024
SUMMARY:Sprint 7, Week 3
UID:26701024-pentaweek@local
END:VEVENT
BEGIN:VEVENT
DTSTART;VALUE=DATE:26701031
SUMMARY:Sprint 7, Week 4
UID:26701031-pentaweek@local
END:VEVENT
BEGIN:VEVENT
DTSTART;VALUE=DATE:26701107
SUMMARY:Sprint 7, Week 5
UID:26701107-pentaweek@local
END:VEVENT
BEGIN:VEVENT
DTSTART;VALUE=DATE:26701114
SUMMARY:Planning Sprint 8
UID:26701114-pentaweek@local
END:VEVENT
BEGIN:VEVENT
DTSTART;VALUE=DATE:26701121
SUMMARY:Sprint 8, Week 1
UID:26701121-pentaweek@local
END:VEVENT
BEGIN:VEVENT
DTSTART;VALUE=DATE:26701128
SUMMARY:Sprint 8, Week 2
UID:26701128-pentaweek@local
END:VEVENT
BEGIN:VEVENT
DTSTART;VALUE=DATE:26701205
SUMMARY:Sprint 8, Week 3
UID:26701205-pentaweek@local
END:VEVENT
BEGIN:VEVENT
DTSTART;VALUE=DATE:26701212
SUMMARY:Sprint 8, Week 4
UID:26701212-pentaweek@local
END:VEVENT
BEGIN:VEVENT
DTSTART;VALUE=DATE:26701219
SUMMARY:Sprint 8, Week 5
UID:26701219-pentaweek@local
END:VEVENT
END:VCALENDAR