BEGIN:VCALENDAR
VERSION:2.0
PRODID:-//Pentaweek Calendar//EN
BEGIN:VEVENT
DTSTART;VALUE=DATE:26690104
SUMMARY:Planning Sprint 1
UID:26690104-pentaweek@local
END:VEVENT
BEGIN:VEVENT
DTSTART;VALUE=DATE:26690111
SUMMARY:Sprint 1, Week 1
UID:26690111-pentaweek@local
END:VEVENT
BEGIN:VEVENT
DTSTART;VALUE=DATE:26690118
SUMMARY:Sprint 1, Week 2
UID:26690118-pentaweek@local
END:VEVENT
BEGIN:VEVENT
DTSTART;VALUE=DATE:26690125
SUMMARY:Sprint 1, Week 3
UID:26690125-pentaweek@local
END:VEVENT
BEGIN:VEVENT
DTSTART;VALUE=DATE:26690201
SUMMARY:Sprint 1, Week 4
UID:26690201-pentaweek@local
END:VEVENT
BEGIN:VEVENT
DTSTART;VALUE=DATE:26690208
SUMMARY:Sprint 1, Week 5
UID:26690208-pentaweek@local
END:VEVENT
BEGIN:VEVENT
DTSTART;VALUE=DATE:26690215
SUMMARY:Planning Sprint 2
UID:26690215-pentaweek@local
END:VEVENT
BEGIN:VEVENT
DTSTART;VALUE=DATE:26690222
SUMMARY:Sprint 2, Week 1
UID:26690222-pentaweek@local
END:VEVENT
BEGIN:VEVENT
DTSTART;VALUE=DATE:26690301
SUMMARY:Sprint 2, Week 2
UID:26690301-pentaweek@local
END:VEVENT
BEGIN:VEVENT
DTSTART;VALUE=DATE:26690308
SUMMARY:Sprint 2, Week 3
UID:26690308-pentaweek@local
END:VEVENT
BEGIN:VEVENT
DTSTART;VALUE=DATE:26690315
SUMMARY:Sprint 2, Week 4
UID:26690315-pentaweek@local
END:VEVENT
BEGIN:VEVENT
DTSTART;VALUE=DATE:26690322
SUMMARY:Sprint 2, Week 5
UID:26690322-pentaweek@local
END:VEVENT
BEGIN:VEVENT
DTSTART;VALUE=DATE:26690329
SUMMARY:Planning Sprint 3
UID:26690329-pentaweek@local
END:VEVENT
BEGIN:VEVENT
DTSTART;VALUE=DATE:26690405
SUMMARY:Sprint 3, Week 1
UID:26690405-pentaweek@local
END:VEVENT
BEGIN:VEVENT
DTSTART;VALUE=DATE:26690412
SUMMARY:Sprint 3, Week 2
UID:26690412-pentaweek@local
END:VEVENT
BEGIN:VEVENT
DTSTART;VALUE=DATE:26690419
SUMMARY:Sprint 3, Week 3
UID:26690419-pentaweek@local
END:VEVENT
BEGIN:VEVENT
DTSTART;VALUE=DATE:26690426
SUMMARY:Sprint 3, Week 4
UID:26690426-pentaweek@local
END:VEVENT
BEGIN:VEVENT
DTSTART;VALUE=DATE:26690503
SUMMARY:Sprint 3, Week 5
UID:26690503-pentaweek@local
END:VEVENT
BEGIN:VEVENT
DTSTART;VALUE=DATE:26690510
SUMMARY:Planning Sprint 4
UID:26690510-pentaweek@local
END:VEVENT
BEGIN:VEVENT
DTSTART;VALUE=DATE:26690517
SUMMARY:Sprint 4, Week 1
UID:26690517-pentaweek@local
END:VEVENT
BEGIN:VEVENT
DTSTART;VALUE=DATE:26690524
SUMMARY:Sprint 4, Week 2
UID:26690524-pentaweek@local
END:VEVENT
BEGIN:VEVENT
DTSTART;VALUE=DATE:26690531
SUMMARY:Sprint 4, Week 3
UID:26690531-pentaweek@local
END:VEVENT
BEGIN:VEVENT
DTSTART;VALUE=DATE:26690607
SUMMARY:Sprint 4, Week 4
UID:26690607-pentaweek@local
END:VEVENT
BEGIN:VEVENT
DTSTART;VALUE=DATE:26690614
SUMMARY:Sprint 4, Week 5
UID:26690614-pentaweek@local
END:VEVENT
BEGIN:VEVENT
DTSTART;VALUE=DATE:26690705
SUMMARY:Planning Sprint 5
UID:26690705-pentaweek@local
END:VEVENT
BEGIN:VEVENT
DTSTART;VALUE=DATE:26690712
SUMMARY:Sprint 5, Week 1
UID:26690712-pentaweek@local
END:VEVENT
BEGIN:VEVENT
DTSTART;VALUE=DATE:26690719
SUMMARY:Sprint 5, Week 2
UID:26690719-pentaweek@local
END:VEVENT
BEGIN:VEVENT
DTSTART;VALUE=DATE:26690726
SUMMARY:Sprint 5, Week 3
UID:26690726-pentaweek@local
END:VEVENT
BEGIN:VEVENT
DTSTART;VALUE=DATE:26690802
SUMMARY:Sprint 5, Week 4
UID:26690802-pentaweek@local
END:VEVENT
BEGIN:VEVENT
DTSTART;VALUE=DATE:26690809
SUMMARY:Sprint 5, Week 5
UID:26690809-pentaweek@local
END:VEVENT
BEGIN:VEVENT
DTSTART;VALUE=DATE:26690816
SUMMARY:Planning Sprint 6
UID:26690816-pentaweek@local
END:VEVENT
BEGIN:VEVENT
DTSTART;VALUE=DATE:26690823
SUMMARY:Sprint 6, Week 1
UID:26690823-pentaweek@local
END:VEVENT
BEGIN:VEVENT
DTSTART;VALUE=DATE:26690830
SUMMARY:Sprint 6, Week 2
UID:26690830-pentaweek@local
END:VEVENT
BEGIN:VEVENT
DTSTART;VALUE=DATE:26690906
SUMMARY:Sprint 6, Week 3
UID:26690906-pentaweek@local
END:VEVENT
BEGIN:VEVENT
DTSTART;VALUE=DATE:26690913
SUMMARY:Sprint 6, Week 4
UID:26690913-pentaweek@local
END:VEVENT
BEGIN:VEVENT
DTSTART;VALUE=DATE:26690920
SUMMARY:Sprint 6, Week 5
UID:26690920-pentaweek@local
END:VEVENT
BEGIN:VEVENT
DTSTART;VALUE=DATE:26690927
SUMMARY:Planning Sprint 7
UID:26690927-pentaweek@local
END:VEVENT
BEGIN:VEVENT
DTSTART;VALUE=DATE:26691004
SUMMARY:Sprint 7, Week 1
UID:26691004-pentaweek@local
END:VEVENT
BEGIN:VEVENT
DTSTART;VALUE=DATE:26691011
SUMMARY:Sprint 7, Week 2
UID:26691011-pentaweek@local
END:VEVENT
BEGIN:VEVENT
DTSTART;VALUE=DATE:26691018
SUMMARY:Sprint 7, Week 3
UID:26691018-pentaweek@local
END:VEVENT
BEGIN:VEVENT
DTSTART;VALUE=DATE:26691025
SUMMARY:Sprint 7, Week 4
UID:26691025-pentaweek@local
END:VEVENT
BEGIN:VEVENT
DTSTART;VALUE=DATE:26691101
SUMMARY:Sprint 7, Week 5
UID:26691101-pentaweek@local
END:VEVENT
BEGIN:VEVENT
DTSTART;VALUE=DATE:26691108
SUMMARY:Planning Sprint 8
UID:26691108-pentaweek@local
END:VEVENT
BEGIN:VEVENT
DTSTART;VALUE=DATE:26691115
SUMMARY:Sprint 8, Week 1
UID:26691115-pentaweek@local
END:VEVENT
BEGIN:VEVENT
DTSTART;VALUE=DATE:26691122
SUMMARY:Sprint 8, Week 2
UID:26691122-pentaweek@local
END:VEVENT
BEGIN:VEVENT
DTSTART;VALUE=DATE:26691129
SUMMARY:Sprint 8, Week 3
UID:26691129-pentaweek@local
END:VEVENT
BEGIN:VEVENT
DTSTART;VALUE=DATE:26691206
SUMMARY:Sprint 8, Week 4
UID:26691206-pentaweek@local
END:VEVENT
BEGIN:VEVENT
DTSTART;VALUE=DATE:26691213
SUMMARY:Sprint 8, Week 5
UID:26691213-pentaweek@local
END:VEVENT
END:VCALENDAR