BEGIN:VCALENDAR
VERSION:2.0
PRODID:-//Pentaweek Calendar//EN
BEGIN:VEVENT
DTSTART;VALUE=DATE:26680106
SUMMARY:Planning Sprint 1
UID:26680106-pentaweek@local
END:VEVENT
BEGIN:VEVENT
DTSTART;VALUE=DATE:26680113
SUMMARY:Sprint 1, Week 1
UID:26680113-pentaweek@local
END:VEVENT
BEGIN:VEVENT
DTSTART;VALUE=DATE:26680120
SUMMARY:Sprint 1, Week 2
UID:26680120-pentaweek@local
END:VEVENT
BEGIN:VEVENT
DTSTART;VALUE=DATE:26680127
SUMMARY:Sprint 1, Week 3
UID:26680127-pentaweek@local
END:VEVENT
BEGIN:VEVENT
DTSTART;VALUE=DATE:26680203
SUMMARY:Sprint 1, Week 4
UID:26680203-pentaweek@local
END:VEVENT
BEGIN:VEVENT
DTSTART;VALUE=DATE:26680210
SUMMARY:Sprint 1, Week 5
UID:26680210-pentaweek@local
END:VEVENT
BEGIN:VEVENT
DTSTART;VALUE=DATE:26680217
SUMMARY:Planning Sprint 2
UID:26680217-pentaweek@local
END:VEVENT
BEGIN:VEVENT
DTSTART;VALUE=DATE:26680224
SUMMARY:Sprint 2, Week 1
UID:26680224-pentaweek@local
END:VEVENT
BEGIN:VEVENT
DTSTART;VALUE=DATE:26680302
SUMMARY:Sprint 2, Week 2
UID:26680302-pentaweek@local
END:VEVENT
BEGIN:VEVENT
DTSTART;VALUE=DATE:26680309
SUMMARY:Sprint 2, Week 3
UID:26680309-pentaweek@local
END:VEVENT
BEGIN:VEVENT
DTSTART;VALUE=DATE:26680316
SUMMARY:Sprint 2, Week 4
UID:26680316-pentaweek@local
END:VEVENT
BEGIN:VEVENT
DTSTART;VALUE=DATE:26680323
SUMMARY:Sprint 2, Week 5
UID:26680323-pentaweek@local
END:VEVENT
BEGIN:VEVENT
DTSTART;VALUE=DATE:26680330
SUMMARY:Planning Sprint 3
UID:26680330-pentaweek@local
END:VEVENT
BEGIN:VEVENT
DTSTART;VALUE=DATE:26680406
SUMMARY:Sprint 3, Week 1
UID:26680406-pentaweek@local
END:VEVENT
BEGIN:VEVENT
DTSTART;VALUE=DATE:26680413
SUMMARY:Sprint 3, Week 2
UID:26680413-pentaweek@local
END:VEVENT
BEGIN:VEVENT
DTSTART;VALUE=DATE:26680420
SUMMARY:Sprint 3, Week 3
UID:26680420-pentaweek@local
END:VEVENT
BEGIN:VEVENT
DTSTART;VALUE=DATE:26680427
SUMMARY:Sprint 3, Week 4
UID:26680427-pentaweek@local
END:VEVENT
BEGIN:VEVENT
DTSTART;VALUE=DATE:26680504
SUMMARY:Sprint 3, Week 5
UID:26680504-pentaweek@local
END:VEVENT
BEGIN:VEVENT
DTSTART;VALUE=DATE:26680511
SUMMARY:Planning Sprint 4
UID:26680511-pentaweek@local
END:VEVENT
BEGIN:VEVENT
DTSTART;VALUE=DATE:26680518
SUMMARY:Sprint 4, Week 1
UID:26680518-pentaweek@local
END:VEVENT
BEGIN:VEVENT
DTSTART;VALUE=DATE:26680525
SUMMARY:Sprint 4, Week 2
UID:26680525-pentaweek@local
END:VEVENT
BEGIN:VEVENT
DTSTART;VALUE=DATE:26680601
SUMMARY:Sprint 4, Week 3
UID:26680601-pentaweek@local
END:VEVENT
BEGIN:VEVENT
DTSTART;VALUE=DATE:26680608
SUMMARY:Sprint 4, Week 4
UID:26680608-pentaweek@local
END:VEVENT
BEGIN:VEVENT
DTSTART;VALUE=DATE:26680615
SUMMARY:Sprint 4, Week 5
UID:26680615-pentaweek@local
END:VEVENT
BEGIN:VEVENT
DTSTART;VALUE=DATE:26680706
SUMMARY:Planning Sprint 5
UID:26680706-pentaweek@local
END:VEVENT
BEGIN:VEVENT
DTSTART;VALUE=DATE:26680713
SUMMARY:Sprint 5, Week 1
UID:26680713-pentaweek@local
END:VEVENT
BEGIN:VEVENT
DTSTART;VALUE=DATE:26680720
SUMMARY:Sprint 5, Week 2
UID:26680720-pentaweek@local
END:VEVENT
BEGIN:VEVENT
DTSTART;VALUE=DATE:26680727
SUMMARY:Sprint 5, Week 3
UID:26680727-pentaweek@local
END:VEVENT
BEGIN:VEVENT
DTSTART;VALUE=DATE:26680803
SUMMARY:Sprint 5, Week 4
UID:26680803-pentaweek@local
END:VEVENT
BEGIN:VEVENT
DTSTART;VALUE=DATE:26680810
SUMMARY:Sprint 5, Week 5
UID:26680810-pentaweek@local
END:VEVENT
BEGIN:VEVENT
DTSTART;VALUE=DATE:26680817
SUMMARY:Planning Sprint 6
UID:26680817-pentaweek@local
END:VEVENT
BEGIN:VEVENT
DTSTART;VALUE=DATE:26680824
SUMMARY:Sprint 6, Week 1
UID:26680824-pentaweek@local
END:VEVENT
BEGIN:VEVENT
DTSTART;VALUE=DATE:26680831
SUMMARY:Sprint 6, Week 2
UID:26680831-pentaweek@local
END:VEVENT
BEGIN:VEVENT
DTSTART;VALUE=DATE:26680907
SUMMARY:Sprint 6, Week 3
UID:26680907-pentaweek@local
END:VEVENT
BEGIN:VEVENT
DTSTART;VALUE=DATE:26680914
SUMMARY:Sprint 6, Week 4
UID:26680914-pentaweek@local
END:VEVENT
BEGIN:VEVENT
DTSTART;VALUE=DATE:26680921
SUMMARY:Sprint 6, Week 5
UID:26680921-pentaweek@local
END:VEVENT
BEGIN:VEVENT
DTSTART;VALUE=DATE:26680928
SUMMARY:Planning Sprint 7
UID:26680928-pentaweek@local
END:VEVENT
BEGIN:VEVENT
DTSTART;VALUE=DATE:26681005
SUMMARY:Sprint 7, Week 1
UID:26681005-pentaweek@local
END:VEVENT
BEGIN:VEVENT
DTSTART;VALUE=DATE:26681012
SUMMARY:Sprint 7, Week 2
UID:26681012-pentaweek@local
END:VEVENT
BEGIN:VEVENT
DTSTART;VALUE=DATE:26681019
SUMMARY:Sprint 7, Week 3
UID:26681019-pentaweek@local
END:VEVENT
BEGIN:VEVENT
DTSTART;VALUE=DATE:26681026
SUMMARY:Sprint 7, Week 4
UID:26681026-pentaweek@local
END:VEVENT
BEGIN:VEVENT
DTSTART;VALUE=DATE:26681102
SUMMARY:Sprint 7, Week 5
UID:26681102-pentaweek@local
END:VEVENT
BEGIN:VEVENT
DTSTART;VALUE=DATE:26681109
SUMMARY:Planning Sprint 8
UID:26681109-pentaweek@local
END:VEVENT
BEGIN:VEVENT
DTSTART;VALUE=DATE:26681116
SUMMARY:Sprint 8, Week 1
UID:26681116-pentaweek@local
END:VEVENT
BEGIN:VEVENT
DTSTART;VALUE=DATE:26681123
SUMMARY:Sprint 8, Week 2
UID:26681123-pentaweek@local
END:VEVENT
BEGIN:VEVENT
DTSTART;VALUE=DATE:26681130
SUMMARY:Sprint 8, Week 3
UID:26681130-pentaweek@local
END:VEVENT
BEGIN:VEVENT
DTSTART;VALUE=DATE:26681207
SUMMARY:Sprint 8, Week 4
UID:26681207-pentaweek@local
END:VEVENT
BEGIN:VEVENT
DTSTART;VALUE=DATE:26681214
SUMMARY:Sprint 8, Week 5
UID:26681214-pentaweek@local
END:VEVENT
END:VCALENDAR