BEGIN:VCALENDAR
VERSION:2.0
PRODID:-//Pentaweek Calendar//EN
BEGIN:VEVENT
DTSTART;VALUE=DATE:26670107
SUMMARY:Planning Sprint 1
UID:26670107-pentaweek@local
END:VEVENT
BEGIN:VEVENT
DTSTART;VALUE=DATE:26670114
SUMMARY:Sprint 1, Week 1
UID:26670114-pentaweek@local
END:VEVENT
BEGIN:VEVENT
DTSTART;VALUE=DATE:26670121
SUMMARY:Sprint 1, Week 2
UID:26670121-pentaweek@local
END:VEVENT
BEGIN:VEVENT
DTSTART;VALUE=DATE:26670128
SUMMARY:Sprint 1, Week 3
UID:26670128-pentaweek@local
END:VEVENT
BEGIN:VEVENT
DTSTART;VALUE=DATE:26670204
SUMMARY:Sprint 1, Week 4
UID:26670204-pentaweek@local
END:VEVENT
BEGIN:VEVENT
DTSTART;VALUE=DATE:26670211
SUMMARY:Sprint 1, Week 5
UID:26670211-pentaweek@local
END:VEVENT
BEGIN:VEVENT
DTSTART;VALUE=DATE:26670218
SUMMARY:Planning Sprint 2
UID:26670218-pentaweek@local
END:VEVENT
BEGIN:VEVENT
DTSTART;VALUE=DATE:26670225
SUMMARY:Sprint 2, Week 1
UID:26670225-pentaweek@local
END:VEVENT
BEGIN:VEVENT
DTSTART;VALUE=DATE:26670304
SUMMARY:Sprint 2, Week 2
UID:26670304-pentaweek@local
END:VEVENT
BEGIN:VEVENT
DTSTART;VALUE=DATE:26670311
SUMMARY:Sprint 2, Week 3
UID:26670311-pentaweek@local
END:VEVENT
BEGIN:VEVENT
DTSTART;VALUE=DATE:26670318
SUMMARY:Sprint 2, Week 4
UID:26670318-pentaweek@local
END:VEVENT
BEGIN:VEVENT
DTSTART;VALUE=DATE:26670325
SUMMARY:Sprint 2, Week 5
UID:26670325-pentaweek@local
END:VEVENT
BEGIN:VEVENT
DTSTART;VALUE=DATE:26670401
SUMMARY:Planning Sprint 3
UID:26670401-pentaweek@local
END:VEVENT
BEGIN:VEVENT
DTSTART;VALUE=DATE:26670408
SUMMARY:Sprint 3, Week 1
UID:26670408-pentaweek@local
END:VEVENT
BEGIN:VEVENT
DTSTART;VALUE=DATE:26670415
SUMMARY:Sprint 3, Week 2
UID:26670415-pentaweek@local
END:VEVENT
BEGIN:VEVENT
DTSTART;VALUE=DATE:26670422
SUMMARY:Sprint 3, Week 3
UID:26670422-pentaweek@local
END:VEVENT
BEGIN:VEVENT
DTSTART;VALUE=DATE:26670429
SUMMARY:Sprint 3, Week 4
UID:26670429-pentaweek@local
END:VEVENT
BEGIN:VEVENT
DTSTART;VALUE=DATE:26670506
SUMMARY:Sprint 3, Week 5
UID:26670506-pentaweek@local
END:VEVENT
BEGIN:VEVENT
DTSTART;VALUE=DATE:26670513
SUMMARY:Planning Sprint 4
UID:26670513-pentaweek@local
END:VEVENT
BEGIN:VEVENT
DTSTART;VALUE=DATE:26670520
SUMMARY:Sprint 4, Week 1
UID:26670520-pentaweek@local
END:VEVENT
BEGIN:VEVENT
DTSTART;VALUE=DATE:26670527
SUMMARY:Sprint 4, Week 2
UID:26670527-pentaweek@local
END:VEVENT
BEGIN:VEVENT
DTSTART;VALUE=DATE:26670603
SUMMARY:Sprint 4, Week 3
UID:26670603-pentaweek@local
END:VEVENT
BEGIN:VEVENT
DTSTART;VALUE=DATE:26670610
SUMMARY:Sprint 4, Week 4
UID:26670610-pentaweek@local
END:VEVENT
BEGIN:VEVENT
DTSTART;VALUE=DATE:26670617
SUMMARY:Sprint 4, Week 5
UID:26670617-pentaweek@local
END:VEVENT
BEGIN:VEVENT
DTSTART;VALUE=DATE:26670708
SUMMARY:Planning Sprint 5
UID:26670708-pentaweek@local
END:VEVENT
BEGIN:VEVENT
DTSTART;VALUE=DATE:26670715
SUMMARY:Sprint 5, Week 1
UID:26670715-pentaweek@local
END:VEVENT
BEGIN:VEVENT
DTSTART;VALUE=DATE:26670722
SUMMARY:Sprint 5, Week 2
UID:26670722-pentaweek@local
END:VEVENT
BEGIN:VEVENT
DTSTART;VALUE=DATE:26670729
SUMMARY:Sprint 5, Week 3
UID:26670729-pentaweek@local
END:VEVENT
BEGIN:VEVENT
DTSTART;VALUE=DATE:26670805
SUMMARY:Sprint 5, Week 4
UID:26670805-pentaweek@local
END:VEVENT
BEGIN:VEVENT
DTSTART;VALUE=DATE:26670812
SUMMARY:Sprint 5, Week 5
UID:26670812-pentaweek@local
END:VEVENT
BEGIN:VEVENT
DTSTART;VALUE=DATE:26670819
SUMMARY:Planning Sprint 6
UID:26670819-pentaweek@local
END:VEVENT
BEGIN:VEVENT
DTSTART;VALUE=DATE:26670826
SUMMARY:Sprint 6, Week 1
UID:26670826-pentaweek@local
END:VEVENT
BEGIN:VEVENT
DTSTART;VALUE=DATE:26670902
SUMMARY:Sprint 6, Week 2
UID:26670902-pentaweek@local
END:VEVENT
BEGIN:VEVENT
DTSTART;VALUE=DATE:26670909
SUMMARY:Sprint 6, Week 3
UID:26670909-pentaweek@local
END:VEVENT
BEGIN:VEVENT
DTSTART;VALUE=DATE:26670916
SUMMARY:Sprint 6, Week 4
UID:26670916-pentaweek@local
END:VEVENT
BEGIN:VEVENT
DTSTART;VALUE=DATE:26670923
SUMMARY:Sprint 6, Week 5
UID:26670923-pentaweek@local
END:VEVENT
BEGIN:VEVENT
DTSTART;VALUE=DATE:26670930
SUMMARY:Planning Sprint 7
UID:26670930-pentaweek@local
END:VEVENT
BEGIN:VEVENT
DTSTART;VALUE=DATE:26671007
SUMMARY:Sprint 7, Week 1
UID:26671007-pentaweek@local
END:VEVENT
BEGIN:VEVENT
DTSTART;VALUE=DATE:26671014
SUMMARY:Sprint 7, Week 2
UID:26671014-pentaweek@local
END:VEVENT
BEGIN:VEVENT
DTSTART;VALUE=DATE:26671021
SUMMARY:Sprint 7, Week 3
UID:26671021-pentaweek@local
END:VEVENT
BEGIN:VEVENT
DTSTART;VALUE=DATE:26671028
SUMMARY:Sprint 7, Week 4
UID:26671028-pentaweek@local
END:VEVENT
BEGIN:VEVENT
DTSTART;VALUE=DATE:26671104
SUMMARY:Sprint 7, Week 5
UID:26671104-pentaweek@local
END:VEVENT
BEGIN:VEVENT
DTSTART;VALUE=DATE:26671111
SUMMARY:Planning Sprint 8
UID:26671111-pentaweek@local
END:VEVENT
BEGIN:VEVENT
DTSTART;VALUE=DATE:26671118
SUMMARY:Sprint 8, Week 1
UID:26671118-pentaweek@local
END:VEVENT
BEGIN:VEVENT
DTSTART;VALUE=DATE:26671125
SUMMARY:Sprint 8, Week 2
UID:26671125-pentaweek@local
END:VEVENT
BEGIN:VEVENT
DTSTART;VALUE=DATE:26671202
SUMMARY:Sprint 8, Week 3
UID:26671202-pentaweek@local
END:VEVENT
BEGIN:VEVENT
DTSTART;VALUE=DATE:26671209
SUMMARY:Sprint 8, Week 4
UID:26671209-pentaweek@local
END:VEVENT
BEGIN:VEVENT
DTSTART;VALUE=DATE:26671216
SUMMARY:Sprint 8, Week 5
UID:26671216-pentaweek@local
END:VEVENT
END:VCALENDAR