BEGIN:VCALENDAR
VERSION:2.0
PRODID:-//Pentaweek Calendar//EN
BEGIN:VEVENT
DTSTART;VALUE=DATE:26660108
SUMMARY:Planning Sprint 1
UID:26660108-pentaweek@local
END:VEVENT
BEGIN:VEVENT
DTSTART;VALUE=DATE:26660115
SUMMARY:Sprint 1, Week 1
UID:26660115-pentaweek@local
END:VEVENT
BEGIN:VEVENT
DTSTART;VALUE=DATE:26660122
SUMMARY:Sprint 1, Week 2
UID:26660122-pentaweek@local
END:VEVENT
BEGIN:VEVENT
DTSTART;VALUE=DATE:26660129
SUMMARY:Sprint 1, Week 3
UID:26660129-pentaweek@local
END:VEVENT
BEGIN:VEVENT
DTSTART;VALUE=DATE:26660205
SUMMARY:Sprint 1, Week 4
UID:26660205-pentaweek@local
END:VEVENT
BEGIN:VEVENT
DTSTART;VALUE=DATE:26660212
SUMMARY:Sprint 1, Week 5
UID:26660212-pentaweek@local
END:VEVENT
BEGIN:VEVENT
DTSTART;VALUE=DATE:26660219
SUMMARY:Planning Sprint 2
UID:26660219-pentaweek@local
END:VEVENT
BEGIN:VEVENT
DTSTART;VALUE=DATE:26660226
SUMMARY:Sprint 2, Week 1
UID:26660226-pentaweek@local
END:VEVENT
BEGIN:VEVENT
DTSTART;VALUE=DATE:26660305
SUMMARY:Sprint 2, Week 2
UID:26660305-pentaweek@local
END:VEVENT
BEGIN:VEVENT
DTSTART;VALUE=DATE:26660312
SUMMARY:Sprint 2, Week 3
UID:26660312-pentaweek@local
END:VEVENT
BEGIN:VEVENT
DTSTART;VALUE=DATE:26660319
SUMMARY:Sprint 2, Week 4
UID:26660319-pentaweek@local
END:VEVENT
BEGIN:VEVENT
DTSTART;VALUE=DATE:26660326
SUMMARY:Sprint 2, Week 5
UID:26660326-pentaweek@local
END:VEVENT
BEGIN:VEVENT
DTSTART;VALUE=DATE:26660402
SUMMARY:Planning Sprint 3
UID:26660402-pentaweek@local
END:VEVENT
BEGIN:VEVENT
DTSTART;VALUE=DATE:26660409
SUMMARY:Sprint 3, Week 1
UID:26660409-pentaweek@local
END:VEVENT
BEGIN:VEVENT
DTSTART;VALUE=DATE:26660416
SUMMARY:Sprint 3, Week 2
UID:26660416-pentaweek@local
END:VEVENT
BEGIN:VEVENT
DTSTART;VALUE=DATE:26660423
SUMMARY:Sprint 3, Week 3
UID:26660423-pentaweek@local
END:VEVENT
BEGIN:VEVENT
DTSTART;VALUE=DATE:26660430
SUMMARY:Sprint 3, Week 4
UID:26660430-pentaweek@local
END:VEVENT
BEGIN:VEVENT
DTSTART;VALUE=DATE:26660507
SUMMARY:Sprint 3, Week 5
UID:26660507-pentaweek@local
END:VEVENT
BEGIN:VEVENT
DTSTART;VALUE=DATE:26660514
SUMMARY:Planning Sprint 4
UID:26660514-pentaweek@local
END:VEVENT
BEGIN:VEVENT
DTSTART;VALUE=DATE:26660521
SUMMARY:Sprint 4, Week 1
UID:26660521-pentaweek@local
END:VEVENT
BEGIN:VEVENT
DTSTART;VALUE=DATE:26660528
SUMMARY:Sprint 4, Week 2
UID:26660528-pentaweek@local
END:VEVENT
BEGIN:VEVENT
DTSTART;VALUE=DATE:26660604
SUMMARY:Sprint 4, Week 3
UID:26660604-pentaweek@local
END:VEVENT
BEGIN:VEVENT
DTSTART;VALUE=DATE:26660611
SUMMARY:Sprint 4, Week 4
UID:26660611-pentaweek@local
END:VEVENT
BEGIN:VEVENT
DTSTART;VALUE=DATE:26660618
SUMMARY:Sprint 4, Week 5
UID:26660618-pentaweek@local
END:VEVENT
BEGIN:VEVENT
DTSTART;VALUE=DATE:26660709
SUMMARY:Planning Sprint 5
UID:26660709-pentaweek@local
END:VEVENT
BEGIN:VEVENT
DTSTART;VALUE=DATE:26660716
SUMMARY:Sprint 5, Week 1
UID:26660716-pentaweek@local
END:VEVENT
BEGIN:VEVENT
DTSTART;VALUE=DATE:26660723
SUMMARY:Sprint 5, Week 2
UID:26660723-pentaweek@local
END:VEVENT
BEGIN:VEVENT
DTSTART;VALUE=DATE:26660730
SUMMARY:Sprint 5, Week 3
UID:26660730-pentaweek@local
END:VEVENT
BEGIN:VEVENT
DTSTART;VALUE=DATE:26660806
SUMMARY:Sprint 5, Week 4
UID:26660806-pentaweek@local
END:VEVENT
BEGIN:VEVENT
DTSTART;VALUE=DATE:26660813
SUMMARY:Sprint 5, Week 5
UID:26660813-pentaweek@local
END:VEVENT
BEGIN:VEVENT
DTSTART;VALUE=DATE:26660820
SUMMARY:Planning Sprint 6
UID:26660820-pentaweek@local
END:VEVENT
BEGIN:VEVENT
DTSTART;VALUE=DATE:26660827
SUMMARY:Sprint 6, Week 1
UID:26660827-pentaweek@local
END:VEVENT
BEGIN:VEVENT
DTSTART;VALUE=DATE:26660903
SUMMARY:Sprint 6, Week 2
UID:26660903-pentaweek@local
END:VEVENT
BEGIN:VEVENT
DTSTART;VALUE=DATE:26660910
SUMMARY:Sprint 6, Week 3
UID:26660910-pentaweek@local
END:VEVENT
BEGIN:VEVENT
DTSTART;VALUE=DATE:26660917
SUMMARY:Sprint 6, Week 4
UID:26660917-pentaweek@local
END:VEVENT
BEGIN:VEVENT
DTSTART;VALUE=DATE:26660924
SUMMARY:Sprint 6, Week 5
UID:26660924-pentaweek@local
END:VEVENT
BEGIN:VEVENT
DTSTART;VALUE=DATE:26661001
SUMMARY:Planning Sprint 7
UID:26661001-pentaweek@local
END:VEVENT
BEGIN:VEVENT
DTSTART;VALUE=DATE:26661008
SUMMARY:Sprint 7, Week 1
UID:26661008-pentaweek@local
END:VEVENT
BEGIN:VEVENT
DTSTART;VALUE=DATE:26661015
SUMMARY:Sprint 7, Week 2
UID:26661015-pentaweek@local
END:VEVENT
BEGIN:VEVENT
DTSTART;VALUE=DATE:26661022
SUMMARY:Sprint 7, Week 3
UID:26661022-pentaweek@local
END:VEVENT
BEGIN:VEVENT
DTSTART;VALUE=DATE:26661029
SUMMARY:Sprint 7, Week 4
UID:26661029-pentaweek@local
END:VEVENT
BEGIN:VEVENT
DTSTART;VALUE=DATE:26661105
SUMMARY:Sprint 7, Week 5
UID:26661105-pentaweek@local
END:VEVENT
BEGIN:VEVENT
DTSTART;VALUE=DATE:26661112
SUMMARY:Planning Sprint 8
UID:26661112-pentaweek@local
END:VEVENT
BEGIN:VEVENT
DTSTART;VALUE=DATE:26661119
SUMMARY:Sprint 8, Week 1
UID:26661119-pentaweek@local
END:VEVENT
BEGIN:VEVENT
DTSTART;VALUE=DATE:26661126
SUMMARY:Sprint 8, Week 2
UID:26661126-pentaweek@local
END:VEVENT
BEGIN:VEVENT
DTSTART;VALUE=DATE:26661203
SUMMARY:Sprint 8, Week 3
UID:26661203-pentaweek@local
END:VEVENT
BEGIN:VEVENT
DTSTART;VALUE=DATE:26661210
SUMMARY:Sprint 8, Week 4
UID:26661210-pentaweek@local
END:VEVENT
BEGIN:VEVENT
DTSTART;VALUE=DATE:26661217
SUMMARY:Sprint 8, Week 5
UID:26661217-pentaweek@local
END:VEVENT
END:VCALENDAR