BEGIN:VCALENDAR
VERSION:2.0
PRODID:-//Pentaweek Calendar//EN
BEGIN:VEVENT
DTSTART;VALUE=DATE:26650109
SUMMARY:Planning Sprint 1
UID:26650109-pentaweek@local
END:VEVENT
BEGIN:VEVENT
DTSTART;VALUE=DATE:26650116
SUMMARY:Sprint 1, Week 1
UID:26650116-pentaweek@local
END:VEVENT
BEGIN:VEVENT
DTSTART;VALUE=DATE:26650123
SUMMARY:Sprint 1, Week 2
UID:26650123-pentaweek@local
END:VEVENT
BEGIN:VEVENT
DTSTART;VALUE=DATE:26650130
SUMMARY:Sprint 1, Week 3
UID:26650130-pentaweek@local
END:VEVENT
BEGIN:VEVENT
DTSTART;VALUE=DATE:26650206
SUMMARY:Sprint 1, Week 4
UID:26650206-pentaweek@local
END:VEVENT
BEGIN:VEVENT
DTSTART;VALUE=DATE:26650213
SUMMARY:Sprint 1, Week 5
UID:26650213-pentaweek@local
END:VEVENT
BEGIN:VEVENT
DTSTART;VALUE=DATE:26650220
SUMMARY:Planning Sprint 2
UID:26650220-pentaweek@local
END:VEVENT
BEGIN:VEVENT
DTSTART;VALUE=DATE:26650227
SUMMARY:Sprint 2, Week 1
UID:26650227-pentaweek@local
END:VEVENT
BEGIN:VEVENT
DTSTART;VALUE=DATE:26650306
SUMMARY:Sprint 2, Week 2
UID:26650306-pentaweek@local
END:VEVENT
BEGIN:VEVENT
DTSTART;VALUE=DATE:26650313
SUMMARY:Sprint 2, Week 3
UID:26650313-pentaweek@local
END:VEVENT
BEGIN:VEVENT
DTSTART;VALUE=DATE:26650320
SUMMARY:Sprint 2, Week 4
UID:26650320-pentaweek@local
END:VEVENT
BEGIN:VEVENT
DTSTART;VALUE=DATE:26650327
SUMMARY:Sprint 2, Week 5
UID:26650327-pentaweek@local
END:VEVENT
BEGIN:VEVENT
DTSTART;VALUE=DATE:26650403
SUMMARY:Planning Sprint 3
UID:26650403-pentaweek@local
END:VEVENT
BEGIN:VEVENT
DTSTART;VALUE=DATE:26650410
SUMMARY:Sprint 3, Week 1
UID:26650410-pentaweek@local
END:VEVENT
BEGIN:VEVENT
DTSTART;VALUE=DATE:26650417
SUMMARY:Sprint 3, Week 2
UID:26650417-pentaweek@local
END:VEVENT
BEGIN:VEVENT
DTSTART;VALUE=DATE:26650424
SUMMARY:Sprint 3, Week 3
UID:26650424-pentaweek@local
END:VEVENT
BEGIN:VEVENT
DTSTART;VALUE=DATE:26650501
SUMMARY:Sprint 3, Week 4
UID:26650501-pentaweek@local
END:VEVENT
BEGIN:VEVENT
DTSTART;VALUE=DATE:26650508
SUMMARY:Sprint 3, Week 5
UID:26650508-pentaweek@local
END:VEVENT
BEGIN:VEVENT
DTSTART;VALUE=DATE:26650515
SUMMARY:Planning Sprint 4
UID:26650515-pentaweek@local
END:VEVENT
BEGIN:VEVENT
DTSTART;VALUE=DATE:26650522
SUMMARY:Sprint 4, Week 1
UID:26650522-pentaweek@local
END:VEVENT
BEGIN:VEVENT
DTSTART;VALUE=DATE:26650529
SUMMARY:Sprint 4, Week 2
UID:26650529-pentaweek@local
END:VEVENT
BEGIN:VEVENT
DTSTART;VALUE=DATE:26650605
SUMMARY:Sprint 4, Week 3
UID:26650605-pentaweek@local
END:VEVENT
BEGIN:VEVENT
DTSTART;VALUE=DATE:26650612
SUMMARY:Sprint 4, Week 4
UID:26650612-pentaweek@local
END:VEVENT
BEGIN:VEVENT
DTSTART;VALUE=DATE:26650619
SUMMARY:Sprint 4, Week 5
UID:26650619-pentaweek@local
END:VEVENT
BEGIN:VEVENT
DTSTART;VALUE=DATE:26650710
SUMMARY:Planning Sprint 5
UID:26650710-pentaweek@local
END:VEVENT
BEGIN:VEVENT
DTSTART;VALUE=DATE:26650717
SUMMARY:Sprint 5, Week 1
UID:26650717-pentaweek@local
END:VEVENT
BEGIN:VEVENT
DTSTART;VALUE=DATE:26650724
SUMMARY:Sprint 5, Week 2
UID:26650724-pentaweek@local
END:VEVENT
BEGIN:VEVENT
DTSTART;VALUE=DATE:26650731
SUMMARY:Sprint 5, Week 3
UID:26650731-pentaweek@local
END:VEVENT
BEGIN:VEVENT
DTSTART;VALUE=DATE:26650807
SUMMARY:Sprint 5, Week 4
UID:26650807-pentaweek@local
END:VEVENT
BEGIN:VEVENT
DTSTART;VALUE=DATE:26650814
SUMMARY:Sprint 5, Week 5
UID:26650814-pentaweek@local
END:VEVENT
BEGIN:VEVENT
DTSTART;VALUE=DATE:26650821
SUMMARY:Planning Sprint 6
UID:26650821-pentaweek@local
END:VEVENT
BEGIN:VEVENT
DTSTART;VALUE=DATE:26650828
SUMMARY:Sprint 6, Week 1
UID:26650828-pentaweek@local
END:VEVENT
BEGIN:VEVENT
DTSTART;VALUE=DATE:26650904
SUMMARY:Sprint 6, Week 2
UID:26650904-pentaweek@local
END:VEVENT
BEGIN:VEVENT
DTSTART;VALUE=DATE:26650911
SUMMARY:Sprint 6, Week 3
UID:26650911-pentaweek@local
END:VEVENT
BEGIN:VEVENT
DTSTART;VALUE=DATE:26650918
SUMMARY:Sprint 6, Week 4
UID:26650918-pentaweek@local
END:VEVENT
BEGIN:VEVENT
DTSTART;VALUE=DATE:26650925
SUMMARY:Sprint 6, Week 5
UID:26650925-pentaweek@local
END:VEVENT
BEGIN:VEVENT
DTSTART;VALUE=DATE:26651002
SUMMARY:Planning Sprint 7
UID:26651002-pentaweek@local
END:VEVENT
BEGIN:VEVENT
DTSTART;VALUE=DATE:26651009
SUMMARY:Sprint 7, Week 1
UID:26651009-pentaweek@local
END:VEVENT
BEGIN:VEVENT
DTSTART;VALUE=DATE:26651016
SUMMARY:Sprint 7, Week 2
UID:26651016-pentaweek@local
END:VEVENT
BEGIN:VEVENT
DTSTART;VALUE=DATE:26651023
SUMMARY:Sprint 7, Week 3
UID:26651023-pentaweek@local
END:VEVENT
BEGIN:VEVENT
DTSTART;VALUE=DATE:26651030
SUMMARY:Sprint 7, Week 4
UID:26651030-pentaweek@local
END:VEVENT
BEGIN:VEVENT
DTSTART;VALUE=DATE:26651106
SUMMARY:Sprint 7, Week 5
UID:26651106-pentaweek@local
END:VEVENT
BEGIN:VEVENT
DTSTART;VALUE=DATE:26651113
SUMMARY:Planning Sprint 8
UID:26651113-pentaweek@local
END:VEVENT
BEGIN:VEVENT
DTSTART;VALUE=DATE:26651120
SUMMARY:Sprint 8, Week 1
UID:26651120-pentaweek@local
END:VEVENT
BEGIN:VEVENT
DTSTART;VALUE=DATE:26651127
SUMMARY:Sprint 8, Week 2
UID:26651127-pentaweek@local
END:VEVENT
BEGIN:VEVENT
DTSTART;VALUE=DATE:26651204
SUMMARY:Sprint 8, Week 3
UID:26651204-pentaweek@local
END:VEVENT
BEGIN:VEVENT
DTSTART;VALUE=DATE:26651211
SUMMARY:Sprint 8, Week 4
UID:26651211-pentaweek@local
END:VEVENT
BEGIN:VEVENT
DTSTART;VALUE=DATE:26651218
SUMMARY:Sprint 8, Week 5
UID:26651218-pentaweek@local
END:VEVENT
END:VCALENDAR