BEGIN:VCALENDAR
VERSION:2.0
PRODID:-//Pentaweek Calendar//EN
BEGIN:VEVENT
DTSTART;VALUE=DATE:26640104
SUMMARY:Planning Sprint 1
UID:26640104-pentaweek@local
END:VEVENT
BEGIN:VEVENT
DTSTART;VALUE=DATE:26640111
SUMMARY:Sprint 1, Week 1
UID:26640111-pentaweek@local
END:VEVENT
BEGIN:VEVENT
DTSTART;VALUE=DATE:26640118
SUMMARY:Sprint 1, Week 2
UID:26640118-pentaweek@local
END:VEVENT
BEGIN:VEVENT
DTSTART;VALUE=DATE:26640125
SUMMARY:Sprint 1, Week 3
UID:26640125-pentaweek@local
END:VEVENT
BEGIN:VEVENT
DTSTART;VALUE=DATE:26640201
SUMMARY:Sprint 1, Week 4
UID:26640201-pentaweek@local
END:VEVENT
BEGIN:VEVENT
DTSTART;VALUE=DATE:26640208
SUMMARY:Sprint 1, Week 5
UID:26640208-pentaweek@local
END:VEVENT
BEGIN:VEVENT
DTSTART;VALUE=DATE:26640215
SUMMARY:Planning Sprint 2
UID:26640215-pentaweek@local
END:VEVENT
BEGIN:VEVENT
DTSTART;VALUE=DATE:26640222
SUMMARY:Sprint 2, Week 1
UID:26640222-pentaweek@local
END:VEVENT
BEGIN:VEVENT
DTSTART;VALUE=DATE:26640229
SUMMARY:Sprint 2, Week 2
UID:26640229-pentaweek@local
END:VEVENT
BEGIN:VEVENT
DTSTART;VALUE=DATE:26640307
SUMMARY:Sprint 2, Week 3
UID:26640307-pentaweek@local
END:VEVENT
BEGIN:VEVENT
DTSTART;VALUE=DATE:26640314
SUMMARY:Sprint 2, Week 4
UID:26640314-pentaweek@local
END:VEVENT
BEGIN:VEVENT
DTSTART;VALUE=DATE:26640321
SUMMARY:Sprint 2, Week 5
UID:26640321-pentaweek@local
END:VEVENT
BEGIN:VEVENT
DTSTART;VALUE=DATE:26640328
SUMMARY:Planning Sprint 3
UID:26640328-pentaweek@local
END:VEVENT
BEGIN:VEVENT
DTSTART;VALUE=DATE:26640404
SUMMARY:Sprint 3, Week 1
UID:26640404-pentaweek@local
END:VEVENT
BEGIN:VEVENT
DTSTART;VALUE=DATE:26640411
SUMMARY:Sprint 3, Week 2
UID:26640411-pentaweek@local
END:VEVENT
BEGIN:VEVENT
DTSTART;VALUE=DATE:26640418
SUMMARY:Sprint 3, Week 3
UID:26640418-pentaweek@local
END:VEVENT
BEGIN:VEVENT
DTSTART;VALUE=DATE:26640425
SUMMARY:Sprint 3, Week 4
UID:26640425-pentaweek@local
END:VEVENT
BEGIN:VEVENT
DTSTART;VALUE=DATE:26640502
SUMMARY:Sprint 3, Week 5
UID:26640502-pentaweek@local
END:VEVENT
BEGIN:VEVENT
DTSTART;VALUE=DATE:26640509
SUMMARY:Planning Sprint 4
UID:26640509-pentaweek@local
END:VEVENT
BEGIN:VEVENT
DTSTART;VALUE=DATE:26640516
SUMMARY:Sprint 4, Week 1
UID:26640516-pentaweek@local
END:VEVENT
BEGIN:VEVENT
DTSTART;VALUE=DATE:26640523
SUMMARY:Sprint 4, Week 2
UID:26640523-pentaweek@local
END:VEVENT
BEGIN:VEVENT
DTSTART;VALUE=DATE:26640530
SUMMARY:Sprint 4, Week 3
UID:26640530-pentaweek@local
END:VEVENT
BEGIN:VEVENT
DTSTART;VALUE=DATE:26640606
SUMMARY:Sprint 4, Week 4
UID:26640606-pentaweek@local
END:VEVENT
BEGIN:VEVENT
DTSTART;VALUE=DATE:26640613
SUMMARY:Sprint 4, Week 5
UID:26640613-pentaweek@local
END:VEVENT
BEGIN:VEVENT
DTSTART;VALUE=DATE:26640704
SUMMARY:Planning Sprint 5
UID:26640704-pentaweek@local
END:VEVENT
BEGIN:VEVENT
DTSTART;VALUE=DATE:26640711
SUMMARY:Sprint 5, Week 1
UID:26640711-pentaweek@local
END:VEVENT
BEGIN:VEVENT
DTSTART;VALUE=DATE:26640718
SUMMARY:Sprint 5, Week 2
UID:26640718-pentaweek@local
END:VEVENT
BEGIN:VEVENT
DTSTART;VALUE=DATE:26640725
SUMMARY:Sprint 5, Week 3
UID:26640725-pentaweek@local
END:VEVENT
BEGIN:VEVENT
DTSTART;VALUE=DATE:26640801
SUMMARY:Sprint 5, Week 4
UID:26640801-pentaweek@local
END:VEVENT
BEGIN:VEVENT
DTSTART;VALUE=DATE:26640808
SUMMARY:Sprint 5, Week 5
UID:26640808-pentaweek@local
END:VEVENT
BEGIN:VEVENT
DTSTART;VALUE=DATE:26640815
SUMMARY:Planning Sprint 6
UID:26640815-pentaweek@local
END:VEVENT
BEGIN:VEVENT
DTSTART;VALUE=DATE:26640822
SUMMARY:Sprint 6, Week 1
UID:26640822-pentaweek@local
END:VEVENT
BEGIN:VEVENT
DTSTART;VALUE=DATE:26640829
SUMMARY:Sprint 6, Week 2
UID:26640829-pentaweek@local
END:VEVENT
BEGIN:VEVENT
DTSTART;VALUE=DATE:26640905
SUMMARY:Sprint 6, Week 3
UID:26640905-pentaweek@local
END:VEVENT
BEGIN:VEVENT
DTSTART;VALUE=DATE:26640912
SUMMARY:Sprint 6, Week 4
UID:26640912-pentaweek@local
END:VEVENT
BEGIN:VEVENT
DTSTART;VALUE=DATE:26640919
SUMMARY:Sprint 6, Week 5
UID:26640919-pentaweek@local
END:VEVENT
BEGIN:VEVENT
DTSTART;VALUE=DATE:26640926
SUMMARY:Planning Sprint 7
UID:26640926-pentaweek@local
END:VEVENT
BEGIN:VEVENT
DTSTART;VALUE=DATE:26641003
SUMMARY:Sprint 7, Week 1
UID:26641003-pentaweek@local
END:VEVENT
BEGIN:VEVENT
DTSTART;VALUE=DATE:26641010
SUMMARY:Sprint 7, Week 2
UID:26641010-pentaweek@local
END:VEVENT
BEGIN:VEVENT
DTSTART;VALUE=DATE:26641017
SUMMARY:Sprint 7, Week 3
UID:26641017-pentaweek@local
END:VEVENT
BEGIN:VEVENT
DTSTART;VALUE=DATE:26641024
SUMMARY:Sprint 7, Week 4
UID:26641024-pentaweek@local
END:VEVENT
BEGIN:VEVENT
DTSTART;VALUE=DATE:26641031
SUMMARY:Sprint 7, Week 5
UID:26641031-pentaweek@local
END:VEVENT
BEGIN:VEVENT
DTSTART;VALUE=DATE:26641107
SUMMARY:Planning Sprint 8
UID:26641107-pentaweek@local
END:VEVENT
BEGIN:VEVENT
DTSTART;VALUE=DATE:26641114
SUMMARY:Sprint 8, Week 1
UID:26641114-pentaweek@local
END:VEVENT
BEGIN:VEVENT
DTSTART;VALUE=DATE:26641121
SUMMARY:Sprint 8, Week 2
UID:26641121-pentaweek@local
END:VEVENT
BEGIN:VEVENT
DTSTART;VALUE=DATE:26641128
SUMMARY:Sprint 8, Week 3
UID:26641128-pentaweek@local
END:VEVENT
BEGIN:VEVENT
DTSTART;VALUE=DATE:26641205
SUMMARY:Sprint 8, Week 4
UID:26641205-pentaweek@local
END:VEVENT
BEGIN:VEVENT
DTSTART;VALUE=DATE:26641212
SUMMARY:Sprint 8, Week 5
UID:26641212-pentaweek@local
END:VEVENT
END:VCALENDAR