BEGIN:VCALENDAR
VERSION:2.0
PRODID:-//Pentaweek Calendar//EN
BEGIN:VEVENT
DTSTART;VALUE=DATE:26630105
SUMMARY:Planning Sprint 1
UID:26630105-pentaweek@local
END:VEVENT
BEGIN:VEVENT
DTSTART;VALUE=DATE:26630112
SUMMARY:Sprint 1, Week 1
UID:26630112-pentaweek@local
END:VEVENT
BEGIN:VEVENT
DTSTART;VALUE=DATE:26630119
SUMMARY:Sprint 1, Week 2
UID:26630119-pentaweek@local
END:VEVENT
BEGIN:VEVENT
DTSTART;VALUE=DATE:26630126
SUMMARY:Sprint 1, Week 3
UID:26630126-pentaweek@local
END:VEVENT
BEGIN:VEVENT
DTSTART;VALUE=DATE:26630202
SUMMARY:Sprint 1, Week 4
UID:26630202-pentaweek@local
END:VEVENT
BEGIN:VEVENT
DTSTART;VALUE=DATE:26630209
SUMMARY:Sprint 1, Week 5
UID:26630209-pentaweek@local
END:VEVENT
BEGIN:VEVENT
DTSTART;VALUE=DATE:26630216
SUMMARY:Planning Sprint 2
UID:26630216-pentaweek@local
END:VEVENT
BEGIN:VEVENT
DTSTART;VALUE=DATE:26630223
SUMMARY:Sprint 2, Week 1
UID:26630223-pentaweek@local
END:VEVENT
BEGIN:VEVENT
DTSTART;VALUE=DATE:26630302
SUMMARY:Sprint 2, Week 2
UID:26630302-pentaweek@local
END:VEVENT
BEGIN:VEVENT
DTSTART;VALUE=DATE:26630309
SUMMARY:Sprint 2, Week 3
UID:26630309-pentaweek@local
END:VEVENT
BEGIN:VEVENT
DTSTART;VALUE=DATE:26630316
SUMMARY:Sprint 2, Week 4
UID:26630316-pentaweek@local
END:VEVENT
BEGIN:VEVENT
DTSTART;VALUE=DATE:26630323
SUMMARY:Sprint 2, Week 5
UID:26630323-pentaweek@local
END:VEVENT
BEGIN:VEVENT
DTSTART;VALUE=DATE:26630330
SUMMARY:Planning Sprint 3
UID:26630330-pentaweek@local
END:VEVENT
BEGIN:VEVENT
DTSTART;VALUE=DATE:26630406
SUMMARY:Sprint 3, Week 1
UID:26630406-pentaweek@local
END:VEVENT
BEGIN:VEVENT
DTSTART;VALUE=DATE:26630413
SUMMARY:Sprint 3, Week 2
UID:26630413-pentaweek@local
END:VEVENT
BEGIN:VEVENT
DTSTART;VALUE=DATE:26630420
SUMMARY:Sprint 3, Week 3
UID:26630420-pentaweek@local
END:VEVENT
BEGIN:VEVENT
DTSTART;VALUE=DATE:26630427
SUMMARY:Sprint 3, Week 4
UID:26630427-pentaweek@local
END:VEVENT
BEGIN:VEVENT
DTSTART;VALUE=DATE:26630504
SUMMARY:Sprint 3, Week 5
UID:26630504-pentaweek@local
END:VEVENT
BEGIN:VEVENT
DTSTART;VALUE=DATE:26630511
SUMMARY:Planning Sprint 4
UID:26630511-pentaweek@local
END:VEVENT
BEGIN:VEVENT
DTSTART;VALUE=DATE:26630518
SUMMARY:Sprint 4, Week 1
UID:26630518-pentaweek@local
END:VEVENT
BEGIN:VEVENT
DTSTART;VALUE=DATE:26630525
SUMMARY:Sprint 4, Week 2
UID:26630525-pentaweek@local
END:VEVENT
BEGIN:VEVENT
DTSTART;VALUE=DATE:26630601
SUMMARY:Sprint 4, Week 3
UID:26630601-pentaweek@local
END:VEVENT
BEGIN:VEVENT
DTSTART;VALUE=DATE:26630608
SUMMARY:Sprint 4, Week 4
UID:26630608-pentaweek@local
END:VEVENT
BEGIN:VEVENT
DTSTART;VALUE=DATE:26630615
SUMMARY:Sprint 4, Week 5
UID:26630615-pentaweek@local
END:VEVENT
BEGIN:VEVENT
DTSTART;VALUE=DATE:26630706
SUMMARY:Planning Sprint 5
UID:26630706-pentaweek@local
END:VEVENT
BEGIN:VEVENT
DTSTART;VALUE=DATE:26630713
SUMMARY:Sprint 5, Week 1
UID:26630713-pentaweek@local
END:VEVENT
BEGIN:VEVENT
DTSTART;VALUE=DATE:26630720
SUMMARY:Sprint 5, Week 2
UID:26630720-pentaweek@local
END:VEVENT
BEGIN:VEVENT
DTSTART;VALUE=DATE:26630727
SUMMARY:Sprint 5, Week 3
UID:26630727-pentaweek@local
END:VEVENT
BEGIN:VEVENT
DTSTART;VALUE=DATE:26630803
SUMMARY:Sprint 5, Week 4
UID:26630803-pentaweek@local
END:VEVENT
BEGIN:VEVENT
DTSTART;VALUE=DATE:26630810
SUMMARY:Sprint 5, Week 5
UID:26630810-pentaweek@local
END:VEVENT
BEGIN:VEVENT
DTSTART;VALUE=DATE:26630817
SUMMARY:Planning Sprint 6
UID:26630817-pentaweek@local
END:VEVENT
BEGIN:VEVENT
DTSTART;VALUE=DATE:26630824
SUMMARY:Sprint 6, Week 1
UID:26630824-pentaweek@local
END:VEVENT
BEGIN:VEVENT
DTSTART;VALUE=DATE:26630831
SUMMARY:Sprint 6, Week 2
UID:26630831-pentaweek@local
END:VEVENT
BEGIN:VEVENT
DTSTART;VALUE=DATE:26630907
SUMMARY:Sprint 6, Week 3
UID:26630907-pentaweek@local
END:VEVENT
BEGIN:VEVENT
DTSTART;VALUE=DATE:26630914
SUMMARY:Sprint 6, Week 4
UID:26630914-pentaweek@local
END:VEVENT
BEGIN:VEVENT
DTSTART;VALUE=DATE:26630921
SUMMARY:Sprint 6, Week 5
UID:26630921-pentaweek@local
END:VEVENT
BEGIN:VEVENT
DTSTART;VALUE=DATE:26630928
SUMMARY:Planning Sprint 7
UID:26630928-pentaweek@local
END:VEVENT
BEGIN:VEVENT
DTSTART;VALUE=DATE:26631005
SUMMARY:Sprint 7, Week 1
UID:26631005-pentaweek@local
END:VEVENT
BEGIN:VEVENT
DTSTART;VALUE=DATE:26631012
SUMMARY:Sprint 7, Week 2
UID:26631012-pentaweek@local
END:VEVENT
BEGIN:VEVENT
DTSTART;VALUE=DATE:26631019
SUMMARY:Sprint 7, Week 3
UID:26631019-pentaweek@local
END:VEVENT
BEGIN:VEVENT
DTSTART;VALUE=DATE:26631026
SUMMARY:Sprint 7, Week 4
UID:26631026-pentaweek@local
END:VEVENT
BEGIN:VEVENT
DTSTART;VALUE=DATE:26631102
SUMMARY:Sprint 7, Week 5
UID:26631102-pentaweek@local
END:VEVENT
BEGIN:VEVENT
DTSTART;VALUE=DATE:26631109
SUMMARY:Planning Sprint 8
UID:26631109-pentaweek@local
END:VEVENT
BEGIN:VEVENT
DTSTART;VALUE=DATE:26631116
SUMMARY:Sprint 8, Week 1
UID:26631116-pentaweek@local
END:VEVENT
BEGIN:VEVENT
DTSTART;VALUE=DATE:26631123
SUMMARY:Sprint 8, Week 2
UID:26631123-pentaweek@local
END:VEVENT
BEGIN:VEVENT
DTSTART;VALUE=DATE:26631130
SUMMARY:Sprint 8, Week 3
UID:26631130-pentaweek@local
END:VEVENT
BEGIN:VEVENT
DTSTART;VALUE=DATE:26631207
SUMMARY:Sprint 8, Week 4
UID:26631207-pentaweek@local
END:VEVENT
BEGIN:VEVENT
DTSTART;VALUE=DATE:26631214
SUMMARY:Sprint 8, Week 5
UID:26631214-pentaweek@local
END:VEVENT
END:VCALENDAR