BEGIN:VCALENDAR
VERSION:2.0
PRODID:-//Pentaweek Calendar//EN
BEGIN:VEVENT
DTSTART;VALUE=DATE:26620106
SUMMARY:Planning Sprint 1
UID:26620106-pentaweek@local
END:VEVENT
BEGIN:VEVENT
DTSTART;VALUE=DATE:26620113
SUMMARY:Sprint 1, Week 1
UID:26620113-pentaweek@local
END:VEVENT
BEGIN:VEVENT
DTSTART;VALUE=DATE:26620120
SUMMARY:Sprint 1, Week 2
UID:26620120-pentaweek@local
END:VEVENT
BEGIN:VEVENT
DTSTART;VALUE=DATE:26620127
SUMMARY:Sprint 1, Week 3
UID:26620127-pentaweek@local
END:VEVENT
BEGIN:VEVENT
DTSTART;VALUE=DATE:26620203
SUMMARY:Sprint 1, Week 4
UID:26620203-pentaweek@local
END:VEVENT
BEGIN:VEVENT
DTSTART;VALUE=DATE:26620210
SUMMARY:Sprint 1, Week 5
UID:26620210-pentaweek@local
END:VEVENT
BEGIN:VEVENT
DTSTART;VALUE=DATE:26620217
SUMMARY:Planning Sprint 2
UID:26620217-pentaweek@local
END:VEVENT
BEGIN:VEVENT
DTSTART;VALUE=DATE:26620224
SUMMARY:Sprint 2, Week 1
UID:26620224-pentaweek@local
END:VEVENT
BEGIN:VEVENT
DTSTART;VALUE=DATE:26620303
SUMMARY:Sprint 2, Week 2
UID:26620303-pentaweek@local
END:VEVENT
BEGIN:VEVENT
DTSTART;VALUE=DATE:26620310
SUMMARY:Sprint 2, Week 3
UID:26620310-pentaweek@local
END:VEVENT
BEGIN:VEVENT
DTSTART;VALUE=DATE:26620317
SUMMARY:Sprint 2, Week 4
UID:26620317-pentaweek@local
END:VEVENT
BEGIN:VEVENT
DTSTART;VALUE=DATE:26620324
SUMMARY:Sprint 2, Week 5
UID:26620324-pentaweek@local
END:VEVENT
BEGIN:VEVENT
DTSTART;VALUE=DATE:26620331
SUMMARY:Planning Sprint 3
UID:26620331-pentaweek@local
END:VEVENT
BEGIN:VEVENT
DTSTART;VALUE=DATE:26620407
SUMMARY:Sprint 3, Week 1
UID:26620407-pentaweek@local
END:VEVENT
BEGIN:VEVENT
DTSTART;VALUE=DATE:26620414
SUMMARY:Sprint 3, Week 2
UID:26620414-pentaweek@local
END:VEVENT
BEGIN:VEVENT
DTSTART;VALUE=DATE:26620421
SUMMARY:Sprint 3, Week 3
UID:26620421-pentaweek@local
END:VEVENT
BEGIN:VEVENT
DTSTART;VALUE=DATE:26620428
SUMMARY:Sprint 3, Week 4
UID:26620428-pentaweek@local
END:VEVENT
BEGIN:VEVENT
DTSTART;VALUE=DATE:26620505
SUMMARY:Sprint 3, Week 5
UID:26620505-pentaweek@local
END:VEVENT
BEGIN:VEVENT
DTSTART;VALUE=DATE:26620512
SUMMARY:Planning Sprint 4
UID:26620512-pentaweek@local
END:VEVENT
BEGIN:VEVENT
DTSTART;VALUE=DATE:26620519
SUMMARY:Sprint 4, Week 1
UID:26620519-pentaweek@local
END:VEVENT
BEGIN:VEVENT
DTSTART;VALUE=DATE:26620526
SUMMARY:Sprint 4, Week 2
UID:26620526-pentaweek@local
END:VEVENT
BEGIN:VEVENT
DTSTART;VALUE=DATE:26620602
SUMMARY:Sprint 4, Week 3
UID:26620602-pentaweek@local
END:VEVENT
BEGIN:VEVENT
DTSTART;VALUE=DATE:26620609
SUMMARY:Sprint 4, Week 4
UID:26620609-pentaweek@local
END:VEVENT
BEGIN:VEVENT
DTSTART;VALUE=DATE:26620616
SUMMARY:Sprint 4, Week 5
UID:26620616-pentaweek@local
END:VEVENT
BEGIN:VEVENT
DTSTART;VALUE=DATE:26620707
SUMMARY:Planning Sprint 5
UID:26620707-pentaweek@local
END:VEVENT
BEGIN:VEVENT
DTSTART;VALUE=DATE:26620714
SUMMARY:Sprint 5, Week 1
UID:26620714-pentaweek@local
END:VEVENT
BEGIN:VEVENT
DTSTART;VALUE=DATE:26620721
SUMMARY:Sprint 5, Week 2
UID:26620721-pentaweek@local
END:VEVENT
BEGIN:VEVENT
DTSTART;VALUE=DATE:26620728
SUMMARY:Sprint 5, Week 3
UID:26620728-pentaweek@local
END:VEVENT
BEGIN:VEVENT
DTSTART;VALUE=DATE:26620804
SUMMARY:Sprint 5, Week 4
UID:26620804-pentaweek@local
END:VEVENT
BEGIN:VEVENT
DTSTART;VALUE=DATE:26620811
SUMMARY:Sprint 5, Week 5
UID:26620811-pentaweek@local
END:VEVENT
BEGIN:VEVENT
DTSTART;VALUE=DATE:26620818
SUMMARY:Planning Sprint 6
UID:26620818-pentaweek@local
END:VEVENT
BEGIN:VEVENT
DTSTART;VALUE=DATE:26620825
SUMMARY:Sprint 6, Week 1
UID:26620825-pentaweek@local
END:VEVENT
BEGIN:VEVENT
DTSTART;VALUE=DATE:26620901
SUMMARY:Sprint 6, Week 2
UID:26620901-pentaweek@local
END:VEVENT
BEGIN:VEVENT
DTSTART;VALUE=DATE:26620908
SUMMARY:Sprint 6, Week 3
UID:26620908-pentaweek@local
END:VEVENT
BEGIN:VEVENT
DTSTART;VALUE=DATE:26620915
SUMMARY:Sprint 6, Week 4
UID:26620915-pentaweek@local
END:VEVENT
BEGIN:VEVENT
DTSTART;VALUE=DATE:26620922
SUMMARY:Sprint 6, Week 5
UID:26620922-pentaweek@local
END:VEVENT
BEGIN:VEVENT
DTSTART;VALUE=DATE:26620929
SUMMARY:Planning Sprint 7
UID:26620929-pentaweek@local
END:VEVENT
BEGIN:VEVENT
DTSTART;VALUE=DATE:26621006
SUMMARY:Sprint 7, Week 1
UID:26621006-pentaweek@local
END:VEVENT
BEGIN:VEVENT
DTSTART;VALUE=DATE:26621013
SUMMARY:Sprint 7, Week 2
UID:26621013-pentaweek@local
END:VEVENT
BEGIN:VEVENT
DTSTART;VALUE=DATE:26621020
SUMMARY:Sprint 7, Week 3
UID:26621020-pentaweek@local
END:VEVENT
BEGIN:VEVENT
DTSTART;VALUE=DATE:26621027
SUMMARY:Sprint 7, Week 4
UID:26621027-pentaweek@local
END:VEVENT
BEGIN:VEVENT
DTSTART;VALUE=DATE:26621103
SUMMARY:Sprint 7, Week 5
UID:26621103-pentaweek@local
END:VEVENT
BEGIN:VEVENT
DTSTART;VALUE=DATE:26621110
SUMMARY:Planning Sprint 8
UID:26621110-pentaweek@local
END:VEVENT
BEGIN:VEVENT
DTSTART;VALUE=DATE:26621117
SUMMARY:Sprint 8, Week 1
UID:26621117-pentaweek@local
END:VEVENT
BEGIN:VEVENT
DTSTART;VALUE=DATE:26621124
SUMMARY:Sprint 8, Week 2
UID:26621124-pentaweek@local
END:VEVENT
BEGIN:VEVENT
DTSTART;VALUE=DATE:26621201
SUMMARY:Sprint 8, Week 3
UID:26621201-pentaweek@local
END:VEVENT
BEGIN:VEVENT
DTSTART;VALUE=DATE:26621208
SUMMARY:Sprint 8, Week 4
UID:26621208-pentaweek@local
END:VEVENT
BEGIN:VEVENT
DTSTART;VALUE=DATE:26621215
SUMMARY:Sprint 8, Week 5
UID:26621215-pentaweek@local
END:VEVENT
END:VCALENDAR