BEGIN:VCALENDAR
VERSION:2.0
PRODID:-//Pentaweek Calendar//EN
BEGIN:VEVENT
DTSTART;VALUE=DATE:26610107
SUMMARY:Planning Sprint 1
UID:26610107-pentaweek@local
END:VEVENT
BEGIN:VEVENT
DTSTART;VALUE=DATE:26610114
SUMMARY:Sprint 1, Week 1
UID:26610114-pentaweek@local
END:VEVENT
BEGIN:VEVENT
DTSTART;VALUE=DATE:26610121
SUMMARY:Sprint 1, Week 2
UID:26610121-pentaweek@local
END:VEVENT
BEGIN:VEVENT
DTSTART;VALUE=DATE:26610128
SUMMARY:Sprint 1, Week 3
UID:26610128-pentaweek@local
END:VEVENT
BEGIN:VEVENT
DTSTART;VALUE=DATE:26610204
SUMMARY:Sprint 1, Week 4
UID:26610204-pentaweek@local
END:VEVENT
BEGIN:VEVENT
DTSTART;VALUE=DATE:26610211
SUMMARY:Sprint 1, Week 5
UID:26610211-pentaweek@local
END:VEVENT
BEGIN:VEVENT
DTSTART;VALUE=DATE:26610218
SUMMARY:Planning Sprint 2
UID:26610218-pentaweek@local
END:VEVENT
BEGIN:VEVENT
DTSTART;VALUE=DATE:26610225
SUMMARY:Sprint 2, Week 1
UID:26610225-pentaweek@local
END:VEVENT
BEGIN:VEVENT
DTSTART;VALUE=DATE:26610304
SUMMARY:Sprint 2, Week 2
UID:26610304-pentaweek@local
END:VEVENT
BEGIN:VEVENT
DTSTART;VALUE=DATE:26610311
SUMMARY:Sprint 2, Week 3
UID:26610311-pentaweek@local
END:VEVENT
BEGIN:VEVENT
DTSTART;VALUE=DATE:26610318
SUMMARY:Sprint 2, Week 4
UID:26610318-pentaweek@local
END:VEVENT
BEGIN:VEVENT
DTSTART;VALUE=DATE:26610325
SUMMARY:Sprint 2, Week 5
UID:26610325-pentaweek@local
END:VEVENT
BEGIN:VEVENT
DTSTART;VALUE=DATE:26610401
SUMMARY:Planning Sprint 3
UID:26610401-pentaweek@local
END:VEVENT
BEGIN:VEVENT
DTSTART;VALUE=DATE:26610408
SUMMARY:Sprint 3, Week 1
UID:26610408-pentaweek@local
END:VEVENT
BEGIN:VEVENT
DTSTART;VALUE=DATE:26610415
SUMMARY:Sprint 3, Week 2
UID:26610415-pentaweek@local
END:VEVENT
BEGIN:VEVENT
DTSTART;VALUE=DATE:26610422
SUMMARY:Sprint 3, Week 3
UID:26610422-pentaweek@local
END:VEVENT
BEGIN:VEVENT
DTSTART;VALUE=DATE:26610429
SUMMARY:Sprint 3, Week 4
UID:26610429-pentaweek@local
END:VEVENT
BEGIN:VEVENT
DTSTART;VALUE=DATE:26610506
SUMMARY:Sprint 3, Week 5
UID:26610506-pentaweek@local
END:VEVENT
BEGIN:VEVENT
DTSTART;VALUE=DATE:26610513
SUMMARY:Planning Sprint 4
UID:26610513-pentaweek@local
END:VEVENT
BEGIN:VEVENT
DTSTART;VALUE=DATE:26610520
SUMMARY:Sprint 4, Week 1
UID:26610520-pentaweek@local
END:VEVENT
BEGIN:VEVENT
DTSTART;VALUE=DATE:26610527
SUMMARY:Sprint 4, Week 2
UID:26610527-pentaweek@local
END:VEVENT
BEGIN:VEVENT
DTSTART;VALUE=DATE:26610603
SUMMARY:Sprint 4, Week 3
UID:26610603-pentaweek@local
END:VEVENT
BEGIN:VEVENT
DTSTART;VALUE=DATE:26610610
SUMMARY:Sprint 4, Week 4
UID:26610610-pentaweek@local
END:VEVENT
BEGIN:VEVENT
DTSTART;VALUE=DATE:26610617
SUMMARY:Sprint 4, Week 5
UID:26610617-pentaweek@local
END:VEVENT
BEGIN:VEVENT
DTSTART;VALUE=DATE:26610708
SUMMARY:Planning Sprint 5
UID:26610708-pentaweek@local
END:VEVENT
BEGIN:VEVENT
DTSTART;VALUE=DATE:26610715
SUMMARY:Sprint 5, Week 1
UID:26610715-pentaweek@local
END:VEVENT
BEGIN:VEVENT
DTSTART;VALUE=DATE:26610722
SUMMARY:Sprint 5, Week 2
UID:26610722-pentaweek@local
END:VEVENT
BEGIN:VEVENT
DTSTART;VALUE=DATE:26610729
SUMMARY:Sprint 5, Week 3
UID:26610729-pentaweek@local
END:VEVENT
BEGIN:VEVENT
DTSTART;VALUE=DATE:26610805
SUMMARY:Sprint 5, Week 4
UID:26610805-pentaweek@local
END:VEVENT
BEGIN:VEVENT
DTSTART;VALUE=DATE:26610812
SUMMARY:Sprint 5, Week 5
UID:26610812-pentaweek@local
END:VEVENT
BEGIN:VEVENT
DTSTART;VALUE=DATE:26610819
SUMMARY:Planning Sprint 6
UID:26610819-pentaweek@local
END:VEVENT
BEGIN:VEVENT
DTSTART;VALUE=DATE:26610826
SUMMARY:Sprint 6, Week 1
UID:26610826-pentaweek@local
END:VEVENT
BEGIN:VEVENT
DTSTART;VALUE=DATE:26610902
SUMMARY:Sprint 6, Week 2
UID:26610902-pentaweek@local
END:VEVENT
BEGIN:VEVENT
DTSTART;VALUE=DATE:26610909
SUMMARY:Sprint 6, Week 3
UID:26610909-pentaweek@local
END:VEVENT
BEGIN:VEVENT
DTSTART;VALUE=DATE:26610916
SUMMARY:Sprint 6, Week 4
UID:26610916-pentaweek@local
END:VEVENT
BEGIN:VEVENT
DTSTART;VALUE=DATE:26610923
SUMMARY:Sprint 6, Week 5
UID:26610923-pentaweek@local
END:VEVENT
BEGIN:VEVENT
DTSTART;VALUE=DATE:26610930
SUMMARY:Planning Sprint 7
UID:26610930-pentaweek@local
END:VEVENT
BEGIN:VEVENT
DTSTART;VALUE=DATE:26611007
SUMMARY:Sprint 7, Week 1
UID:26611007-pentaweek@local
END:VEVENT
BEGIN:VEVENT
DTSTART;VALUE=DATE:26611014
SUMMARY:Sprint 7, Week 2
UID:26611014-pentaweek@local
END:VEVENT
BEGIN:VEVENT
DTSTART;VALUE=DATE:26611021
SUMMARY:Sprint 7, Week 3
UID:26611021-pentaweek@local
END:VEVENT
BEGIN:VEVENT
DTSTART;VALUE=DATE:26611028
SUMMARY:Sprint 7, Week 4
UID:26611028-pentaweek@local
END:VEVENT
BEGIN:VEVENT
DTSTART;VALUE=DATE:26611104
SUMMARY:Sprint 7, Week 5
UID:26611104-pentaweek@local
END:VEVENT
BEGIN:VEVENT
DTSTART;VALUE=DATE:26611111
SUMMARY:Planning Sprint 8
UID:26611111-pentaweek@local
END:VEVENT
BEGIN:VEVENT
DTSTART;VALUE=DATE:26611118
SUMMARY:Sprint 8, Week 1
UID:26611118-pentaweek@local
END:VEVENT
BEGIN:VEVENT
DTSTART;VALUE=DATE:26611125
SUMMARY:Sprint 8, Week 2
UID:26611125-pentaweek@local
END:VEVENT
BEGIN:VEVENT
DTSTART;VALUE=DATE:26611202
SUMMARY:Sprint 8, Week 3
UID:26611202-pentaweek@local
END:VEVENT
BEGIN:VEVENT
DTSTART;VALUE=DATE:26611209
SUMMARY:Sprint 8, Week 4
UID:26611209-pentaweek@local
END:VEVENT
BEGIN:VEVENT
DTSTART;VALUE=DATE:26611216
SUMMARY:Sprint 8, Week 5
UID:26611216-pentaweek@local
END:VEVENT
END:VCALENDAR