BEGIN:VCALENDAR
VERSION:2.0
PRODID:-//Pentaweek Calendar//EN
BEGIN:VEVENT
DTSTART;VALUE=DATE:26600109
SUMMARY:Planning Sprint 1
UID:26600109-pentaweek@local
END:VEVENT
BEGIN:VEVENT
DTSTART;VALUE=DATE:26600116
SUMMARY:Sprint 1, Week 1
UID:26600116-pentaweek@local
END:VEVENT
BEGIN:VEVENT
DTSTART;VALUE=DATE:26600123
SUMMARY:Sprint 1, Week 2
UID:26600123-pentaweek@local
END:VEVENT
BEGIN:VEVENT
DTSTART;VALUE=DATE:26600130
SUMMARY:Sprint 1, Week 3
UID:26600130-pentaweek@local
END:VEVENT
BEGIN:VEVENT
DTSTART;VALUE=DATE:26600206
SUMMARY:Sprint 1, Week 4
UID:26600206-pentaweek@local
END:VEVENT
BEGIN:VEVENT
DTSTART;VALUE=DATE:26600213
SUMMARY:Sprint 1, Week 5
UID:26600213-pentaweek@local
END:VEVENT
BEGIN:VEVENT
DTSTART;VALUE=DATE:26600220
SUMMARY:Planning Sprint 2
UID:26600220-pentaweek@local
END:VEVENT
BEGIN:VEVENT
DTSTART;VALUE=DATE:26600227
SUMMARY:Sprint 2, Week 1
UID:26600227-pentaweek@local
END:VEVENT
BEGIN:VEVENT
DTSTART;VALUE=DATE:26600305
SUMMARY:Sprint 2, Week 2
UID:26600305-pentaweek@local
END:VEVENT
BEGIN:VEVENT
DTSTART;VALUE=DATE:26600312
SUMMARY:Sprint 2, Week 3
UID:26600312-pentaweek@local
END:VEVENT
BEGIN:VEVENT
DTSTART;VALUE=DATE:26600319
SUMMARY:Sprint 2, Week 4
UID:26600319-pentaweek@local
END:VEVENT
BEGIN:VEVENT
DTSTART;VALUE=DATE:26600326
SUMMARY:Sprint 2, Week 5
UID:26600326-pentaweek@local
END:VEVENT
BEGIN:VEVENT
DTSTART;VALUE=DATE:26600402
SUMMARY:Planning Sprint 3
UID:26600402-pentaweek@local
END:VEVENT
BEGIN:VEVENT
DTSTART;VALUE=DATE:26600409
SUMMARY:Sprint 3, Week 1
UID:26600409-pentaweek@local
END:VEVENT
BEGIN:VEVENT
DTSTART;VALUE=DATE:26600416
SUMMARY:Sprint 3, Week 2
UID:26600416-pentaweek@local
END:VEVENT
BEGIN:VEVENT
DTSTART;VALUE=DATE:26600423
SUMMARY:Sprint 3, Week 3
UID:26600423-pentaweek@local
END:VEVENT
BEGIN:VEVENT
DTSTART;VALUE=DATE:26600430
SUMMARY:Sprint 3, Week 4
UID:26600430-pentaweek@local
END:VEVENT
BEGIN:VEVENT
DTSTART;VALUE=DATE:26600507
SUMMARY:Sprint 3, Week 5
UID:26600507-pentaweek@local
END:VEVENT
BEGIN:VEVENT
DTSTART;VALUE=DATE:26600514
SUMMARY:Planning Sprint 4
UID:26600514-pentaweek@local
END:VEVENT
BEGIN:VEVENT
DTSTART;VALUE=DATE:26600521
SUMMARY:Sprint 4, Week 1
UID:26600521-pentaweek@local
END:VEVENT
BEGIN:VEVENT
DTSTART;VALUE=DATE:26600528
SUMMARY:Sprint 4, Week 2
UID:26600528-pentaweek@local
END:VEVENT
BEGIN:VEVENT
DTSTART;VALUE=DATE:26600604
SUMMARY:Sprint 4, Week 3
UID:26600604-pentaweek@local
END:VEVENT
BEGIN:VEVENT
DTSTART;VALUE=DATE:26600611
SUMMARY:Sprint 4, Week 4
UID:26600611-pentaweek@local
END:VEVENT
BEGIN:VEVENT
DTSTART;VALUE=DATE:26600618
SUMMARY:Sprint 4, Week 5
UID:26600618-pentaweek@local
END:VEVENT
BEGIN:VEVENT
DTSTART;VALUE=DATE:26600709
SUMMARY:Planning Sprint 5
UID:26600709-pentaweek@local
END:VEVENT
BEGIN:VEVENT
DTSTART;VALUE=DATE:26600716
SUMMARY:Sprint 5, Week 1
UID:26600716-pentaweek@local
END:VEVENT
BEGIN:VEVENT
DTSTART;VALUE=DATE:26600723
SUMMARY:Sprint 5, Week 2
UID:26600723-pentaweek@local
END:VEVENT
BEGIN:VEVENT
DTSTART;VALUE=DATE:26600730
SUMMARY:Sprint 5, Week 3
UID:26600730-pentaweek@local
END:VEVENT
BEGIN:VEVENT
DTSTART;VALUE=DATE:26600806
SUMMARY:Sprint 5, Week 4
UID:26600806-pentaweek@local
END:VEVENT
BEGIN:VEVENT
DTSTART;VALUE=DATE:26600813
SUMMARY:Sprint 5, Week 5
UID:26600813-pentaweek@local
END:VEVENT
BEGIN:VEVENT
DTSTART;VALUE=DATE:26600820
SUMMARY:Planning Sprint 6
UID:26600820-pentaweek@local
END:VEVENT
BEGIN:VEVENT
DTSTART;VALUE=DATE:26600827
SUMMARY:Sprint 6, Week 1
UID:26600827-pentaweek@local
END:VEVENT
BEGIN:VEVENT
DTSTART;VALUE=DATE:26600903
SUMMARY:Sprint 6, Week 2
UID:26600903-pentaweek@local
END:VEVENT
BEGIN:VEVENT
DTSTART;VALUE=DATE:26600910
SUMMARY:Sprint 6, Week 3
UID:26600910-pentaweek@local
END:VEVENT
BEGIN:VEVENT
DTSTART;VALUE=DATE:26600917
SUMMARY:Sprint 6, Week 4
UID:26600917-pentaweek@local
END:VEVENT
BEGIN:VEVENT
DTSTART;VALUE=DATE:26600924
SUMMARY:Sprint 6, Week 5
UID:26600924-pentaweek@local
END:VEVENT
BEGIN:VEVENT
DTSTART;VALUE=DATE:26601001
SUMMARY:Planning Sprint 7
UID:26601001-pentaweek@local
END:VEVENT
BEGIN:VEVENT
DTSTART;VALUE=DATE:26601008
SUMMARY:Sprint 7, Week 1
UID:26601008-pentaweek@local
END:VEVENT
BEGIN:VEVENT
DTSTART;VALUE=DATE:26601015
SUMMARY:Sprint 7, Week 2
UID:26601015-pentaweek@local
END:VEVENT
BEGIN:VEVENT
DTSTART;VALUE=DATE:26601022
SUMMARY:Sprint 7, Week 3
UID:26601022-pentaweek@local
END:VEVENT
BEGIN:VEVENT
DTSTART;VALUE=DATE:26601029
SUMMARY:Sprint 7, Week 4
UID:26601029-pentaweek@local
END:VEVENT
BEGIN:VEVENT
DTSTART;VALUE=DATE:26601105
SUMMARY:Sprint 7, Week 5
UID:26601105-pentaweek@local
END:VEVENT
BEGIN:VEVENT
DTSTART;VALUE=DATE:26601112
SUMMARY:Planning Sprint 8
UID:26601112-pentaweek@local
END:VEVENT
BEGIN:VEVENT
DTSTART;VALUE=DATE:26601119
SUMMARY:Sprint 8, Week 1
UID:26601119-pentaweek@local
END:VEVENT
BEGIN:VEVENT
DTSTART;VALUE=DATE:26601126
SUMMARY:Sprint 8, Week 2
UID:26601126-pentaweek@local
END:VEVENT
BEGIN:VEVENT
DTSTART;VALUE=DATE:26601203
SUMMARY:Sprint 8, Week 3
UID:26601203-pentaweek@local
END:VEVENT
BEGIN:VEVENT
DTSTART;VALUE=DATE:26601210
SUMMARY:Sprint 8, Week 4
UID:26601210-pentaweek@local
END:VEVENT
BEGIN:VEVENT
DTSTART;VALUE=DATE:26601217
SUMMARY:Sprint 8, Week 5
UID:26601217-pentaweek@local
END:VEVENT
END:VCALENDAR