BEGIN:VCALENDAR
VERSION:2.0
PRODID:-//Pentaweek Calendar//EN
BEGIN:VEVENT
DTSTART;VALUE=DATE:26590110
SUMMARY:Planning Sprint 1
UID:26590110-pentaweek@local
END:VEVENT
BEGIN:VEVENT
DTSTART;VALUE=DATE:26590117
SUMMARY:Sprint 1, Week 1
UID:26590117-pentaweek@local
END:VEVENT
BEGIN:VEVENT
DTSTART;VALUE=DATE:26590124
SUMMARY:Sprint 1, Week 2
UID:26590124-pentaweek@local
END:VEVENT
BEGIN:VEVENT
DTSTART;VALUE=DATE:26590131
SUMMARY:Sprint 1, Week 3
UID:26590131-pentaweek@local
END:VEVENT
BEGIN:VEVENT
DTSTART;VALUE=DATE:26590207
SUMMARY:Sprint 1, Week 4
UID:26590207-pentaweek@local
END:VEVENT
BEGIN:VEVENT
DTSTART;VALUE=DATE:26590214
SUMMARY:Sprint 1, Week 5
UID:26590214-pentaweek@local
END:VEVENT
BEGIN:VEVENT
DTSTART;VALUE=DATE:26590221
SUMMARY:Planning Sprint 2
UID:26590221-pentaweek@local
END:VEVENT
BEGIN:VEVENT
DTSTART;VALUE=DATE:26590228
SUMMARY:Sprint 2, Week 1
UID:26590228-pentaweek@local
END:VEVENT
BEGIN:VEVENT
DTSTART;VALUE=DATE:26590307
SUMMARY:Sprint 2, Week 2
UID:26590307-pentaweek@local
END:VEVENT
BEGIN:VEVENT
DTSTART;VALUE=DATE:26590314
SUMMARY:Sprint 2, Week 3
UID:26590314-pentaweek@local
END:VEVENT
BEGIN:VEVENT
DTSTART;VALUE=DATE:26590321
SUMMARY:Sprint 2, Week 4
UID:26590321-pentaweek@local
END:VEVENT
BEGIN:VEVENT
DTSTART;VALUE=DATE:26590328
SUMMARY:Sprint 2, Week 5
UID:26590328-pentaweek@local
END:VEVENT
BEGIN:VEVENT
DTSTART;VALUE=DATE:26590404
SUMMARY:Planning Sprint 3
UID:26590404-pentaweek@local
END:VEVENT
BEGIN:VEVENT
DTSTART;VALUE=DATE:26590411
SUMMARY:Sprint 3, Week 1
UID:26590411-pentaweek@local
END:VEVENT
BEGIN:VEVENT
DTSTART;VALUE=DATE:26590418
SUMMARY:Sprint 3, Week 2
UID:26590418-pentaweek@local
END:VEVENT
BEGIN:VEVENT
DTSTART;VALUE=DATE:26590425
SUMMARY:Sprint 3, Week 3
UID:26590425-pentaweek@local
END:VEVENT
BEGIN:VEVENT
DTSTART;VALUE=DATE:26590502
SUMMARY:Sprint 3, Week 4
UID:26590502-pentaweek@local
END:VEVENT
BEGIN:VEVENT
DTSTART;VALUE=DATE:26590509
SUMMARY:Sprint 3, Week 5
UID:26590509-pentaweek@local
END:VEVENT
BEGIN:VEVENT
DTSTART;VALUE=DATE:26590516
SUMMARY:Planning Sprint 4
UID:26590516-pentaweek@local
END:VEVENT
BEGIN:VEVENT
DTSTART;VALUE=DATE:26590523
SUMMARY:Sprint 4, Week 1
UID:26590523-pentaweek@local
END:VEVENT
BEGIN:VEVENT
DTSTART;VALUE=DATE:26590530
SUMMARY:Sprint 4, Week 2
UID:26590530-pentaweek@local
END:VEVENT
BEGIN:VEVENT
DTSTART;VALUE=DATE:26590606
SUMMARY:Sprint 4, Week 3
UID:26590606-pentaweek@local
END:VEVENT
BEGIN:VEVENT
DTSTART;VALUE=DATE:26590613
SUMMARY:Sprint 4, Week 4
UID:26590613-pentaweek@local
END:VEVENT
BEGIN:VEVENT
DTSTART;VALUE=DATE:26590620
SUMMARY:Sprint 4, Week 5
UID:26590620-pentaweek@local
END:VEVENT
BEGIN:VEVENT
DTSTART;VALUE=DATE:26590711
SUMMARY:Planning Sprint 5
UID:26590711-pentaweek@local
END:VEVENT
BEGIN:VEVENT
DTSTART;VALUE=DATE:26590718
SUMMARY:Sprint 5, Week 1
UID:26590718-pentaweek@local
END:VEVENT
BEGIN:VEVENT
DTSTART;VALUE=DATE:26590725
SUMMARY:Sprint 5, Week 2
UID:26590725-pentaweek@local
END:VEVENT
BEGIN:VEVENT
DTSTART;VALUE=DATE:26590801
SUMMARY:Sprint 5, Week 3
UID:26590801-pentaweek@local
END:VEVENT
BEGIN:VEVENT
DTSTART;VALUE=DATE:26590808
SUMMARY:Sprint 5, Week 4
UID:26590808-pentaweek@local
END:VEVENT
BEGIN:VEVENT
DTSTART;VALUE=DATE:26590815
SUMMARY:Sprint 5, Week 5
UID:26590815-pentaweek@local
END:VEVENT
BEGIN:VEVENT
DTSTART;VALUE=DATE:26590822
SUMMARY:Planning Sprint 6
UID:26590822-pentaweek@local
END:VEVENT
BEGIN:VEVENT
DTSTART;VALUE=DATE:26590829
SUMMARY:Sprint 6, Week 1
UID:26590829-pentaweek@local
END:VEVENT
BEGIN:VEVENT
DTSTART;VALUE=DATE:26590905
SUMMARY:Sprint 6, Week 2
UID:26590905-pentaweek@local
END:VEVENT
BEGIN:VEVENT
DTSTART;VALUE=DATE:26590912
SUMMARY:Sprint 6, Week 3
UID:26590912-pentaweek@local
END:VEVENT
BEGIN:VEVENT
DTSTART;VALUE=DATE:26590919
SUMMARY:Sprint 6, Week 4
UID:26590919-pentaweek@local
END:VEVENT
BEGIN:VEVENT
DTSTART;VALUE=DATE:26590926
SUMMARY:Sprint 6, Week 5
UID:26590926-pentaweek@local
END:VEVENT
BEGIN:VEVENT
DTSTART;VALUE=DATE:26591003
SUMMARY:Planning Sprint 7
UID:26591003-pentaweek@local
END:VEVENT
BEGIN:VEVENT
DTSTART;VALUE=DATE:26591010
SUMMARY:Sprint 7, Week 1
UID:26591010-pentaweek@local
END:VEVENT
BEGIN:VEVENT
DTSTART;VALUE=DATE:26591017
SUMMARY:Sprint 7, Week 2
UID:26591017-pentaweek@local
END:VEVENT
BEGIN:VEVENT
DTSTART;VALUE=DATE:26591024
SUMMARY:Sprint 7, Week 3
UID:26591024-pentaweek@local
END:VEVENT
BEGIN:VEVENT
DTSTART;VALUE=DATE:26591031
SUMMARY:Sprint 7, Week 4
UID:26591031-pentaweek@local
END:VEVENT
BEGIN:VEVENT
DTSTART;VALUE=DATE:26591107
SUMMARY:Sprint 7, Week 5
UID:26591107-pentaweek@local
END:VEVENT
BEGIN:VEVENT
DTSTART;VALUE=DATE:26591114
SUMMARY:Planning Sprint 8
UID:26591114-pentaweek@local
END:VEVENT
BEGIN:VEVENT
DTSTART;VALUE=DATE:26591121
SUMMARY:Sprint 8, Week 1
UID:26591121-pentaweek@local
END:VEVENT
BEGIN:VEVENT
DTSTART;VALUE=DATE:26591128
SUMMARY:Sprint 8, Week 2
UID:26591128-pentaweek@local
END:VEVENT
BEGIN:VEVENT
DTSTART;VALUE=DATE:26591205
SUMMARY:Sprint 8, Week 3
UID:26591205-pentaweek@local
END:VEVENT
BEGIN:VEVENT
DTSTART;VALUE=DATE:26591212
SUMMARY:Sprint 8, Week 4
UID:26591212-pentaweek@local
END:VEVENT
BEGIN:VEVENT
DTSTART;VALUE=DATE:26591219
SUMMARY:Sprint 8, Week 5
UID:26591219-pentaweek@local
END:VEVENT
END:VCALENDAR