BEGIN:VCALENDAR
VERSION:2.0
PRODID:-//Pentaweek Calendar//EN
BEGIN:VEVENT
DTSTART;VALUE=DATE:26580104
SUMMARY:Planning Sprint 1
UID:26580104-pentaweek@local
END:VEVENT
BEGIN:VEVENT
DTSTART;VALUE=DATE:26580111
SUMMARY:Sprint 1, Week 1
UID:26580111-pentaweek@local
END:VEVENT
BEGIN:VEVENT
DTSTART;VALUE=DATE:26580118
SUMMARY:Sprint 1, Week 2
UID:26580118-pentaweek@local
END:VEVENT
BEGIN:VEVENT
DTSTART;VALUE=DATE:26580125
SUMMARY:Sprint 1, Week 3
UID:26580125-pentaweek@local
END:VEVENT
BEGIN:VEVENT
DTSTART;VALUE=DATE:26580201
SUMMARY:Sprint 1, Week 4
UID:26580201-pentaweek@local
END:VEVENT
BEGIN:VEVENT
DTSTART;VALUE=DATE:26580208
SUMMARY:Sprint 1, Week 5
UID:26580208-pentaweek@local
END:VEVENT
BEGIN:VEVENT
DTSTART;VALUE=DATE:26580215
SUMMARY:Planning Sprint 2
UID:26580215-pentaweek@local
END:VEVENT
BEGIN:VEVENT
DTSTART;VALUE=DATE:26580222
SUMMARY:Sprint 2, Week 1
UID:26580222-pentaweek@local
END:VEVENT
BEGIN:VEVENT
DTSTART;VALUE=DATE:26580301
SUMMARY:Sprint 2, Week 2
UID:26580301-pentaweek@local
END:VEVENT
BEGIN:VEVENT
DTSTART;VALUE=DATE:26580308
SUMMARY:Sprint 2, Week 3
UID:26580308-pentaweek@local
END:VEVENT
BEGIN:VEVENT
DTSTART;VALUE=DATE:26580315
SUMMARY:Sprint 2, Week 4
UID:26580315-pentaweek@local
END:VEVENT
BEGIN:VEVENT
DTSTART;VALUE=DATE:26580322
SUMMARY:Sprint 2, Week 5
UID:26580322-pentaweek@local
END:VEVENT
BEGIN:VEVENT
DTSTART;VALUE=DATE:26580329
SUMMARY:Planning Sprint 3
UID:26580329-pentaweek@local
END:VEVENT
BEGIN:VEVENT
DTSTART;VALUE=DATE:26580405
SUMMARY:Sprint 3, Week 1
UID:26580405-pentaweek@local
END:VEVENT
BEGIN:VEVENT
DTSTART;VALUE=DATE:26580412
SUMMARY:Sprint 3, Week 2
UID:26580412-pentaweek@local
END:VEVENT
BEGIN:VEVENT
DTSTART;VALUE=DATE:26580419
SUMMARY:Sprint 3, Week 3
UID:26580419-pentaweek@local
END:VEVENT
BEGIN:VEVENT
DTSTART;VALUE=DATE:26580426
SUMMARY:Sprint 3, Week 4
UID:26580426-pentaweek@local
END:VEVENT
BEGIN:VEVENT
DTSTART;VALUE=DATE:26580503
SUMMARY:Sprint 3, Week 5
UID:26580503-pentaweek@local
END:VEVENT
BEGIN:VEVENT
DTSTART;VALUE=DATE:26580510
SUMMARY:Planning Sprint 4
UID:26580510-pentaweek@local
END:VEVENT
BEGIN:VEVENT
DTSTART;VALUE=DATE:26580517
SUMMARY:Sprint 4, Week 1
UID:26580517-pentaweek@local
END:VEVENT
BEGIN:VEVENT
DTSTART;VALUE=DATE:26580524
SUMMARY:Sprint 4, Week 2
UID:26580524-pentaweek@local
END:VEVENT
BEGIN:VEVENT
DTSTART;VALUE=DATE:26580531
SUMMARY:Sprint 4, Week 3
UID:26580531-pentaweek@local
END:VEVENT
BEGIN:VEVENT
DTSTART;VALUE=DATE:26580607
SUMMARY:Sprint 4, Week 4
UID:26580607-pentaweek@local
END:VEVENT
BEGIN:VEVENT
DTSTART;VALUE=DATE:26580614
SUMMARY:Sprint 4, Week 5
UID:26580614-pentaweek@local
END:VEVENT
BEGIN:VEVENT
DTSTART;VALUE=DATE:26580705
SUMMARY:Planning Sprint 5
UID:26580705-pentaweek@local
END:VEVENT
BEGIN:VEVENT
DTSTART;VALUE=DATE:26580712
SUMMARY:Sprint 5, Week 1
UID:26580712-pentaweek@local
END:VEVENT
BEGIN:VEVENT
DTSTART;VALUE=DATE:26580719
SUMMARY:Sprint 5, Week 2
UID:26580719-pentaweek@local
END:VEVENT
BEGIN:VEVENT
DTSTART;VALUE=DATE:26580726
SUMMARY:Sprint 5, Week 3
UID:26580726-pentaweek@local
END:VEVENT
BEGIN:VEVENT
DTSTART;VALUE=DATE:26580802
SUMMARY:Sprint 5, Week 4
UID:26580802-pentaweek@local
END:VEVENT
BEGIN:VEVENT
DTSTART;VALUE=DATE:26580809
SUMMARY:Sprint 5, Week 5
UID:26580809-pentaweek@local
END:VEVENT
BEGIN:VEVENT
DTSTART;VALUE=DATE:26580816
SUMMARY:Planning Sprint 6
UID:26580816-pentaweek@local
END:VEVENT
BEGIN:VEVENT
DTSTART;VALUE=DATE:26580823
SUMMARY:Sprint 6, Week 1
UID:26580823-pentaweek@local
END:VEVENT
BEGIN:VEVENT
DTSTART;VALUE=DATE:26580830
SUMMARY:Sprint 6, Week 2
UID:26580830-pentaweek@local
END:VEVENT
BEGIN:VEVENT
DTSTART;VALUE=DATE:26580906
SUMMARY:Sprint 6, Week 3
UID:26580906-pentaweek@local
END:VEVENT
BEGIN:VEVENT
DTSTART;VALUE=DATE:26580913
SUMMARY:Sprint 6, Week 4
UID:26580913-pentaweek@local
END:VEVENT
BEGIN:VEVENT
DTSTART;VALUE=DATE:26580920
SUMMARY:Sprint 6, Week 5
UID:26580920-pentaweek@local
END:VEVENT
BEGIN:VEVENT
DTSTART;VALUE=DATE:26580927
SUMMARY:Planning Sprint 7
UID:26580927-pentaweek@local
END:VEVENT
BEGIN:VEVENT
DTSTART;VALUE=DATE:26581004
SUMMARY:Sprint 7, Week 1
UID:26581004-pentaweek@local
END:VEVENT
BEGIN:VEVENT
DTSTART;VALUE=DATE:26581011
SUMMARY:Sprint 7, Week 2
UID:26581011-pentaweek@local
END:VEVENT
BEGIN:VEVENT
DTSTART;VALUE=DATE:26581018
SUMMARY:Sprint 7, Week 3
UID:26581018-pentaweek@local
END:VEVENT
BEGIN:VEVENT
DTSTART;VALUE=DATE:26581025
SUMMARY:Sprint 7, Week 4
UID:26581025-pentaweek@local
END:VEVENT
BEGIN:VEVENT
DTSTART;VALUE=DATE:26581101
SUMMARY:Sprint 7, Week 5
UID:26581101-pentaweek@local
END:VEVENT
BEGIN:VEVENT
DTSTART;VALUE=DATE:26581108
SUMMARY:Planning Sprint 8
UID:26581108-pentaweek@local
END:VEVENT
BEGIN:VEVENT
DTSTART;VALUE=DATE:26581115
SUMMARY:Sprint 8, Week 1
UID:26581115-pentaweek@local
END:VEVENT
BEGIN:VEVENT
DTSTART;VALUE=DATE:26581122
SUMMARY:Sprint 8, Week 2
UID:26581122-pentaweek@local
END:VEVENT
BEGIN:VEVENT
DTSTART;VALUE=DATE:26581129
SUMMARY:Sprint 8, Week 3
UID:26581129-pentaweek@local
END:VEVENT
BEGIN:VEVENT
DTSTART;VALUE=DATE:26581206
SUMMARY:Sprint 8, Week 4
UID:26581206-pentaweek@local
END:VEVENT
BEGIN:VEVENT
DTSTART;VALUE=DATE:26581213
SUMMARY:Sprint 8, Week 5
UID:26581213-pentaweek@local
END:VEVENT
END:VCALENDAR