BEGIN:VCALENDAR
VERSION:2.0
PRODID:-//Pentaweek Calendar//EN
BEGIN:VEVENT
DTSTART;VALUE=DATE:26570105
SUMMARY:Planning Sprint 1
UID:26570105-pentaweek@local
END:VEVENT
BEGIN:VEVENT
DTSTART;VALUE=DATE:26570112
SUMMARY:Sprint 1, Week 1
UID:26570112-pentaweek@local
END:VEVENT
BEGIN:VEVENT
DTSTART;VALUE=DATE:26570119
SUMMARY:Sprint 1, Week 2
UID:26570119-pentaweek@local
END:VEVENT
BEGIN:VEVENT
DTSTART;VALUE=DATE:26570126
SUMMARY:Sprint 1, Week 3
UID:26570126-pentaweek@local
END:VEVENT
BEGIN:VEVENT
DTSTART;VALUE=DATE:26570202
SUMMARY:Sprint 1, Week 4
UID:26570202-pentaweek@local
END:VEVENT
BEGIN:VEVENT
DTSTART;VALUE=DATE:26570209
SUMMARY:Sprint 1, Week 5
UID:26570209-pentaweek@local
END:VEVENT
BEGIN:VEVENT
DTSTART;VALUE=DATE:26570216
SUMMARY:Planning Sprint 2
UID:26570216-pentaweek@local
END:VEVENT
BEGIN:VEVENT
DTSTART;VALUE=DATE:26570223
SUMMARY:Sprint 2, Week 1
UID:26570223-pentaweek@local
END:VEVENT
BEGIN:VEVENT
DTSTART;VALUE=DATE:26570302
SUMMARY:Sprint 2, Week 2
UID:26570302-pentaweek@local
END:VEVENT
BEGIN:VEVENT
DTSTART;VALUE=DATE:26570309
SUMMARY:Sprint 2, Week 3
UID:26570309-pentaweek@local
END:VEVENT
BEGIN:VEVENT
DTSTART;VALUE=DATE:26570316
SUMMARY:Sprint 2, Week 4
UID:26570316-pentaweek@local
END:VEVENT
BEGIN:VEVENT
DTSTART;VALUE=DATE:26570323
SUMMARY:Sprint 2, Week 5
UID:26570323-pentaweek@local
END:VEVENT
BEGIN:VEVENT
DTSTART;VALUE=DATE:26570330
SUMMARY:Planning Sprint 3
UID:26570330-pentaweek@local
END:VEVENT
BEGIN:VEVENT
DTSTART;VALUE=DATE:26570406
SUMMARY:Sprint 3, Week 1
UID:26570406-pentaweek@local
END:VEVENT
BEGIN:VEVENT
DTSTART;VALUE=DATE:26570413
SUMMARY:Sprint 3, Week 2
UID:26570413-pentaweek@local
END:VEVENT
BEGIN:VEVENT
DTSTART;VALUE=DATE:26570420
SUMMARY:Sprint 3, Week 3
UID:26570420-pentaweek@local
END:VEVENT
BEGIN:VEVENT
DTSTART;VALUE=DATE:26570427
SUMMARY:Sprint 3, Week 4
UID:26570427-pentaweek@local
END:VEVENT
BEGIN:VEVENT
DTSTART;VALUE=DATE:26570504
SUMMARY:Sprint 3, Week 5
UID:26570504-pentaweek@local
END:VEVENT
BEGIN:VEVENT
DTSTART;VALUE=DATE:26570511
SUMMARY:Planning Sprint 4
UID:26570511-pentaweek@local
END:VEVENT
BEGIN:VEVENT
DTSTART;VALUE=DATE:26570518
SUMMARY:Sprint 4, Week 1
UID:26570518-pentaweek@local
END:VEVENT
BEGIN:VEVENT
DTSTART;VALUE=DATE:26570525
SUMMARY:Sprint 4, Week 2
UID:26570525-pentaweek@local
END:VEVENT
BEGIN:VEVENT
DTSTART;VALUE=DATE:26570601
SUMMARY:Sprint 4, Week 3
UID:26570601-pentaweek@local
END:VEVENT
BEGIN:VEVENT
DTSTART;VALUE=DATE:26570608
SUMMARY:Sprint 4, Week 4
UID:26570608-pentaweek@local
END:VEVENT
BEGIN:VEVENT
DTSTART;VALUE=DATE:26570615
SUMMARY:Sprint 4, Week 5
UID:26570615-pentaweek@local
END:VEVENT
BEGIN:VEVENT
DTSTART;VALUE=DATE:26570706
SUMMARY:Planning Sprint 5
UID:26570706-pentaweek@local
END:VEVENT
BEGIN:VEVENT
DTSTART;VALUE=DATE:26570713
SUMMARY:Sprint 5, Week 1
UID:26570713-pentaweek@local
END:VEVENT
BEGIN:VEVENT
DTSTART;VALUE=DATE:26570720
SUMMARY:Sprint 5, Week 2
UID:26570720-pentaweek@local
END:VEVENT
BEGIN:VEVENT
DTSTART;VALUE=DATE:26570727
SUMMARY:Sprint 5, Week 3
UID:26570727-pentaweek@local
END:VEVENT
BEGIN:VEVENT
DTSTART;VALUE=DATE:26570803
SUMMARY:Sprint 5, Week 4
UID:26570803-pentaweek@local
END:VEVENT
BEGIN:VEVENT
DTSTART;VALUE=DATE:26570810
SUMMARY:Sprint 5, Week 5
UID:26570810-pentaweek@local
END:VEVENT
BEGIN:VEVENT
DTSTART;VALUE=DATE:26570817
SUMMARY:Planning Sprint 6
UID:26570817-pentaweek@local
END:VEVENT
BEGIN:VEVENT
DTSTART;VALUE=DATE:26570824
SUMMARY:Sprint 6, Week 1
UID:26570824-pentaweek@local
END:VEVENT
BEGIN:VEVENT
DTSTART;VALUE=DATE:26570831
SUMMARY:Sprint 6, Week 2
UID:26570831-pentaweek@local
END:VEVENT
BEGIN:VEVENT
DTSTART;VALUE=DATE:26570907
SUMMARY:Sprint 6, Week 3
UID:26570907-pentaweek@local
END:VEVENT
BEGIN:VEVENT
DTSTART;VALUE=DATE:26570914
SUMMARY:Sprint 6, Week 4
UID:26570914-pentaweek@local
END:VEVENT
BEGIN:VEVENT
DTSTART;VALUE=DATE:26570921
SUMMARY:Sprint 6, Week 5
UID:26570921-pentaweek@local
END:VEVENT
BEGIN:VEVENT
DTSTART;VALUE=DATE:26570928
SUMMARY:Planning Sprint 7
UID:26570928-pentaweek@local
END:VEVENT
BEGIN:VEVENT
DTSTART;VALUE=DATE:26571005
SUMMARY:Sprint 7, Week 1
UID:26571005-pentaweek@local
END:VEVENT
BEGIN:VEVENT
DTSTART;VALUE=DATE:26571012
SUMMARY:Sprint 7, Week 2
UID:26571012-pentaweek@local
END:VEVENT
BEGIN:VEVENT
DTSTART;VALUE=DATE:26571019
SUMMARY:Sprint 7, Week 3
UID:26571019-pentaweek@local
END:VEVENT
BEGIN:VEVENT
DTSTART;VALUE=DATE:26571026
SUMMARY:Sprint 7, Week 4
UID:26571026-pentaweek@local
END:VEVENT
BEGIN:VEVENT
DTSTART;VALUE=DATE:26571102
SUMMARY:Sprint 7, Week 5
UID:26571102-pentaweek@local
END:VEVENT
BEGIN:VEVENT
DTSTART;VALUE=DATE:26571109
SUMMARY:Planning Sprint 8
UID:26571109-pentaweek@local
END:VEVENT
BEGIN:VEVENT
DTSTART;VALUE=DATE:26571116
SUMMARY:Sprint 8, Week 1
UID:26571116-pentaweek@local
END:VEVENT
BEGIN:VEVENT
DTSTART;VALUE=DATE:26571123
SUMMARY:Sprint 8, Week 2
UID:26571123-pentaweek@local
END:VEVENT
BEGIN:VEVENT
DTSTART;VALUE=DATE:26571130
SUMMARY:Sprint 8, Week 3
UID:26571130-pentaweek@local
END:VEVENT
BEGIN:VEVENT
DTSTART;VALUE=DATE:26571207
SUMMARY:Sprint 8, Week 4
UID:26571207-pentaweek@local
END:VEVENT
BEGIN:VEVENT
DTSTART;VALUE=DATE:26571214
SUMMARY:Sprint 8, Week 5
UID:26571214-pentaweek@local
END:VEVENT
END:VCALENDAR