BEGIN:VCALENDAR
VERSION:2.0
PRODID:-//Pentaweek Calendar//EN
BEGIN:VEVENT
DTSTART;VALUE=DATE:26560107
SUMMARY:Planning Sprint 1
UID:26560107-pentaweek@local
END:VEVENT
BEGIN:VEVENT
DTSTART;VALUE=DATE:26560114
SUMMARY:Sprint 1, Week 1
UID:26560114-pentaweek@local
END:VEVENT
BEGIN:VEVENT
DTSTART;VALUE=DATE:26560121
SUMMARY:Sprint 1, Week 2
UID:26560121-pentaweek@local
END:VEVENT
BEGIN:VEVENT
DTSTART;VALUE=DATE:26560128
SUMMARY:Sprint 1, Week 3
UID:26560128-pentaweek@local
END:VEVENT
BEGIN:VEVENT
DTSTART;VALUE=DATE:26560204
SUMMARY:Sprint 1, Week 4
UID:26560204-pentaweek@local
END:VEVENT
BEGIN:VEVENT
DTSTART;VALUE=DATE:26560211
SUMMARY:Sprint 1, Week 5
UID:26560211-pentaweek@local
END:VEVENT
BEGIN:VEVENT
DTSTART;VALUE=DATE:26560218
SUMMARY:Planning Sprint 2
UID:26560218-pentaweek@local
END:VEVENT
BEGIN:VEVENT
DTSTART;VALUE=DATE:26560225
SUMMARY:Sprint 2, Week 1
UID:26560225-pentaweek@local
END:VEVENT
BEGIN:VEVENT
DTSTART;VALUE=DATE:26560303
SUMMARY:Sprint 2, Week 2
UID:26560303-pentaweek@local
END:VEVENT
BEGIN:VEVENT
DTSTART;VALUE=DATE:26560310
SUMMARY:Sprint 2, Week 3
UID:26560310-pentaweek@local
END:VEVENT
BEGIN:VEVENT
DTSTART;VALUE=DATE:26560317
SUMMARY:Sprint 2, Week 4
UID:26560317-pentaweek@local
END:VEVENT
BEGIN:VEVENT
DTSTART;VALUE=DATE:26560324
SUMMARY:Sprint 2, Week 5
UID:26560324-pentaweek@local
END:VEVENT
BEGIN:VEVENT
DTSTART;VALUE=DATE:26560331
SUMMARY:Planning Sprint 3
UID:26560331-pentaweek@local
END:VEVENT
BEGIN:VEVENT
DTSTART;VALUE=DATE:26560407
SUMMARY:Sprint 3, Week 1
UID:26560407-pentaweek@local
END:VEVENT
BEGIN:VEVENT
DTSTART;VALUE=DATE:26560414
SUMMARY:Sprint 3, Week 2
UID:26560414-pentaweek@local
END:VEVENT
BEGIN:VEVENT
DTSTART;VALUE=DATE:26560421
SUMMARY:Sprint 3, Week 3
UID:26560421-pentaweek@local
END:VEVENT
BEGIN:VEVENT
DTSTART;VALUE=DATE:26560428
SUMMARY:Sprint 3, Week 4
UID:26560428-pentaweek@local
END:VEVENT
BEGIN:VEVENT
DTSTART;VALUE=DATE:26560505
SUMMARY:Sprint 3, Week 5
UID:26560505-pentaweek@local
END:VEVENT
BEGIN:VEVENT
DTSTART;VALUE=DATE:26560512
SUMMARY:Planning Sprint 4
UID:26560512-pentaweek@local
END:VEVENT
BEGIN:VEVENT
DTSTART;VALUE=DATE:26560519
SUMMARY:Sprint 4, Week 1
UID:26560519-pentaweek@local
END:VEVENT
BEGIN:VEVENT
DTSTART;VALUE=DATE:26560526
SUMMARY:Sprint 4, Week 2
UID:26560526-pentaweek@local
END:VEVENT
BEGIN:VEVENT
DTSTART;VALUE=DATE:26560602
SUMMARY:Sprint 4, Week 3
UID:26560602-pentaweek@local
END:VEVENT
BEGIN:VEVENT
DTSTART;VALUE=DATE:26560609
SUMMARY:Sprint 4, Week 4
UID:26560609-pentaweek@local
END:VEVENT
BEGIN:VEVENT
DTSTART;VALUE=DATE:26560616
SUMMARY:Sprint 4, Week 5
UID:26560616-pentaweek@local
END:VEVENT
BEGIN:VEVENT
DTSTART;VALUE=DATE:26560707
SUMMARY:Planning Sprint 5
UID:26560707-pentaweek@local
END:VEVENT
BEGIN:VEVENT
DTSTART;VALUE=DATE:26560714
SUMMARY:Sprint 5, Week 1
UID:26560714-pentaweek@local
END:VEVENT
BEGIN:VEVENT
DTSTART;VALUE=DATE:26560721
SUMMARY:Sprint 5, Week 2
UID:26560721-pentaweek@local
END:VEVENT
BEGIN:VEVENT
DTSTART;VALUE=DATE:26560728
SUMMARY:Sprint 5, Week 3
UID:26560728-pentaweek@local
END:VEVENT
BEGIN:VEVENT
DTSTART;VALUE=DATE:26560804
SUMMARY:Sprint 5, Week 4
UID:26560804-pentaweek@local
END:VEVENT
BEGIN:VEVENT
DTSTART;VALUE=DATE:26560811
SUMMARY:Sprint 5, Week 5
UID:26560811-pentaweek@local
END:VEVENT
BEGIN:VEVENT
DTSTART;VALUE=DATE:26560818
SUMMARY:Planning Sprint 6
UID:26560818-pentaweek@local
END:VEVENT
BEGIN:VEVENT
DTSTART;VALUE=DATE:26560825
SUMMARY:Sprint 6, Week 1
UID:26560825-pentaweek@local
END:VEVENT
BEGIN:VEVENT
DTSTART;VALUE=DATE:26560901
SUMMARY:Sprint 6, Week 2
UID:26560901-pentaweek@local
END:VEVENT
BEGIN:VEVENT
DTSTART;VALUE=DATE:26560908
SUMMARY:Sprint 6, Week 3
UID:26560908-pentaweek@local
END:VEVENT
BEGIN:VEVENT
DTSTART;VALUE=DATE:26560915
SUMMARY:Sprint 6, Week 4
UID:26560915-pentaweek@local
END:VEVENT
BEGIN:VEVENT
DTSTART;VALUE=DATE:26560922
SUMMARY:Sprint 6, Week 5
UID:26560922-pentaweek@local
END:VEVENT
BEGIN:VEVENT
DTSTART;VALUE=DATE:26560929
SUMMARY:Planning Sprint 7
UID:26560929-pentaweek@local
END:VEVENT
BEGIN:VEVENT
DTSTART;VALUE=DATE:26561006
SUMMARY:Sprint 7, Week 1
UID:26561006-pentaweek@local
END:VEVENT
BEGIN:VEVENT
DTSTART;VALUE=DATE:26561013
SUMMARY:Sprint 7, Week 2
UID:26561013-pentaweek@local
END:VEVENT
BEGIN:VEVENT
DTSTART;VALUE=DATE:26561020
SUMMARY:Sprint 7, Week 3
UID:26561020-pentaweek@local
END:VEVENT
BEGIN:VEVENT
DTSTART;VALUE=DATE:26561027
SUMMARY:Sprint 7, Week 4
UID:26561027-pentaweek@local
END:VEVENT
BEGIN:VEVENT
DTSTART;VALUE=DATE:26561103
SUMMARY:Sprint 7, Week 5
UID:26561103-pentaweek@local
END:VEVENT
BEGIN:VEVENT
DTSTART;VALUE=DATE:26561110
SUMMARY:Planning Sprint 8
UID:26561110-pentaweek@local
END:VEVENT
BEGIN:VEVENT
DTSTART;VALUE=DATE:26561117
SUMMARY:Sprint 8, Week 1
UID:26561117-pentaweek@local
END:VEVENT
BEGIN:VEVENT
DTSTART;VALUE=DATE:26561124
SUMMARY:Sprint 8, Week 2
UID:26561124-pentaweek@local
END:VEVENT
BEGIN:VEVENT
DTSTART;VALUE=DATE:26561201
SUMMARY:Sprint 8, Week 3
UID:26561201-pentaweek@local
END:VEVENT
BEGIN:VEVENT
DTSTART;VALUE=DATE:26561208
SUMMARY:Sprint 8, Week 4
UID:26561208-pentaweek@local
END:VEVENT
BEGIN:VEVENT
DTSTART;VALUE=DATE:26561215
SUMMARY:Sprint 8, Week 5
UID:26561215-pentaweek@local
END:VEVENT
END:VCALENDAR