BEGIN:VCALENDAR
VERSION:2.0
PRODID:-//Pentaweek Calendar//EN
BEGIN:VEVENT
DTSTART;VALUE=DATE:26550108
SUMMARY:Planning Sprint 1
UID:26550108-pentaweek@local
END:VEVENT
BEGIN:VEVENT
DTSTART;VALUE=DATE:26550115
SUMMARY:Sprint 1, Week 1
UID:26550115-pentaweek@local
END:VEVENT
BEGIN:VEVENT
DTSTART;VALUE=DATE:26550122
SUMMARY:Sprint 1, Week 2
UID:26550122-pentaweek@local
END:VEVENT
BEGIN:VEVENT
DTSTART;VALUE=DATE:26550129
SUMMARY:Sprint 1, Week 3
UID:26550129-pentaweek@local
END:VEVENT
BEGIN:VEVENT
DTSTART;VALUE=DATE:26550205
SUMMARY:Sprint 1, Week 4
UID:26550205-pentaweek@local
END:VEVENT
BEGIN:VEVENT
DTSTART;VALUE=DATE:26550212
SUMMARY:Sprint 1, Week 5
UID:26550212-pentaweek@local
END:VEVENT
BEGIN:VEVENT
DTSTART;VALUE=DATE:26550219
SUMMARY:Planning Sprint 2
UID:26550219-pentaweek@local
END:VEVENT
BEGIN:VEVENT
DTSTART;VALUE=DATE:26550226
SUMMARY:Sprint 2, Week 1
UID:26550226-pentaweek@local
END:VEVENT
BEGIN:VEVENT
DTSTART;VALUE=DATE:26550305
SUMMARY:Sprint 2, Week 2
UID:26550305-pentaweek@local
END:VEVENT
BEGIN:VEVENT
DTSTART;VALUE=DATE:26550312
SUMMARY:Sprint 2, Week 3
UID:26550312-pentaweek@local
END:VEVENT
BEGIN:VEVENT
DTSTART;VALUE=DATE:26550319
SUMMARY:Sprint 2, Week 4
UID:26550319-pentaweek@local
END:VEVENT
BEGIN:VEVENT
DTSTART;VALUE=DATE:26550326
SUMMARY:Sprint 2, Week 5
UID:26550326-pentaweek@local
END:VEVENT
BEGIN:VEVENT
DTSTART;VALUE=DATE:26550402
SUMMARY:Planning Sprint 3
UID:26550402-pentaweek@local
END:VEVENT
BEGIN:VEVENT
DTSTART;VALUE=DATE:26550409
SUMMARY:Sprint 3, Week 1
UID:26550409-pentaweek@local
END:VEVENT
BEGIN:VEVENT
DTSTART;VALUE=DATE:26550416
SUMMARY:Sprint 3, Week 2
UID:26550416-pentaweek@local
END:VEVENT
BEGIN:VEVENT
DTSTART;VALUE=DATE:26550423
SUMMARY:Sprint 3, Week 3
UID:26550423-pentaweek@local
END:VEVENT
BEGIN:VEVENT
DTSTART;VALUE=DATE:26550430
SUMMARY:Sprint 3, Week 4
UID:26550430-pentaweek@local
END:VEVENT
BEGIN:VEVENT
DTSTART;VALUE=DATE:26550507
SUMMARY:Sprint 3, Week 5
UID:26550507-pentaweek@local
END:VEVENT
BEGIN:VEVENT
DTSTART;VALUE=DATE:26550514
SUMMARY:Planning Sprint 4
UID:26550514-pentaweek@local
END:VEVENT
BEGIN:VEVENT
DTSTART;VALUE=DATE:26550521
SUMMARY:Sprint 4, Week 1
UID:26550521-pentaweek@local
END:VEVENT
BEGIN:VEVENT
DTSTART;VALUE=DATE:26550528
SUMMARY:Sprint 4, Week 2
UID:26550528-pentaweek@local
END:VEVENT
BEGIN:VEVENT
DTSTART;VALUE=DATE:26550604
SUMMARY:Sprint 4, Week 3
UID:26550604-pentaweek@local
END:VEVENT
BEGIN:VEVENT
DTSTART;VALUE=DATE:26550611
SUMMARY:Sprint 4, Week 4
UID:26550611-pentaweek@local
END:VEVENT
BEGIN:VEVENT
DTSTART;VALUE=DATE:26550618
SUMMARY:Sprint 4, Week 5
UID:26550618-pentaweek@local
END:VEVENT
BEGIN:VEVENT
DTSTART;VALUE=DATE:26550709
SUMMARY:Planning Sprint 5
UID:26550709-pentaweek@local
END:VEVENT
BEGIN:VEVENT
DTSTART;VALUE=DATE:26550716
SUMMARY:Sprint 5, Week 1
UID:26550716-pentaweek@local
END:VEVENT
BEGIN:VEVENT
DTSTART;VALUE=DATE:26550723
SUMMARY:Sprint 5, Week 2
UID:26550723-pentaweek@local
END:VEVENT
BEGIN:VEVENT
DTSTART;VALUE=DATE:26550730
SUMMARY:Sprint 5, Week 3
UID:26550730-pentaweek@local
END:VEVENT
BEGIN:VEVENT
DTSTART;VALUE=DATE:26550806
SUMMARY:Sprint 5, Week 4
UID:26550806-pentaweek@local
END:VEVENT
BEGIN:VEVENT
DTSTART;VALUE=DATE:26550813
SUMMARY:Sprint 5, Week 5
UID:26550813-pentaweek@local
END:VEVENT
BEGIN:VEVENT
DTSTART;VALUE=DATE:26550820
SUMMARY:Planning Sprint 6
UID:26550820-pentaweek@local
END:VEVENT
BEGIN:VEVENT
DTSTART;VALUE=DATE:26550827
SUMMARY:Sprint 6, Week 1
UID:26550827-pentaweek@local
END:VEVENT
BEGIN:VEVENT
DTSTART;VALUE=DATE:26550903
SUMMARY:Sprint 6, Week 2
UID:26550903-pentaweek@local
END:VEVENT
BEGIN:VEVENT
DTSTART;VALUE=DATE:26550910
SUMMARY:Sprint 6, Week 3
UID:26550910-pentaweek@local
END:VEVENT
BEGIN:VEVENT
DTSTART;VALUE=DATE:26550917
SUMMARY:Sprint 6, Week 4
UID:26550917-pentaweek@local
END:VEVENT
BEGIN:VEVENT
DTSTART;VALUE=DATE:26550924
SUMMARY:Sprint 6, Week 5
UID:26550924-pentaweek@local
END:VEVENT
BEGIN:VEVENT
DTSTART;VALUE=DATE:26551001
SUMMARY:Planning Sprint 7
UID:26551001-pentaweek@local
END:VEVENT
BEGIN:VEVENT
DTSTART;VALUE=DATE:26551008
SUMMARY:Sprint 7, Week 1
UID:26551008-pentaweek@local
END:VEVENT
BEGIN:VEVENT
DTSTART;VALUE=DATE:26551015
SUMMARY:Sprint 7, Week 2
UID:26551015-pentaweek@local
END:VEVENT
BEGIN:VEVENT
DTSTART;VALUE=DATE:26551022
SUMMARY:Sprint 7, Week 3
UID:26551022-pentaweek@local
END:VEVENT
BEGIN:VEVENT
DTSTART;VALUE=DATE:26551029
SUMMARY:Sprint 7, Week 4
UID:26551029-pentaweek@local
END:VEVENT
BEGIN:VEVENT
DTSTART;VALUE=DATE:26551105
SUMMARY:Sprint 7, Week 5
UID:26551105-pentaweek@local
END:VEVENT
BEGIN:VEVENT
DTSTART;VALUE=DATE:26551112
SUMMARY:Planning Sprint 8
UID:26551112-pentaweek@local
END:VEVENT
BEGIN:VEVENT
DTSTART;VALUE=DATE:26551119
SUMMARY:Sprint 8, Week 1
UID:26551119-pentaweek@local
END:VEVENT
BEGIN:VEVENT
DTSTART;VALUE=DATE:26551126
SUMMARY:Sprint 8, Week 2
UID:26551126-pentaweek@local
END:VEVENT
BEGIN:VEVENT
DTSTART;VALUE=DATE:26551203
SUMMARY:Sprint 8, Week 3
UID:26551203-pentaweek@local
END:VEVENT
BEGIN:VEVENT
DTSTART;VALUE=DATE:26551210
SUMMARY:Sprint 8, Week 4
UID:26551210-pentaweek@local
END:VEVENT
BEGIN:VEVENT
DTSTART;VALUE=DATE:26551217
SUMMARY:Sprint 8, Week 5
UID:26551217-pentaweek@local
END:VEVENT
END:VCALENDAR