BEGIN:VCALENDAR
VERSION:2.0
PRODID:-//Pentaweek Calendar//EN
BEGIN:VEVENT
DTSTART;VALUE=DATE:26540109
SUMMARY:Planning Sprint 1
UID:26540109-pentaweek@local
END:VEVENT
BEGIN:VEVENT
DTSTART;VALUE=DATE:26540116
SUMMARY:Sprint 1, Week 1
UID:26540116-pentaweek@local
END:VEVENT
BEGIN:VEVENT
DTSTART;VALUE=DATE:26540123
SUMMARY:Sprint 1, Week 2
UID:26540123-pentaweek@local
END:VEVENT
BEGIN:VEVENT
DTSTART;VALUE=DATE:26540130
SUMMARY:Sprint 1, Week 3
UID:26540130-pentaweek@local
END:VEVENT
BEGIN:VEVENT
DTSTART;VALUE=DATE:26540206
SUMMARY:Sprint 1, Week 4
UID:26540206-pentaweek@local
END:VEVENT
BEGIN:VEVENT
DTSTART;VALUE=DATE:26540213
SUMMARY:Sprint 1, Week 5
UID:26540213-pentaweek@local
END:VEVENT
BEGIN:VEVENT
DTSTART;VALUE=DATE:26540220
SUMMARY:Planning Sprint 2
UID:26540220-pentaweek@local
END:VEVENT
BEGIN:VEVENT
DTSTART;VALUE=DATE:26540227
SUMMARY:Sprint 2, Week 1
UID:26540227-pentaweek@local
END:VEVENT
BEGIN:VEVENT
DTSTART;VALUE=DATE:26540306
SUMMARY:Sprint 2, Week 2
UID:26540306-pentaweek@local
END:VEVENT
BEGIN:VEVENT
DTSTART;VALUE=DATE:26540313
SUMMARY:Sprint 2, Week 3
UID:26540313-pentaweek@local
END:VEVENT
BEGIN:VEVENT
DTSTART;VALUE=DATE:26540320
SUMMARY:Sprint 2, Week 4
UID:26540320-pentaweek@local
END:VEVENT
BEGIN:VEVENT
DTSTART;VALUE=DATE:26540327
SUMMARY:Sprint 2, Week 5
UID:26540327-pentaweek@local
END:VEVENT
BEGIN:VEVENT
DTSTART;VALUE=DATE:26540403
SUMMARY:Planning Sprint 3
UID:26540403-pentaweek@local
END:VEVENT
BEGIN:VEVENT
DTSTART;VALUE=DATE:26540410
SUMMARY:Sprint 3, Week 1
UID:26540410-pentaweek@local
END:VEVENT
BEGIN:VEVENT
DTSTART;VALUE=DATE:26540417
SUMMARY:Sprint 3, Week 2
UID:26540417-pentaweek@local
END:VEVENT
BEGIN:VEVENT
DTSTART;VALUE=DATE:26540424
SUMMARY:Sprint 3, Week 3
UID:26540424-pentaweek@local
END:VEVENT
BEGIN:VEVENT
DTSTART;VALUE=DATE:26540501
SUMMARY:Sprint 3, Week 4
UID:26540501-pentaweek@local
END:VEVENT
BEGIN:VEVENT
DTSTART;VALUE=DATE:26540508
SUMMARY:Sprint 3, Week 5
UID:26540508-pentaweek@local
END:VEVENT
BEGIN:VEVENT
DTSTART;VALUE=DATE:26540515
SUMMARY:Planning Sprint 4
UID:26540515-pentaweek@local
END:VEVENT
BEGIN:VEVENT
DTSTART;VALUE=DATE:26540522
SUMMARY:Sprint 4, Week 1
UID:26540522-pentaweek@local
END:VEVENT
BEGIN:VEVENT
DTSTART;VALUE=DATE:26540529
SUMMARY:Sprint 4, Week 2
UID:26540529-pentaweek@local
END:VEVENT
BEGIN:VEVENT
DTSTART;VALUE=DATE:26540605
SUMMARY:Sprint 4, Week 3
UID:26540605-pentaweek@local
END:VEVENT
BEGIN:VEVENT
DTSTART;VALUE=DATE:26540612
SUMMARY:Sprint 4, Week 4
UID:26540612-pentaweek@local
END:VEVENT
BEGIN:VEVENT
DTSTART;VALUE=DATE:26540619
SUMMARY:Sprint 4, Week 5
UID:26540619-pentaweek@local
END:VEVENT
BEGIN:VEVENT
DTSTART;VALUE=DATE:26540710
SUMMARY:Planning Sprint 5
UID:26540710-pentaweek@local
END:VEVENT
BEGIN:VEVENT
DTSTART;VALUE=DATE:26540717
SUMMARY:Sprint 5, Week 1
UID:26540717-pentaweek@local
END:VEVENT
BEGIN:VEVENT
DTSTART;VALUE=DATE:26540724
SUMMARY:Sprint 5, Week 2
UID:26540724-pentaweek@local
END:VEVENT
BEGIN:VEVENT
DTSTART;VALUE=DATE:26540731
SUMMARY:Sprint 5, Week 3
UID:26540731-pentaweek@local
END:VEVENT
BEGIN:VEVENT
DTSTART;VALUE=DATE:26540807
SUMMARY:Sprint 5, Week 4
UID:26540807-pentaweek@local
END:VEVENT
BEGIN:VEVENT
DTSTART;VALUE=DATE:26540814
SUMMARY:Sprint 5, Week 5
UID:26540814-pentaweek@local
END:VEVENT
BEGIN:VEVENT
DTSTART;VALUE=DATE:26540821
SUMMARY:Planning Sprint 6
UID:26540821-pentaweek@local
END:VEVENT
BEGIN:VEVENT
DTSTART;VALUE=DATE:26540828
SUMMARY:Sprint 6, Week 1
UID:26540828-pentaweek@local
END:VEVENT
BEGIN:VEVENT
DTSTART;VALUE=DATE:26540904
SUMMARY:Sprint 6, Week 2
UID:26540904-pentaweek@local
END:VEVENT
BEGIN:VEVENT
DTSTART;VALUE=DATE:26540911
SUMMARY:Sprint 6, Week 3
UID:26540911-pentaweek@local
END:VEVENT
BEGIN:VEVENT
DTSTART;VALUE=DATE:26540918
SUMMARY:Sprint 6, Week 4
UID:26540918-pentaweek@local
END:VEVENT
BEGIN:VEVENT
DTSTART;VALUE=DATE:26540925
SUMMARY:Sprint 6, Week 5
UID:26540925-pentaweek@local
END:VEVENT
BEGIN:VEVENT
DTSTART;VALUE=DATE:26541002
SUMMARY:Planning Sprint 7
UID:26541002-pentaweek@local
END:VEVENT
BEGIN:VEVENT
DTSTART;VALUE=DATE:26541009
SUMMARY:Sprint 7, Week 1
UID:26541009-pentaweek@local
END:VEVENT
BEGIN:VEVENT
DTSTART;VALUE=DATE:26541016
SUMMARY:Sprint 7, Week 2
UID:26541016-pentaweek@local
END:VEVENT
BEGIN:VEVENT
DTSTART;VALUE=DATE:26541023
SUMMARY:Sprint 7, Week 3
UID:26541023-pentaweek@local
END:VEVENT
BEGIN:VEVENT
DTSTART;VALUE=DATE:26541030
SUMMARY:Sprint 7, Week 4
UID:26541030-pentaweek@local
END:VEVENT
BEGIN:VEVENT
DTSTART;VALUE=DATE:26541106
SUMMARY:Sprint 7, Week 5
UID:26541106-pentaweek@local
END:VEVENT
BEGIN:VEVENT
DTSTART;VALUE=DATE:26541113
SUMMARY:Planning Sprint 8
UID:26541113-pentaweek@local
END:VEVENT
BEGIN:VEVENT
DTSTART;VALUE=DATE:26541120
SUMMARY:Sprint 8, Week 1
UID:26541120-pentaweek@local
END:VEVENT
BEGIN:VEVENT
DTSTART;VALUE=DATE:26541127
SUMMARY:Sprint 8, Week 2
UID:26541127-pentaweek@local
END:VEVENT
BEGIN:VEVENT
DTSTART;VALUE=DATE:26541204
SUMMARY:Sprint 8, Week 3
UID:26541204-pentaweek@local
END:VEVENT
BEGIN:VEVENT
DTSTART;VALUE=DATE:26541211
SUMMARY:Sprint 8, Week 4
UID:26541211-pentaweek@local
END:VEVENT
BEGIN:VEVENT
DTSTART;VALUE=DATE:26541218
SUMMARY:Sprint 8, Week 5
UID:26541218-pentaweek@local
END:VEVENT
END:VCALENDAR