BEGIN:VCALENDAR
VERSION:2.0
PRODID:-//Pentaweek Calendar//EN
BEGIN:VEVENT
DTSTART;VALUE=DATE:26530110
SUMMARY:Planning Sprint 1
UID:26530110-pentaweek@local
END:VEVENT
BEGIN:VEVENT
DTSTART;VALUE=DATE:26530117
SUMMARY:Sprint 1, Week 1
UID:26530117-pentaweek@local
END:VEVENT
BEGIN:VEVENT
DTSTART;VALUE=DATE:26530124
SUMMARY:Sprint 1, Week 2
UID:26530124-pentaweek@local
END:VEVENT
BEGIN:VEVENT
DTSTART;VALUE=DATE:26530131
SUMMARY:Sprint 1, Week 3
UID:26530131-pentaweek@local
END:VEVENT
BEGIN:VEVENT
DTSTART;VALUE=DATE:26530207
SUMMARY:Sprint 1, Week 4
UID:26530207-pentaweek@local
END:VEVENT
BEGIN:VEVENT
DTSTART;VALUE=DATE:26530214
SUMMARY:Sprint 1, Week 5
UID:26530214-pentaweek@local
END:VEVENT
BEGIN:VEVENT
DTSTART;VALUE=DATE:26530221
SUMMARY:Planning Sprint 2
UID:26530221-pentaweek@local
END:VEVENT
BEGIN:VEVENT
DTSTART;VALUE=DATE:26530228
SUMMARY:Sprint 2, Week 1
UID:26530228-pentaweek@local
END:VEVENT
BEGIN:VEVENT
DTSTART;VALUE=DATE:26530307
SUMMARY:Sprint 2, Week 2
UID:26530307-pentaweek@local
END:VEVENT
BEGIN:VEVENT
DTSTART;VALUE=DATE:26530314
SUMMARY:Sprint 2, Week 3
UID:26530314-pentaweek@local
END:VEVENT
BEGIN:VEVENT
DTSTART;VALUE=DATE:26530321
SUMMARY:Sprint 2, Week 4
UID:26530321-pentaweek@local
END:VEVENT
BEGIN:VEVENT
DTSTART;VALUE=DATE:26530328
SUMMARY:Sprint 2, Week 5
UID:26530328-pentaweek@local
END:VEVENT
BEGIN:VEVENT
DTSTART;VALUE=DATE:26530404
SUMMARY:Planning Sprint 3
UID:26530404-pentaweek@local
END:VEVENT
BEGIN:VEVENT
DTSTART;VALUE=DATE:26530411
SUMMARY:Sprint 3, Week 1
UID:26530411-pentaweek@local
END:VEVENT
BEGIN:VEVENT
DTSTART;VALUE=DATE:26530418
SUMMARY:Sprint 3, Week 2
UID:26530418-pentaweek@local
END:VEVENT
BEGIN:VEVENT
DTSTART;VALUE=DATE:26530425
SUMMARY:Sprint 3, Week 3
UID:26530425-pentaweek@local
END:VEVENT
BEGIN:VEVENT
DTSTART;VALUE=DATE:26530502
SUMMARY:Sprint 3, Week 4
UID:26530502-pentaweek@local
END:VEVENT
BEGIN:VEVENT
DTSTART;VALUE=DATE:26530509
SUMMARY:Sprint 3, Week 5
UID:26530509-pentaweek@local
END:VEVENT
BEGIN:VEVENT
DTSTART;VALUE=DATE:26530516
SUMMARY:Planning Sprint 4
UID:26530516-pentaweek@local
END:VEVENT
BEGIN:VEVENT
DTSTART;VALUE=DATE:26530523
SUMMARY:Sprint 4, Week 1
UID:26530523-pentaweek@local
END:VEVENT
BEGIN:VEVENT
DTSTART;VALUE=DATE:26530530
SUMMARY:Sprint 4, Week 2
UID:26530530-pentaweek@local
END:VEVENT
BEGIN:VEVENT
DTSTART;VALUE=DATE:26530606
SUMMARY:Sprint 4, Week 3
UID:26530606-pentaweek@local
END:VEVENT
BEGIN:VEVENT
DTSTART;VALUE=DATE:26530613
SUMMARY:Sprint 4, Week 4
UID:26530613-pentaweek@local
END:VEVENT
BEGIN:VEVENT
DTSTART;VALUE=DATE:26530620
SUMMARY:Sprint 4, Week 5
UID:26530620-pentaweek@local
END:VEVENT
BEGIN:VEVENT
DTSTART;VALUE=DATE:26530711
SUMMARY:Planning Sprint 5
UID:26530711-pentaweek@local
END:VEVENT
BEGIN:VEVENT
DTSTART;VALUE=DATE:26530718
SUMMARY:Sprint 5, Week 1
UID:26530718-pentaweek@local
END:VEVENT
BEGIN:VEVENT
DTSTART;VALUE=DATE:26530725
SUMMARY:Sprint 5, Week 2
UID:26530725-pentaweek@local
END:VEVENT
BEGIN:VEVENT
DTSTART;VALUE=DATE:26530801
SUMMARY:Sprint 5, Week 3
UID:26530801-pentaweek@local
END:VEVENT
BEGIN:VEVENT
DTSTART;VALUE=DATE:26530808
SUMMARY:Sprint 5, Week 4
UID:26530808-pentaweek@local
END:VEVENT
BEGIN:VEVENT
DTSTART;VALUE=DATE:26530815
SUMMARY:Sprint 5, Week 5
UID:26530815-pentaweek@local
END:VEVENT
BEGIN:VEVENT
DTSTART;VALUE=DATE:26530822
SUMMARY:Planning Sprint 6
UID:26530822-pentaweek@local
END:VEVENT
BEGIN:VEVENT
DTSTART;VALUE=DATE:26530829
SUMMARY:Sprint 6, Week 1
UID:26530829-pentaweek@local
END:VEVENT
BEGIN:VEVENT
DTSTART;VALUE=DATE:26530905
SUMMARY:Sprint 6, Week 2
UID:26530905-pentaweek@local
END:VEVENT
BEGIN:VEVENT
DTSTART;VALUE=DATE:26530912
SUMMARY:Sprint 6, Week 3
UID:26530912-pentaweek@local
END:VEVENT
BEGIN:VEVENT
DTSTART;VALUE=DATE:26530919
SUMMARY:Sprint 6, Week 4
UID:26530919-pentaweek@local
END:VEVENT
BEGIN:VEVENT
DTSTART;VALUE=DATE:26530926
SUMMARY:Sprint 6, Week 5
UID:26530926-pentaweek@local
END:VEVENT
BEGIN:VEVENT
DTSTART;VALUE=DATE:26531003
SUMMARY:Planning Sprint 7
UID:26531003-pentaweek@local
END:VEVENT
BEGIN:VEVENT
DTSTART;VALUE=DATE:26531010
SUMMARY:Sprint 7, Week 1
UID:26531010-pentaweek@local
END:VEVENT
BEGIN:VEVENT
DTSTART;VALUE=DATE:26531017
SUMMARY:Sprint 7, Week 2
UID:26531017-pentaweek@local
END:VEVENT
BEGIN:VEVENT
DTSTART;VALUE=DATE:26531024
SUMMARY:Sprint 7, Week 3
UID:26531024-pentaweek@local
END:VEVENT
BEGIN:VEVENT
DTSTART;VALUE=DATE:26531031
SUMMARY:Sprint 7, Week 4
UID:26531031-pentaweek@local
END:VEVENT
BEGIN:VEVENT
DTSTART;VALUE=DATE:26531107
SUMMARY:Sprint 7, Week 5
UID:26531107-pentaweek@local
END:VEVENT
BEGIN:VEVENT
DTSTART;VALUE=DATE:26531114
SUMMARY:Planning Sprint 8
UID:26531114-pentaweek@local
END:VEVENT
BEGIN:VEVENT
DTSTART;VALUE=DATE:26531121
SUMMARY:Sprint 8, Week 1
UID:26531121-pentaweek@local
END:VEVENT
BEGIN:VEVENT
DTSTART;VALUE=DATE:26531128
SUMMARY:Sprint 8, Week 2
UID:26531128-pentaweek@local
END:VEVENT
BEGIN:VEVENT
DTSTART;VALUE=DATE:26531205
SUMMARY:Sprint 8, Week 3
UID:26531205-pentaweek@local
END:VEVENT
BEGIN:VEVENT
DTSTART;VALUE=DATE:26531212
SUMMARY:Sprint 8, Week 4
UID:26531212-pentaweek@local
END:VEVENT
BEGIN:VEVENT
DTSTART;VALUE=DATE:26531219
SUMMARY:Sprint 8, Week 5
UID:26531219-pentaweek@local
END:VEVENT
END:VCALENDAR