BEGIN:VCALENDAR
VERSION:2.0
PRODID:-//Pentaweek Calendar//EN
BEGIN:VEVENT
DTSTART;VALUE=DATE:26520105
SUMMARY:Planning Sprint 1
UID:26520105-pentaweek@local
END:VEVENT
BEGIN:VEVENT
DTSTART;VALUE=DATE:26520112
SUMMARY:Sprint 1, Week 1
UID:26520112-pentaweek@local
END:VEVENT
BEGIN:VEVENT
DTSTART;VALUE=DATE:26520119
SUMMARY:Sprint 1, Week 2
UID:26520119-pentaweek@local
END:VEVENT
BEGIN:VEVENT
DTSTART;VALUE=DATE:26520126
SUMMARY:Sprint 1, Week 3
UID:26520126-pentaweek@local
END:VEVENT
BEGIN:VEVENT
DTSTART;VALUE=DATE:26520202
SUMMARY:Sprint 1, Week 4
UID:26520202-pentaweek@local
END:VEVENT
BEGIN:VEVENT
DTSTART;VALUE=DATE:26520209
SUMMARY:Sprint 1, Week 5
UID:26520209-pentaweek@local
END:VEVENT
BEGIN:VEVENT
DTSTART;VALUE=DATE:26520216
SUMMARY:Planning Sprint 2
UID:26520216-pentaweek@local
END:VEVENT
BEGIN:VEVENT
DTSTART;VALUE=DATE:26520223
SUMMARY:Sprint 2, Week 1
UID:26520223-pentaweek@local
END:VEVENT
BEGIN:VEVENT
DTSTART;VALUE=DATE:26520301
SUMMARY:Sprint 2, Week 2
UID:26520301-pentaweek@local
END:VEVENT
BEGIN:VEVENT
DTSTART;VALUE=DATE:26520308
SUMMARY:Sprint 2, Week 3
UID:26520308-pentaweek@local
END:VEVENT
BEGIN:VEVENT
DTSTART;VALUE=DATE:26520315
SUMMARY:Sprint 2, Week 4
UID:26520315-pentaweek@local
END:VEVENT
BEGIN:VEVENT
DTSTART;VALUE=DATE:26520322
SUMMARY:Sprint 2, Week 5
UID:26520322-pentaweek@local
END:VEVENT
BEGIN:VEVENT
DTSTART;VALUE=DATE:26520329
SUMMARY:Planning Sprint 3
UID:26520329-pentaweek@local
END:VEVENT
BEGIN:VEVENT
DTSTART;VALUE=DATE:26520405
SUMMARY:Sprint 3, Week 1
UID:26520405-pentaweek@local
END:VEVENT
BEGIN:VEVENT
DTSTART;VALUE=DATE:26520412
SUMMARY:Sprint 3, Week 2
UID:26520412-pentaweek@local
END:VEVENT
BEGIN:VEVENT
DTSTART;VALUE=DATE:26520419
SUMMARY:Sprint 3, Week 3
UID:26520419-pentaweek@local
END:VEVENT
BEGIN:VEVENT
DTSTART;VALUE=DATE:26520426
SUMMARY:Sprint 3, Week 4
UID:26520426-pentaweek@local
END:VEVENT
BEGIN:VEVENT
DTSTART;VALUE=DATE:26520503
SUMMARY:Sprint 3, Week 5
UID:26520503-pentaweek@local
END:VEVENT
BEGIN:VEVENT
DTSTART;VALUE=DATE:26520510
SUMMARY:Planning Sprint 4
UID:26520510-pentaweek@local
END:VEVENT
BEGIN:VEVENT
DTSTART;VALUE=DATE:26520517
SUMMARY:Sprint 4, Week 1
UID:26520517-pentaweek@local
END:VEVENT
BEGIN:VEVENT
DTSTART;VALUE=DATE:26520524
SUMMARY:Sprint 4, Week 2
UID:26520524-pentaweek@local
END:VEVENT
BEGIN:VEVENT
DTSTART;VALUE=DATE:26520531
SUMMARY:Sprint 4, Week 3
UID:26520531-pentaweek@local
END:VEVENT
BEGIN:VEVENT
DTSTART;VALUE=DATE:26520607
SUMMARY:Sprint 4, Week 4
UID:26520607-pentaweek@local
END:VEVENT
BEGIN:VEVENT
DTSTART;VALUE=DATE:26520614
SUMMARY:Sprint 4, Week 5
UID:26520614-pentaweek@local
END:VEVENT
BEGIN:VEVENT
DTSTART;VALUE=DATE:26520705
SUMMARY:Planning Sprint 5
UID:26520705-pentaweek@local
END:VEVENT
BEGIN:VEVENT
DTSTART;VALUE=DATE:26520712
SUMMARY:Sprint 5, Week 1
UID:26520712-pentaweek@local
END:VEVENT
BEGIN:VEVENT
DTSTART;VALUE=DATE:26520719
SUMMARY:Sprint 5, Week 2
UID:26520719-pentaweek@local
END:VEVENT
BEGIN:VEVENT
DTSTART;VALUE=DATE:26520726
SUMMARY:Sprint 5, Week 3
UID:26520726-pentaweek@local
END:VEVENT
BEGIN:VEVENT
DTSTART;VALUE=DATE:26520802
SUMMARY:Sprint 5, Week 4
UID:26520802-pentaweek@local
END:VEVENT
BEGIN:VEVENT
DTSTART;VALUE=DATE:26520809
SUMMARY:Sprint 5, Week 5
UID:26520809-pentaweek@local
END:VEVENT
BEGIN:VEVENT
DTSTART;VALUE=DATE:26520816
SUMMARY:Planning Sprint 6
UID:26520816-pentaweek@local
END:VEVENT
BEGIN:VEVENT
DTSTART;VALUE=DATE:26520823
SUMMARY:Sprint 6, Week 1
UID:26520823-pentaweek@local
END:VEVENT
BEGIN:VEVENT
DTSTART;VALUE=DATE:26520830
SUMMARY:Sprint 6, Week 2
UID:26520830-pentaweek@local
END:VEVENT
BEGIN:VEVENT
DTSTART;VALUE=DATE:26520906
SUMMARY:Sprint 6, Week 3
UID:26520906-pentaweek@local
END:VEVENT
BEGIN:VEVENT
DTSTART;VALUE=DATE:26520913
SUMMARY:Sprint 6, Week 4
UID:26520913-pentaweek@local
END:VEVENT
BEGIN:VEVENT
DTSTART;VALUE=DATE:26520920
SUMMARY:Sprint 6, Week 5
UID:26520920-pentaweek@local
END:VEVENT
BEGIN:VEVENT
DTSTART;VALUE=DATE:26520927
SUMMARY:Planning Sprint 7
UID:26520927-pentaweek@local
END:VEVENT
BEGIN:VEVENT
DTSTART;VALUE=DATE:26521004
SUMMARY:Sprint 7, Week 1
UID:26521004-pentaweek@local
END:VEVENT
BEGIN:VEVENT
DTSTART;VALUE=DATE:26521011
SUMMARY:Sprint 7, Week 2
UID:26521011-pentaweek@local
END:VEVENT
BEGIN:VEVENT
DTSTART;VALUE=DATE:26521018
SUMMARY:Sprint 7, Week 3
UID:26521018-pentaweek@local
END:VEVENT
BEGIN:VEVENT
DTSTART;VALUE=DATE:26521025
SUMMARY:Sprint 7, Week 4
UID:26521025-pentaweek@local
END:VEVENT
BEGIN:VEVENT
DTSTART;VALUE=DATE:26521101
SUMMARY:Sprint 7, Week 5
UID:26521101-pentaweek@local
END:VEVENT
BEGIN:VEVENT
DTSTART;VALUE=DATE:26521108
SUMMARY:Planning Sprint 8
UID:26521108-pentaweek@local
END:VEVENT
BEGIN:VEVENT
DTSTART;VALUE=DATE:26521115
SUMMARY:Sprint 8, Week 1
UID:26521115-pentaweek@local
END:VEVENT
BEGIN:VEVENT
DTSTART;VALUE=DATE:26521122
SUMMARY:Sprint 8, Week 2
UID:26521122-pentaweek@local
END:VEVENT
BEGIN:VEVENT
DTSTART;VALUE=DATE:26521129
SUMMARY:Sprint 8, Week 3
UID:26521129-pentaweek@local
END:VEVENT
BEGIN:VEVENT
DTSTART;VALUE=DATE:26521206
SUMMARY:Sprint 8, Week 4
UID:26521206-pentaweek@local
END:VEVENT
BEGIN:VEVENT
DTSTART;VALUE=DATE:26521213
SUMMARY:Sprint 8, Week 5
UID:26521213-pentaweek@local
END:VEVENT
END:VCALENDAR