BEGIN:VCALENDAR
VERSION:2.0
PRODID:-//Pentaweek Calendar//EN
BEGIN:VEVENT
DTSTART;VALUE=DATE:26510106
SUMMARY:Planning Sprint 1
UID:26510106-pentaweek@local
END:VEVENT
BEGIN:VEVENT
DTSTART;VALUE=DATE:26510113
SUMMARY:Sprint 1, Week 1
UID:26510113-pentaweek@local
END:VEVENT
BEGIN:VEVENT
DTSTART;VALUE=DATE:26510120
SUMMARY:Sprint 1, Week 2
UID:26510120-pentaweek@local
END:VEVENT
BEGIN:VEVENT
DTSTART;VALUE=DATE:26510127
SUMMARY:Sprint 1, Week 3
UID:26510127-pentaweek@local
END:VEVENT
BEGIN:VEVENT
DTSTART;VALUE=DATE:26510203
SUMMARY:Sprint 1, Week 4
UID:26510203-pentaweek@local
END:VEVENT
BEGIN:VEVENT
DTSTART;VALUE=DATE:26510210
SUMMARY:Sprint 1, Week 5
UID:26510210-pentaweek@local
END:VEVENT
BEGIN:VEVENT
DTSTART;VALUE=DATE:26510217
SUMMARY:Planning Sprint 2
UID:26510217-pentaweek@local
END:VEVENT
BEGIN:VEVENT
DTSTART;VALUE=DATE:26510224
SUMMARY:Sprint 2, Week 1
UID:26510224-pentaweek@local
END:VEVENT
BEGIN:VEVENT
DTSTART;VALUE=DATE:26510303
SUMMARY:Sprint 2, Week 2
UID:26510303-pentaweek@local
END:VEVENT
BEGIN:VEVENT
DTSTART;VALUE=DATE:26510310
SUMMARY:Sprint 2, Week 3
UID:26510310-pentaweek@local
END:VEVENT
BEGIN:VEVENT
DTSTART;VALUE=DATE:26510317
SUMMARY:Sprint 2, Week 4
UID:26510317-pentaweek@local
END:VEVENT
BEGIN:VEVENT
DTSTART;VALUE=DATE:26510324
SUMMARY:Sprint 2, Week 5
UID:26510324-pentaweek@local
END:VEVENT
BEGIN:VEVENT
DTSTART;VALUE=DATE:26510331
SUMMARY:Planning Sprint 3
UID:26510331-pentaweek@local
END:VEVENT
BEGIN:VEVENT
DTSTART;VALUE=DATE:26510407
SUMMARY:Sprint 3, Week 1
UID:26510407-pentaweek@local
END:VEVENT
BEGIN:VEVENT
DTSTART;VALUE=DATE:26510414
SUMMARY:Sprint 3, Week 2
UID:26510414-pentaweek@local
END:VEVENT
BEGIN:VEVENT
DTSTART;VALUE=DATE:26510421
SUMMARY:Sprint 3, Week 3
UID:26510421-pentaweek@local
END:VEVENT
BEGIN:VEVENT
DTSTART;VALUE=DATE:26510428
SUMMARY:Sprint 3, Week 4
UID:26510428-pentaweek@local
END:VEVENT
BEGIN:VEVENT
DTSTART;VALUE=DATE:26510505
SUMMARY:Sprint 3, Week 5
UID:26510505-pentaweek@local
END:VEVENT
BEGIN:VEVENT
DTSTART;VALUE=DATE:26510512
SUMMARY:Planning Sprint 4
UID:26510512-pentaweek@local
END:VEVENT
BEGIN:VEVENT
DTSTART;VALUE=DATE:26510519
SUMMARY:Sprint 4, Week 1
UID:26510519-pentaweek@local
END:VEVENT
BEGIN:VEVENT
DTSTART;VALUE=DATE:26510526
SUMMARY:Sprint 4, Week 2
UID:26510526-pentaweek@local
END:VEVENT
BEGIN:VEVENT
DTSTART;VALUE=DATE:26510602
SUMMARY:Sprint 4, Week 3
UID:26510602-pentaweek@local
END:VEVENT
BEGIN:VEVENT
DTSTART;VALUE=DATE:26510609
SUMMARY:Sprint 4, Week 4
UID:26510609-pentaweek@local
END:VEVENT
BEGIN:VEVENT
DTSTART;VALUE=DATE:26510616
SUMMARY:Sprint 4, Week 5
UID:26510616-pentaweek@local
END:VEVENT
BEGIN:VEVENT
DTSTART;VALUE=DATE:26510707
SUMMARY:Planning Sprint 5
UID:26510707-pentaweek@local
END:VEVENT
BEGIN:VEVENT
DTSTART;VALUE=DATE:26510714
SUMMARY:Sprint 5, Week 1
UID:26510714-pentaweek@local
END:VEVENT
BEGIN:VEVENT
DTSTART;VALUE=DATE:26510721
SUMMARY:Sprint 5, Week 2
UID:26510721-pentaweek@local
END:VEVENT
BEGIN:VEVENT
DTSTART;VALUE=DATE:26510728
SUMMARY:Sprint 5, Week 3
UID:26510728-pentaweek@local
END:VEVENT
BEGIN:VEVENT
DTSTART;VALUE=DATE:26510804
SUMMARY:Sprint 5, Week 4
UID:26510804-pentaweek@local
END:VEVENT
BEGIN:VEVENT
DTSTART;VALUE=DATE:26510811
SUMMARY:Sprint 5, Week 5
UID:26510811-pentaweek@local
END:VEVENT
BEGIN:VEVENT
DTSTART;VALUE=DATE:26510818
SUMMARY:Planning Sprint 6
UID:26510818-pentaweek@local
END:VEVENT
BEGIN:VEVENT
DTSTART;VALUE=DATE:26510825
SUMMARY:Sprint 6, Week 1
UID:26510825-pentaweek@local
END:VEVENT
BEGIN:VEVENT
DTSTART;VALUE=DATE:26510901
SUMMARY:Sprint 6, Week 2
UID:26510901-pentaweek@local
END:VEVENT
BEGIN:VEVENT
DTSTART;VALUE=DATE:26510908
SUMMARY:Sprint 6, Week 3
UID:26510908-pentaweek@local
END:VEVENT
BEGIN:VEVENT
DTSTART;VALUE=DATE:26510915
SUMMARY:Sprint 6, Week 4
UID:26510915-pentaweek@local
END:VEVENT
BEGIN:VEVENT
DTSTART;VALUE=DATE:26510922
SUMMARY:Sprint 6, Week 5
UID:26510922-pentaweek@local
END:VEVENT
BEGIN:VEVENT
DTSTART;VALUE=DATE:26510929
SUMMARY:Planning Sprint 7
UID:26510929-pentaweek@local
END:VEVENT
BEGIN:VEVENT
DTSTART;VALUE=DATE:26511006
SUMMARY:Sprint 7, Week 1
UID:26511006-pentaweek@local
END:VEVENT
BEGIN:VEVENT
DTSTART;VALUE=DATE:26511013
SUMMARY:Sprint 7, Week 2
UID:26511013-pentaweek@local
END:VEVENT
BEGIN:VEVENT
DTSTART;VALUE=DATE:26511020
SUMMARY:Sprint 7, Week 3
UID:26511020-pentaweek@local
END:VEVENT
BEGIN:VEVENT
DTSTART;VALUE=DATE:26511027
SUMMARY:Sprint 7, Week 4
UID:26511027-pentaweek@local
END:VEVENT
BEGIN:VEVENT
DTSTART;VALUE=DATE:26511103
SUMMARY:Sprint 7, Week 5
UID:26511103-pentaweek@local
END:VEVENT
BEGIN:VEVENT
DTSTART;VALUE=DATE:26511110
SUMMARY:Planning Sprint 8
UID:26511110-pentaweek@local
END:VEVENT
BEGIN:VEVENT
DTSTART;VALUE=DATE:26511117
SUMMARY:Sprint 8, Week 1
UID:26511117-pentaweek@local
END:VEVENT
BEGIN:VEVENT
DTSTART;VALUE=DATE:26511124
SUMMARY:Sprint 8, Week 2
UID:26511124-pentaweek@local
END:VEVENT
BEGIN:VEVENT
DTSTART;VALUE=DATE:26511201
SUMMARY:Sprint 8, Week 3
UID:26511201-pentaweek@local
END:VEVENT
BEGIN:VEVENT
DTSTART;VALUE=DATE:26511208
SUMMARY:Sprint 8, Week 4
UID:26511208-pentaweek@local
END:VEVENT
BEGIN:VEVENT
DTSTART;VALUE=DATE:26511215
SUMMARY:Sprint 8, Week 5
UID:26511215-pentaweek@local
END:VEVENT
END:VCALENDAR