BEGIN:VCALENDAR
VERSION:2.0
PRODID:-//Pentaweek Calendar//EN
BEGIN:VEVENT
DTSTART;VALUE=DATE:26500107
SUMMARY:Planning Sprint 1
UID:26500107-pentaweek@local
END:VEVENT
BEGIN:VEVENT
DTSTART;VALUE=DATE:26500114
SUMMARY:Sprint 1, Week 1
UID:26500114-pentaweek@local
END:VEVENT
BEGIN:VEVENT
DTSTART;VALUE=DATE:26500121
SUMMARY:Sprint 1, Week 2
UID:26500121-pentaweek@local
END:VEVENT
BEGIN:VEVENT
DTSTART;VALUE=DATE:26500128
SUMMARY:Sprint 1, Week 3
UID:26500128-pentaweek@local
END:VEVENT
BEGIN:VEVENT
DTSTART;VALUE=DATE:26500204
SUMMARY:Sprint 1, Week 4
UID:26500204-pentaweek@local
END:VEVENT
BEGIN:VEVENT
DTSTART;VALUE=DATE:26500211
SUMMARY:Sprint 1, Week 5
UID:26500211-pentaweek@local
END:VEVENT
BEGIN:VEVENT
DTSTART;VALUE=DATE:26500218
SUMMARY:Planning Sprint 2
UID:26500218-pentaweek@local
END:VEVENT
BEGIN:VEVENT
DTSTART;VALUE=DATE:26500225
SUMMARY:Sprint 2, Week 1
UID:26500225-pentaweek@local
END:VEVENT
BEGIN:VEVENT
DTSTART;VALUE=DATE:26500304
SUMMARY:Sprint 2, Week 2
UID:26500304-pentaweek@local
END:VEVENT
BEGIN:VEVENT
DTSTART;VALUE=DATE:26500311
SUMMARY:Sprint 2, Week 3
UID:26500311-pentaweek@local
END:VEVENT
BEGIN:VEVENT
DTSTART;VALUE=DATE:26500318
SUMMARY:Sprint 2, Week 4
UID:26500318-pentaweek@local
END:VEVENT
BEGIN:VEVENT
DTSTART;VALUE=DATE:26500325
SUMMARY:Sprint 2, Week 5
UID:26500325-pentaweek@local
END:VEVENT
BEGIN:VEVENT
DTSTART;VALUE=DATE:26500401
SUMMARY:Planning Sprint 3
UID:26500401-pentaweek@local
END:VEVENT
BEGIN:VEVENT
DTSTART;VALUE=DATE:26500408
SUMMARY:Sprint 3, Week 1
UID:26500408-pentaweek@local
END:VEVENT
BEGIN:VEVENT
DTSTART;VALUE=DATE:26500415
SUMMARY:Sprint 3, Week 2
UID:26500415-pentaweek@local
END:VEVENT
BEGIN:VEVENT
DTSTART;VALUE=DATE:26500422
SUMMARY:Sprint 3, Week 3
UID:26500422-pentaweek@local
END:VEVENT
BEGIN:VEVENT
DTSTART;VALUE=DATE:26500429
SUMMARY:Sprint 3, Week 4
UID:26500429-pentaweek@local
END:VEVENT
BEGIN:VEVENT
DTSTART;VALUE=DATE:26500506
SUMMARY:Sprint 3, Week 5
UID:26500506-pentaweek@local
END:VEVENT
BEGIN:VEVENT
DTSTART;VALUE=DATE:26500513
SUMMARY:Planning Sprint 4
UID:26500513-pentaweek@local
END:VEVENT
BEGIN:VEVENT
DTSTART;VALUE=DATE:26500520
SUMMARY:Sprint 4, Week 1
UID:26500520-pentaweek@local
END:VEVENT
BEGIN:VEVENT
DTSTART;VALUE=DATE:26500527
SUMMARY:Sprint 4, Week 2
UID:26500527-pentaweek@local
END:VEVENT
BEGIN:VEVENT
DTSTART;VALUE=DATE:26500603
SUMMARY:Sprint 4, Week 3
UID:26500603-pentaweek@local
END:VEVENT
BEGIN:VEVENT
DTSTART;VALUE=DATE:26500610
SUMMARY:Sprint 4, Week 4
UID:26500610-pentaweek@local
END:VEVENT
BEGIN:VEVENT
DTSTART;VALUE=DATE:26500617
SUMMARY:Sprint 4, Week 5
UID:26500617-pentaweek@local
END:VEVENT
BEGIN:VEVENT
DTSTART;VALUE=DATE:26500708
SUMMARY:Planning Sprint 5
UID:26500708-pentaweek@local
END:VEVENT
BEGIN:VEVENT
DTSTART;VALUE=DATE:26500715
SUMMARY:Sprint 5, Week 1
UID:26500715-pentaweek@local
END:VEVENT
BEGIN:VEVENT
DTSTART;VALUE=DATE:26500722
SUMMARY:Sprint 5, Week 2
UID:26500722-pentaweek@local
END:VEVENT
BEGIN:VEVENT
DTSTART;VALUE=DATE:26500729
SUMMARY:Sprint 5, Week 3
UID:26500729-pentaweek@local
END:VEVENT
BEGIN:VEVENT
DTSTART;VALUE=DATE:26500805
SUMMARY:Sprint 5, Week 4
UID:26500805-pentaweek@local
END:VEVENT
BEGIN:VEVENT
DTSTART;VALUE=DATE:26500812
SUMMARY:Sprint 5, Week 5
UID:26500812-pentaweek@local
END:VEVENT
BEGIN:VEVENT
DTSTART;VALUE=DATE:26500819
SUMMARY:Planning Sprint 6
UID:26500819-pentaweek@local
END:VEVENT
BEGIN:VEVENT
DTSTART;VALUE=DATE:26500826
SUMMARY:Sprint 6, Week 1
UID:26500826-pentaweek@local
END:VEVENT
BEGIN:VEVENT
DTSTART;VALUE=DATE:26500902
SUMMARY:Sprint 6, Week 2
UID:26500902-pentaweek@local
END:VEVENT
BEGIN:VEVENT
DTSTART;VALUE=DATE:26500909
SUMMARY:Sprint 6, Week 3
UID:26500909-pentaweek@local
END:VEVENT
BEGIN:VEVENT
DTSTART;VALUE=DATE:26500916
SUMMARY:Sprint 6, Week 4
UID:26500916-pentaweek@local
END:VEVENT
BEGIN:VEVENT
DTSTART;VALUE=DATE:26500923
SUMMARY:Sprint 6, Week 5
UID:26500923-pentaweek@local
END:VEVENT
BEGIN:VEVENT
DTSTART;VALUE=DATE:26500930
SUMMARY:Planning Sprint 7
UID:26500930-pentaweek@local
END:VEVENT
BEGIN:VEVENT
DTSTART;VALUE=DATE:26501007
SUMMARY:Sprint 7, Week 1
UID:26501007-pentaweek@local
END:VEVENT
BEGIN:VEVENT
DTSTART;VALUE=DATE:26501014
SUMMARY:Sprint 7, Week 2
UID:26501014-pentaweek@local
END:VEVENT
BEGIN:VEVENT
DTSTART;VALUE=DATE:26501021
SUMMARY:Sprint 7, Week 3
UID:26501021-pentaweek@local
END:VEVENT
BEGIN:VEVENT
DTSTART;VALUE=DATE:26501028
SUMMARY:Sprint 7, Week 4
UID:26501028-pentaweek@local
END:VEVENT
BEGIN:VEVENT
DTSTART;VALUE=DATE:26501104
SUMMARY:Sprint 7, Week 5
UID:26501104-pentaweek@local
END:VEVENT
BEGIN:VEVENT
DTSTART;VALUE=DATE:26501111
SUMMARY:Planning Sprint 8
UID:26501111-pentaweek@local
END:VEVENT
BEGIN:VEVENT
DTSTART;VALUE=DATE:26501118
SUMMARY:Sprint 8, Week 1
UID:26501118-pentaweek@local
END:VEVENT
BEGIN:VEVENT
DTSTART;VALUE=DATE:26501125
SUMMARY:Sprint 8, Week 2
UID:26501125-pentaweek@local
END:VEVENT
BEGIN:VEVENT
DTSTART;VALUE=DATE:26501202
SUMMARY:Sprint 8, Week 3
UID:26501202-pentaweek@local
END:VEVENT
BEGIN:VEVENT
DTSTART;VALUE=DATE:26501209
SUMMARY:Sprint 8, Week 4
UID:26501209-pentaweek@local
END:VEVENT
BEGIN:VEVENT
DTSTART;VALUE=DATE:26501216
SUMMARY:Sprint 8, Week 5
UID:26501216-pentaweek@local
END:VEVENT
END:VCALENDAR