BEGIN:VCALENDAR
VERSION:2.0
PRODID:-//Pentaweek Calendar//EN
BEGIN:VEVENT
DTSTART;VALUE=DATE:26490108
SUMMARY:Planning Sprint 1
UID:26490108-pentaweek@local
END:VEVENT
BEGIN:VEVENT
DTSTART;VALUE=DATE:26490115
SUMMARY:Sprint 1, Week 1
UID:26490115-pentaweek@local
END:VEVENT
BEGIN:VEVENT
DTSTART;VALUE=DATE:26490122
SUMMARY:Sprint 1, Week 2
UID:26490122-pentaweek@local
END:VEVENT
BEGIN:VEVENT
DTSTART;VALUE=DATE:26490129
SUMMARY:Sprint 1, Week 3
UID:26490129-pentaweek@local
END:VEVENT
BEGIN:VEVENT
DTSTART;VALUE=DATE:26490205
SUMMARY:Sprint 1, Week 4
UID:26490205-pentaweek@local
END:VEVENT
BEGIN:VEVENT
DTSTART;VALUE=DATE:26490212
SUMMARY:Sprint 1, Week 5
UID:26490212-pentaweek@local
END:VEVENT
BEGIN:VEVENT
DTSTART;VALUE=DATE:26490219
SUMMARY:Planning Sprint 2
UID:26490219-pentaweek@local
END:VEVENT
BEGIN:VEVENT
DTSTART;VALUE=DATE:26490226
SUMMARY:Sprint 2, Week 1
UID:26490226-pentaweek@local
END:VEVENT
BEGIN:VEVENT
DTSTART;VALUE=DATE:26490305
SUMMARY:Sprint 2, Week 2
UID:26490305-pentaweek@local
END:VEVENT
BEGIN:VEVENT
DTSTART;VALUE=DATE:26490312
SUMMARY:Sprint 2, Week 3
UID:26490312-pentaweek@local
END:VEVENT
BEGIN:VEVENT
DTSTART;VALUE=DATE:26490319
SUMMARY:Sprint 2, Week 4
UID:26490319-pentaweek@local
END:VEVENT
BEGIN:VEVENT
DTSTART;VALUE=DATE:26490326
SUMMARY:Sprint 2, Week 5
UID:26490326-pentaweek@local
END:VEVENT
BEGIN:VEVENT
DTSTART;VALUE=DATE:26490402
SUMMARY:Planning Sprint 3
UID:26490402-pentaweek@local
END:VEVENT
BEGIN:VEVENT
DTSTART;VALUE=DATE:26490409
SUMMARY:Sprint 3, Week 1
UID:26490409-pentaweek@local
END:VEVENT
BEGIN:VEVENT
DTSTART;VALUE=DATE:26490416
SUMMARY:Sprint 3, Week 2
UID:26490416-pentaweek@local
END:VEVENT
BEGIN:VEVENT
DTSTART;VALUE=DATE:26490423
SUMMARY:Sprint 3, Week 3
UID:26490423-pentaweek@local
END:VEVENT
BEGIN:VEVENT
DTSTART;VALUE=DATE:26490430
SUMMARY:Sprint 3, Week 4
UID:26490430-pentaweek@local
END:VEVENT
BEGIN:VEVENT
DTSTART;VALUE=DATE:26490507
SUMMARY:Sprint 3, Week 5
UID:26490507-pentaweek@local
END:VEVENT
BEGIN:VEVENT
DTSTART;VALUE=DATE:26490514
SUMMARY:Planning Sprint 4
UID:26490514-pentaweek@local
END:VEVENT
BEGIN:VEVENT
DTSTART;VALUE=DATE:26490521
SUMMARY:Sprint 4, Week 1
UID:26490521-pentaweek@local
END:VEVENT
BEGIN:VEVENT
DTSTART;VALUE=DATE:26490528
SUMMARY:Sprint 4, Week 2
UID:26490528-pentaweek@local
END:VEVENT
BEGIN:VEVENT
DTSTART;VALUE=DATE:26490604
SUMMARY:Sprint 4, Week 3
UID:26490604-pentaweek@local
END:VEVENT
BEGIN:VEVENT
DTSTART;VALUE=DATE:26490611
SUMMARY:Sprint 4, Week 4
UID:26490611-pentaweek@local
END:VEVENT
BEGIN:VEVENT
DTSTART;VALUE=DATE:26490618
SUMMARY:Sprint 4, Week 5
UID:26490618-pentaweek@local
END:VEVENT
BEGIN:VEVENT
DTSTART;VALUE=DATE:26490709
SUMMARY:Planning Sprint 5
UID:26490709-pentaweek@local
END:VEVENT
BEGIN:VEVENT
DTSTART;VALUE=DATE:26490716
SUMMARY:Sprint 5, Week 1
UID:26490716-pentaweek@local
END:VEVENT
BEGIN:VEVENT
DTSTART;VALUE=DATE:26490723
SUMMARY:Sprint 5, Week 2
UID:26490723-pentaweek@local
END:VEVENT
BEGIN:VEVENT
DTSTART;VALUE=DATE:26490730
SUMMARY:Sprint 5, Week 3
UID:26490730-pentaweek@local
END:VEVENT
BEGIN:VEVENT
DTSTART;VALUE=DATE:26490806
SUMMARY:Sprint 5, Week 4
UID:26490806-pentaweek@local
END:VEVENT
BEGIN:VEVENT
DTSTART;VALUE=DATE:26490813
SUMMARY:Sprint 5, Week 5
UID:26490813-pentaweek@local
END:VEVENT
BEGIN:VEVENT
DTSTART;VALUE=DATE:26490820
SUMMARY:Planning Sprint 6
UID:26490820-pentaweek@local
END:VEVENT
BEGIN:VEVENT
DTSTART;VALUE=DATE:26490827
SUMMARY:Sprint 6, Week 1
UID:26490827-pentaweek@local
END:VEVENT
BEGIN:VEVENT
DTSTART;VALUE=DATE:26490903
SUMMARY:Sprint 6, Week 2
UID:26490903-pentaweek@local
END:VEVENT
BEGIN:VEVENT
DTSTART;VALUE=DATE:26490910
SUMMARY:Sprint 6, Week 3
UID:26490910-pentaweek@local
END:VEVENT
BEGIN:VEVENT
DTSTART;VALUE=DATE:26490917
SUMMARY:Sprint 6, Week 4
UID:26490917-pentaweek@local
END:VEVENT
BEGIN:VEVENT
DTSTART;VALUE=DATE:26490924
SUMMARY:Sprint 6, Week 5
UID:26490924-pentaweek@local
END:VEVENT
BEGIN:VEVENT
DTSTART;VALUE=DATE:26491001
SUMMARY:Planning Sprint 7
UID:26491001-pentaweek@local
END:VEVENT
BEGIN:VEVENT
DTSTART;VALUE=DATE:26491008
SUMMARY:Sprint 7, Week 1
UID:26491008-pentaweek@local
END:VEVENT
BEGIN:VEVENT
DTSTART;VALUE=DATE:26491015
SUMMARY:Sprint 7, Week 2
UID:26491015-pentaweek@local
END:VEVENT
BEGIN:VEVENT
DTSTART;VALUE=DATE:26491022
SUMMARY:Sprint 7, Week 3
UID:26491022-pentaweek@local
END:VEVENT
BEGIN:VEVENT
DTSTART;VALUE=DATE:26491029
SUMMARY:Sprint 7, Week 4
UID:26491029-pentaweek@local
END:VEVENT
BEGIN:VEVENT
DTSTART;VALUE=DATE:26491105
SUMMARY:Sprint 7, Week 5
UID:26491105-pentaweek@local
END:VEVENT
BEGIN:VEVENT
DTSTART;VALUE=DATE:26491112
SUMMARY:Planning Sprint 8
UID:26491112-pentaweek@local
END:VEVENT
BEGIN:VEVENT
DTSTART;VALUE=DATE:26491119
SUMMARY:Sprint 8, Week 1
UID:26491119-pentaweek@local
END:VEVENT
BEGIN:VEVENT
DTSTART;VALUE=DATE:26491126
SUMMARY:Sprint 8, Week 2
UID:26491126-pentaweek@local
END:VEVENT
BEGIN:VEVENT
DTSTART;VALUE=DATE:26491203
SUMMARY:Sprint 8, Week 3
UID:26491203-pentaweek@local
END:VEVENT
BEGIN:VEVENT
DTSTART;VALUE=DATE:26491210
SUMMARY:Sprint 8, Week 4
UID:26491210-pentaweek@local
END:VEVENT
BEGIN:VEVENT
DTSTART;VALUE=DATE:26491217
SUMMARY:Sprint 8, Week 5
UID:26491217-pentaweek@local
END:VEVENT
END:VCALENDAR