BEGIN:VCALENDAR
VERSION:2.0
PRODID:-//Pentaweek Calendar//EN
BEGIN:VEVENT
DTSTART;VALUE=DATE:26480110
SUMMARY:Planning Sprint 1
UID:26480110-pentaweek@local
END:VEVENT
BEGIN:VEVENT
DTSTART;VALUE=DATE:26480117
SUMMARY:Sprint 1, Week 1
UID:26480117-pentaweek@local
END:VEVENT
BEGIN:VEVENT
DTSTART;VALUE=DATE:26480124
SUMMARY:Sprint 1, Week 2
UID:26480124-pentaweek@local
END:VEVENT
BEGIN:VEVENT
DTSTART;VALUE=DATE:26480131
SUMMARY:Sprint 1, Week 3
UID:26480131-pentaweek@local
END:VEVENT
BEGIN:VEVENT
DTSTART;VALUE=DATE:26480207
SUMMARY:Sprint 1, Week 4
UID:26480207-pentaweek@local
END:VEVENT
BEGIN:VEVENT
DTSTART;VALUE=DATE:26480214
SUMMARY:Sprint 1, Week 5
UID:26480214-pentaweek@local
END:VEVENT
BEGIN:VEVENT
DTSTART;VALUE=DATE:26480221
SUMMARY:Planning Sprint 2
UID:26480221-pentaweek@local
END:VEVENT
BEGIN:VEVENT
DTSTART;VALUE=DATE:26480228
SUMMARY:Sprint 2, Week 1
UID:26480228-pentaweek@local
END:VEVENT
BEGIN:VEVENT
DTSTART;VALUE=DATE:26480306
SUMMARY:Sprint 2, Week 2
UID:26480306-pentaweek@local
END:VEVENT
BEGIN:VEVENT
DTSTART;VALUE=DATE:26480313
SUMMARY:Sprint 2, Week 3
UID:26480313-pentaweek@local
END:VEVENT
BEGIN:VEVENT
DTSTART;VALUE=DATE:26480320
SUMMARY:Sprint 2, Week 4
UID:26480320-pentaweek@local
END:VEVENT
BEGIN:VEVENT
DTSTART;VALUE=DATE:26480327
SUMMARY:Sprint 2, Week 5
UID:26480327-pentaweek@local
END:VEVENT
BEGIN:VEVENT
DTSTART;VALUE=DATE:26480403
SUMMARY:Planning Sprint 3
UID:26480403-pentaweek@local
END:VEVENT
BEGIN:VEVENT
DTSTART;VALUE=DATE:26480410
SUMMARY:Sprint 3, Week 1
UID:26480410-pentaweek@local
END:VEVENT
BEGIN:VEVENT
DTSTART;VALUE=DATE:26480417
SUMMARY:Sprint 3, Week 2
UID:26480417-pentaweek@local
END:VEVENT
BEGIN:VEVENT
DTSTART;VALUE=DATE:26480424
SUMMARY:Sprint 3, Week 3
UID:26480424-pentaweek@local
END:VEVENT
BEGIN:VEVENT
DTSTART;VALUE=DATE:26480501
SUMMARY:Sprint 3, Week 4
UID:26480501-pentaweek@local
END:VEVENT
BEGIN:VEVENT
DTSTART;VALUE=DATE:26480508
SUMMARY:Sprint 3, Week 5
UID:26480508-pentaweek@local
END:VEVENT
BEGIN:VEVENT
DTSTART;VALUE=DATE:26480515
SUMMARY:Planning Sprint 4
UID:26480515-pentaweek@local
END:VEVENT
BEGIN:VEVENT
DTSTART;VALUE=DATE:26480522
SUMMARY:Sprint 4, Week 1
UID:26480522-pentaweek@local
END:VEVENT
BEGIN:VEVENT
DTSTART;VALUE=DATE:26480529
SUMMARY:Sprint 4, Week 2
UID:26480529-pentaweek@local
END:VEVENT
BEGIN:VEVENT
DTSTART;VALUE=DATE:26480605
SUMMARY:Sprint 4, Week 3
UID:26480605-pentaweek@local
END:VEVENT
BEGIN:VEVENT
DTSTART;VALUE=DATE:26480612
SUMMARY:Sprint 4, Week 4
UID:26480612-pentaweek@local
END:VEVENT
BEGIN:VEVENT
DTSTART;VALUE=DATE:26480619
SUMMARY:Sprint 4, Week 5
UID:26480619-pentaweek@local
END:VEVENT
BEGIN:VEVENT
DTSTART;VALUE=DATE:26480710
SUMMARY:Planning Sprint 5
UID:26480710-pentaweek@local
END:VEVENT
BEGIN:VEVENT
DTSTART;VALUE=DATE:26480717
SUMMARY:Sprint 5, Week 1
UID:26480717-pentaweek@local
END:VEVENT
BEGIN:VEVENT
DTSTART;VALUE=DATE:26480724
SUMMARY:Sprint 5, Week 2
UID:26480724-pentaweek@local
END:VEVENT
BEGIN:VEVENT
DTSTART;VALUE=DATE:26480731
SUMMARY:Sprint 5, Week 3
UID:26480731-pentaweek@local
END:VEVENT
BEGIN:VEVENT
DTSTART;VALUE=DATE:26480807
SUMMARY:Sprint 5, Week 4
UID:26480807-pentaweek@local
END:VEVENT
BEGIN:VEVENT
DTSTART;VALUE=DATE:26480814
SUMMARY:Sprint 5, Week 5
UID:26480814-pentaweek@local
END:VEVENT
BEGIN:VEVENT
DTSTART;VALUE=DATE:26480821
SUMMARY:Planning Sprint 6
UID:26480821-pentaweek@local
END:VEVENT
BEGIN:VEVENT
DTSTART;VALUE=DATE:26480828
SUMMARY:Sprint 6, Week 1
UID:26480828-pentaweek@local
END:VEVENT
BEGIN:VEVENT
DTSTART;VALUE=DATE:26480904
SUMMARY:Sprint 6, Week 2
UID:26480904-pentaweek@local
END:VEVENT
BEGIN:VEVENT
DTSTART;VALUE=DATE:26480911
SUMMARY:Sprint 6, Week 3
UID:26480911-pentaweek@local
END:VEVENT
BEGIN:VEVENT
DTSTART;VALUE=DATE:26480918
SUMMARY:Sprint 6, Week 4
UID:26480918-pentaweek@local
END:VEVENT
BEGIN:VEVENT
DTSTART;VALUE=DATE:26480925
SUMMARY:Sprint 6, Week 5
UID:26480925-pentaweek@local
END:VEVENT
BEGIN:VEVENT
DTSTART;VALUE=DATE:26481002
SUMMARY:Planning Sprint 7
UID:26481002-pentaweek@local
END:VEVENT
BEGIN:VEVENT
DTSTART;VALUE=DATE:26481009
SUMMARY:Sprint 7, Week 1
UID:26481009-pentaweek@local
END:VEVENT
BEGIN:VEVENT
DTSTART;VALUE=DATE:26481016
SUMMARY:Sprint 7, Week 2
UID:26481016-pentaweek@local
END:VEVENT
BEGIN:VEVENT
DTSTART;VALUE=DATE:26481023
SUMMARY:Sprint 7, Week 3
UID:26481023-pentaweek@local
END:VEVENT
BEGIN:VEVENT
DTSTART;VALUE=DATE:26481030
SUMMARY:Sprint 7, Week 4
UID:26481030-pentaweek@local
END:VEVENT
BEGIN:VEVENT
DTSTART;VALUE=DATE:26481106
SUMMARY:Sprint 7, Week 5
UID:26481106-pentaweek@local
END:VEVENT
BEGIN:VEVENT
DTSTART;VALUE=DATE:26481113
SUMMARY:Planning Sprint 8
UID:26481113-pentaweek@local
END:VEVENT
BEGIN:VEVENT
DTSTART;VALUE=DATE:26481120
SUMMARY:Sprint 8, Week 1
UID:26481120-pentaweek@local
END:VEVENT
BEGIN:VEVENT
DTSTART;VALUE=DATE:26481127
SUMMARY:Sprint 8, Week 2
UID:26481127-pentaweek@local
END:VEVENT
BEGIN:VEVENT
DTSTART;VALUE=DATE:26481204
SUMMARY:Sprint 8, Week 3
UID:26481204-pentaweek@local
END:VEVENT
BEGIN:VEVENT
DTSTART;VALUE=DATE:26481211
SUMMARY:Sprint 8, Week 4
UID:26481211-pentaweek@local
END:VEVENT
BEGIN:VEVENT
DTSTART;VALUE=DATE:26481218
SUMMARY:Sprint 8, Week 5
UID:26481218-pentaweek@local
END:VEVENT
END:VCALENDAR