BEGIN:VCALENDAR
VERSION:2.0
PRODID:-//Pentaweek Calendar//EN
BEGIN:VEVENT
DTSTART;VALUE=DATE:26470104
SUMMARY:Planning Sprint 1
UID:26470104-pentaweek@local
END:VEVENT
BEGIN:VEVENT
DTSTART;VALUE=DATE:26470111
SUMMARY:Sprint 1, Week 1
UID:26470111-pentaweek@local
END:VEVENT
BEGIN:VEVENT
DTSTART;VALUE=DATE:26470118
SUMMARY:Sprint 1, Week 2
UID:26470118-pentaweek@local
END:VEVENT
BEGIN:VEVENT
DTSTART;VALUE=DATE:26470125
SUMMARY:Sprint 1, Week 3
UID:26470125-pentaweek@local
END:VEVENT
BEGIN:VEVENT
DTSTART;VALUE=DATE:26470201
SUMMARY:Sprint 1, Week 4
UID:26470201-pentaweek@local
END:VEVENT
BEGIN:VEVENT
DTSTART;VALUE=DATE:26470208
SUMMARY:Sprint 1, Week 5
UID:26470208-pentaweek@local
END:VEVENT
BEGIN:VEVENT
DTSTART;VALUE=DATE:26470215
SUMMARY:Planning Sprint 2
UID:26470215-pentaweek@local
END:VEVENT
BEGIN:VEVENT
DTSTART;VALUE=DATE:26470222
SUMMARY:Sprint 2, Week 1
UID:26470222-pentaweek@local
END:VEVENT
BEGIN:VEVENT
DTSTART;VALUE=DATE:26470301
SUMMARY:Sprint 2, Week 2
UID:26470301-pentaweek@local
END:VEVENT
BEGIN:VEVENT
DTSTART;VALUE=DATE:26470308
SUMMARY:Sprint 2, Week 3
UID:26470308-pentaweek@local
END:VEVENT
BEGIN:VEVENT
DTSTART;VALUE=DATE:26470315
SUMMARY:Sprint 2, Week 4
UID:26470315-pentaweek@local
END:VEVENT
BEGIN:VEVENT
DTSTART;VALUE=DATE:26470322
SUMMARY:Sprint 2, Week 5
UID:26470322-pentaweek@local
END:VEVENT
BEGIN:VEVENT
DTSTART;VALUE=DATE:26470329
SUMMARY:Planning Sprint 3
UID:26470329-pentaweek@local
END:VEVENT
BEGIN:VEVENT
DTSTART;VALUE=DATE:26470405
SUMMARY:Sprint 3, Week 1
UID:26470405-pentaweek@local
END:VEVENT
BEGIN:VEVENT
DTSTART;VALUE=DATE:26470412
SUMMARY:Sprint 3, Week 2
UID:26470412-pentaweek@local
END:VEVENT
BEGIN:VEVENT
DTSTART;VALUE=DATE:26470419
SUMMARY:Sprint 3, Week 3
UID:26470419-pentaweek@local
END:VEVENT
BEGIN:VEVENT
DTSTART;VALUE=DATE:26470426
SUMMARY:Sprint 3, Week 4
UID:26470426-pentaweek@local
END:VEVENT
BEGIN:VEVENT
DTSTART;VALUE=DATE:26470503
SUMMARY:Sprint 3, Week 5
UID:26470503-pentaweek@local
END:VEVENT
BEGIN:VEVENT
DTSTART;VALUE=DATE:26470510
SUMMARY:Planning Sprint 4
UID:26470510-pentaweek@local
END:VEVENT
BEGIN:VEVENT
DTSTART;VALUE=DATE:26470517
SUMMARY:Sprint 4, Week 1
UID:26470517-pentaweek@local
END:VEVENT
BEGIN:VEVENT
DTSTART;VALUE=DATE:26470524
SUMMARY:Sprint 4, Week 2
UID:26470524-pentaweek@local
END:VEVENT
BEGIN:VEVENT
DTSTART;VALUE=DATE:26470531
SUMMARY:Sprint 4, Week 3
UID:26470531-pentaweek@local
END:VEVENT
BEGIN:VEVENT
DTSTART;VALUE=DATE:26470607
SUMMARY:Sprint 4, Week 4
UID:26470607-pentaweek@local
END:VEVENT
BEGIN:VEVENT
DTSTART;VALUE=DATE:26470614
SUMMARY:Sprint 4, Week 5
UID:26470614-pentaweek@local
END:VEVENT
BEGIN:VEVENT
DTSTART;VALUE=DATE:26470705
SUMMARY:Planning Sprint 5
UID:26470705-pentaweek@local
END:VEVENT
BEGIN:VEVENT
DTSTART;VALUE=DATE:26470712
SUMMARY:Sprint 5, Week 1
UID:26470712-pentaweek@local
END:VEVENT
BEGIN:VEVENT
DTSTART;VALUE=DATE:26470719
SUMMARY:Sprint 5, Week 2
UID:26470719-pentaweek@local
END:VEVENT
BEGIN:VEVENT
DTSTART;VALUE=DATE:26470726
SUMMARY:Sprint 5, Week 3
UID:26470726-pentaweek@local
END:VEVENT
BEGIN:VEVENT
DTSTART;VALUE=DATE:26470802
SUMMARY:Sprint 5, Week 4
UID:26470802-pentaweek@local
END:VEVENT
BEGIN:VEVENT
DTSTART;VALUE=DATE:26470809
SUMMARY:Sprint 5, Week 5
UID:26470809-pentaweek@local
END:VEVENT
BEGIN:VEVENT
DTSTART;VALUE=DATE:26470816
SUMMARY:Planning Sprint 6
UID:26470816-pentaweek@local
END:VEVENT
BEGIN:VEVENT
DTSTART;VALUE=DATE:26470823
SUMMARY:Sprint 6, Week 1
UID:26470823-pentaweek@local
END:VEVENT
BEGIN:VEVENT
DTSTART;VALUE=DATE:26470830
SUMMARY:Sprint 6, Week 2
UID:26470830-pentaweek@local
END:VEVENT
BEGIN:VEVENT
DTSTART;VALUE=DATE:26470906
SUMMARY:Sprint 6, Week 3
UID:26470906-pentaweek@local
END:VEVENT
BEGIN:VEVENT
DTSTART;VALUE=DATE:26470913
SUMMARY:Sprint 6, Week 4
UID:26470913-pentaweek@local
END:VEVENT
BEGIN:VEVENT
DTSTART;VALUE=DATE:26470920
SUMMARY:Sprint 6, Week 5
UID:26470920-pentaweek@local
END:VEVENT
BEGIN:VEVENT
DTSTART;VALUE=DATE:26470927
SUMMARY:Planning Sprint 7
UID:26470927-pentaweek@local
END:VEVENT
BEGIN:VEVENT
DTSTART;VALUE=DATE:26471004
SUMMARY:Sprint 7, Week 1
UID:26471004-pentaweek@local
END:VEVENT
BEGIN:VEVENT
DTSTART;VALUE=DATE:26471011
SUMMARY:Sprint 7, Week 2
UID:26471011-pentaweek@local
END:VEVENT
BEGIN:VEVENT
DTSTART;VALUE=DATE:26471018
SUMMARY:Sprint 7, Week 3
UID:26471018-pentaweek@local
END:VEVENT
BEGIN:VEVENT
DTSTART;VALUE=DATE:26471025
SUMMARY:Sprint 7, Week 4
UID:26471025-pentaweek@local
END:VEVENT
BEGIN:VEVENT
DTSTART;VALUE=DATE:26471101
SUMMARY:Sprint 7, Week 5
UID:26471101-pentaweek@local
END:VEVENT
BEGIN:VEVENT
DTSTART;VALUE=DATE:26471108
SUMMARY:Planning Sprint 8
UID:26471108-pentaweek@local
END:VEVENT
BEGIN:VEVENT
DTSTART;VALUE=DATE:26471115
SUMMARY:Sprint 8, Week 1
UID:26471115-pentaweek@local
END:VEVENT
BEGIN:VEVENT
DTSTART;VALUE=DATE:26471122
SUMMARY:Sprint 8, Week 2
UID:26471122-pentaweek@local
END:VEVENT
BEGIN:VEVENT
DTSTART;VALUE=DATE:26471129
SUMMARY:Sprint 8, Week 3
UID:26471129-pentaweek@local
END:VEVENT
BEGIN:VEVENT
DTSTART;VALUE=DATE:26471206
SUMMARY:Sprint 8, Week 4
UID:26471206-pentaweek@local
END:VEVENT
BEGIN:VEVENT
DTSTART;VALUE=DATE:26471213
SUMMARY:Sprint 8, Week 5
UID:26471213-pentaweek@local
END:VEVENT
END:VCALENDAR