BEGIN:VCALENDAR
VERSION:2.0
PRODID:-//Pentaweek Calendar//EN
BEGIN:VEVENT
DTSTART;VALUE=DATE:26460105
SUMMARY:Planning Sprint 1
UID:26460105-pentaweek@local
END:VEVENT
BEGIN:VEVENT
DTSTART;VALUE=DATE:26460112
SUMMARY:Sprint 1, Week 1
UID:26460112-pentaweek@local
END:VEVENT
BEGIN:VEVENT
DTSTART;VALUE=DATE:26460119
SUMMARY:Sprint 1, Week 2
UID:26460119-pentaweek@local
END:VEVENT
BEGIN:VEVENT
DTSTART;VALUE=DATE:26460126
SUMMARY:Sprint 1, Week 3
UID:26460126-pentaweek@local
END:VEVENT
BEGIN:VEVENT
DTSTART;VALUE=DATE:26460202
SUMMARY:Sprint 1, Week 4
UID:26460202-pentaweek@local
END:VEVENT
BEGIN:VEVENT
DTSTART;VALUE=DATE:26460209
SUMMARY:Sprint 1, Week 5
UID:26460209-pentaweek@local
END:VEVENT
BEGIN:VEVENT
DTSTART;VALUE=DATE:26460216
SUMMARY:Planning Sprint 2
UID:26460216-pentaweek@local
END:VEVENT
BEGIN:VEVENT
DTSTART;VALUE=DATE:26460223
SUMMARY:Sprint 2, Week 1
UID:26460223-pentaweek@local
END:VEVENT
BEGIN:VEVENT
DTSTART;VALUE=DATE:26460302
SUMMARY:Sprint 2, Week 2
UID:26460302-pentaweek@local
END:VEVENT
BEGIN:VEVENT
DTSTART;VALUE=DATE:26460309
SUMMARY:Sprint 2, Week 3
UID:26460309-pentaweek@local
END:VEVENT
BEGIN:VEVENT
DTSTART;VALUE=DATE:26460316
SUMMARY:Sprint 2, Week 4
UID:26460316-pentaweek@local
END:VEVENT
BEGIN:VEVENT
DTSTART;VALUE=DATE:26460323
SUMMARY:Sprint 2, Week 5
UID:26460323-pentaweek@local
END:VEVENT
BEGIN:VEVENT
DTSTART;VALUE=DATE:26460330
SUMMARY:Planning Sprint 3
UID:26460330-pentaweek@local
END:VEVENT
BEGIN:VEVENT
DTSTART;VALUE=DATE:26460406
SUMMARY:Sprint 3, Week 1
UID:26460406-pentaweek@local
END:VEVENT
BEGIN:VEVENT
DTSTART;VALUE=DATE:26460413
SUMMARY:Sprint 3, Week 2
UID:26460413-pentaweek@local
END:VEVENT
BEGIN:VEVENT
DTSTART;VALUE=DATE:26460420
SUMMARY:Sprint 3, Week 3
UID:26460420-pentaweek@local
END:VEVENT
BEGIN:VEVENT
DTSTART;VALUE=DATE:26460427
SUMMARY:Sprint 3, Week 4
UID:26460427-pentaweek@local
END:VEVENT
BEGIN:VEVENT
DTSTART;VALUE=DATE:26460504
SUMMARY:Sprint 3, Week 5
UID:26460504-pentaweek@local
END:VEVENT
BEGIN:VEVENT
DTSTART;VALUE=DATE:26460511
SUMMARY:Planning Sprint 4
UID:26460511-pentaweek@local
END:VEVENT
BEGIN:VEVENT
DTSTART;VALUE=DATE:26460518
SUMMARY:Sprint 4, Week 1
UID:26460518-pentaweek@local
END:VEVENT
BEGIN:VEVENT
DTSTART;VALUE=DATE:26460525
SUMMARY:Sprint 4, Week 2
UID:26460525-pentaweek@local
END:VEVENT
BEGIN:VEVENT
DTSTART;VALUE=DATE:26460601
SUMMARY:Sprint 4, Week 3
UID:26460601-pentaweek@local
END:VEVENT
BEGIN:VEVENT
DTSTART;VALUE=DATE:26460608
SUMMARY:Sprint 4, Week 4
UID:26460608-pentaweek@local
END:VEVENT
BEGIN:VEVENT
DTSTART;VALUE=DATE:26460615
SUMMARY:Sprint 4, Week 5
UID:26460615-pentaweek@local
END:VEVENT
BEGIN:VEVENT
DTSTART;VALUE=DATE:26460706
SUMMARY:Planning Sprint 5
UID:26460706-pentaweek@local
END:VEVENT
BEGIN:VEVENT
DTSTART;VALUE=DATE:26460713
SUMMARY:Sprint 5, Week 1
UID:26460713-pentaweek@local
END:VEVENT
BEGIN:VEVENT
DTSTART;VALUE=DATE:26460720
SUMMARY:Sprint 5, Week 2
UID:26460720-pentaweek@local
END:VEVENT
BEGIN:VEVENT
DTSTART;VALUE=DATE:26460727
SUMMARY:Sprint 5, Week 3
UID:26460727-pentaweek@local
END:VEVENT
BEGIN:VEVENT
DTSTART;VALUE=DATE:26460803
SUMMARY:Sprint 5, Week 4
UID:26460803-pentaweek@local
END:VEVENT
BEGIN:VEVENT
DTSTART;VALUE=DATE:26460810
SUMMARY:Sprint 5, Week 5
UID:26460810-pentaweek@local
END:VEVENT
BEGIN:VEVENT
DTSTART;VALUE=DATE:26460817
SUMMARY:Planning Sprint 6
UID:26460817-pentaweek@local
END:VEVENT
BEGIN:VEVENT
DTSTART;VALUE=DATE:26460824
SUMMARY:Sprint 6, Week 1
UID:26460824-pentaweek@local
END:VEVENT
BEGIN:VEVENT
DTSTART;VALUE=DATE:26460831
SUMMARY:Sprint 6, Week 2
UID:26460831-pentaweek@local
END:VEVENT
BEGIN:VEVENT
DTSTART;VALUE=DATE:26460907
SUMMARY:Sprint 6, Week 3
UID:26460907-pentaweek@local
END:VEVENT
BEGIN:VEVENT
DTSTART;VALUE=DATE:26460914
SUMMARY:Sprint 6, Week 4
UID:26460914-pentaweek@local
END:VEVENT
BEGIN:VEVENT
DTSTART;VALUE=DATE:26460921
SUMMARY:Sprint 6, Week 5
UID:26460921-pentaweek@local
END:VEVENT
BEGIN:VEVENT
DTSTART;VALUE=DATE:26460928
SUMMARY:Planning Sprint 7
UID:26460928-pentaweek@local
END:VEVENT
BEGIN:VEVENT
DTSTART;VALUE=DATE:26461005
SUMMARY:Sprint 7, Week 1
UID:26461005-pentaweek@local
END:VEVENT
BEGIN:VEVENT
DTSTART;VALUE=DATE:26461012
SUMMARY:Sprint 7, Week 2
UID:26461012-pentaweek@local
END:VEVENT
BEGIN:VEVENT
DTSTART;VALUE=DATE:26461019
SUMMARY:Sprint 7, Week 3
UID:26461019-pentaweek@local
END:VEVENT
BEGIN:VEVENT
DTSTART;VALUE=DATE:26461026
SUMMARY:Sprint 7, Week 4
UID:26461026-pentaweek@local
END:VEVENT
BEGIN:VEVENT
DTSTART;VALUE=DATE:26461102
SUMMARY:Sprint 7, Week 5
UID:26461102-pentaweek@local
END:VEVENT
BEGIN:VEVENT
DTSTART;VALUE=DATE:26461109
SUMMARY:Planning Sprint 8
UID:26461109-pentaweek@local
END:VEVENT
BEGIN:VEVENT
DTSTART;VALUE=DATE:26461116
SUMMARY:Sprint 8, Week 1
UID:26461116-pentaweek@local
END:VEVENT
BEGIN:VEVENT
DTSTART;VALUE=DATE:26461123
SUMMARY:Sprint 8, Week 2
UID:26461123-pentaweek@local
END:VEVENT
BEGIN:VEVENT
DTSTART;VALUE=DATE:26461130
SUMMARY:Sprint 8, Week 3
UID:26461130-pentaweek@local
END:VEVENT
BEGIN:VEVENT
DTSTART;VALUE=DATE:26461207
SUMMARY:Sprint 8, Week 4
UID:26461207-pentaweek@local
END:VEVENT
BEGIN:VEVENT
DTSTART;VALUE=DATE:26461214
SUMMARY:Sprint 8, Week 5
UID:26461214-pentaweek@local
END:VEVENT
END:VCALENDAR