BEGIN:VCALENDAR
VERSION:2.0
PRODID:-//Pentaweek Calendar//EN
BEGIN:VEVENT
DTSTART;VALUE=DATE:26450106
SUMMARY:Planning Sprint 1
UID:26450106-pentaweek@local
END:VEVENT
BEGIN:VEVENT
DTSTART;VALUE=DATE:26450113
SUMMARY:Sprint 1, Week 1
UID:26450113-pentaweek@local
END:VEVENT
BEGIN:VEVENT
DTSTART;VALUE=DATE:26450120
SUMMARY:Sprint 1, Week 2
UID:26450120-pentaweek@local
END:VEVENT
BEGIN:VEVENT
DTSTART;VALUE=DATE:26450127
SUMMARY:Sprint 1, Week 3
UID:26450127-pentaweek@local
END:VEVENT
BEGIN:VEVENT
DTSTART;VALUE=DATE:26450203
SUMMARY:Sprint 1, Week 4
UID:26450203-pentaweek@local
END:VEVENT
BEGIN:VEVENT
DTSTART;VALUE=DATE:26450210
SUMMARY:Sprint 1, Week 5
UID:26450210-pentaweek@local
END:VEVENT
BEGIN:VEVENT
DTSTART;VALUE=DATE:26450217
SUMMARY:Planning Sprint 2
UID:26450217-pentaweek@local
END:VEVENT
BEGIN:VEVENT
DTSTART;VALUE=DATE:26450224
SUMMARY:Sprint 2, Week 1
UID:26450224-pentaweek@local
END:VEVENT
BEGIN:VEVENT
DTSTART;VALUE=DATE:26450303
SUMMARY:Sprint 2, Week 2
UID:26450303-pentaweek@local
END:VEVENT
BEGIN:VEVENT
DTSTART;VALUE=DATE:26450310
SUMMARY:Sprint 2, Week 3
UID:26450310-pentaweek@local
END:VEVENT
BEGIN:VEVENT
DTSTART;VALUE=DATE:26450317
SUMMARY:Sprint 2, Week 4
UID:26450317-pentaweek@local
END:VEVENT
BEGIN:VEVENT
DTSTART;VALUE=DATE:26450324
SUMMARY:Sprint 2, Week 5
UID:26450324-pentaweek@local
END:VEVENT
BEGIN:VEVENT
DTSTART;VALUE=DATE:26450331
SUMMARY:Planning Sprint 3
UID:26450331-pentaweek@local
END:VEVENT
BEGIN:VEVENT
DTSTART;VALUE=DATE:26450407
SUMMARY:Sprint 3, Week 1
UID:26450407-pentaweek@local
END:VEVENT
BEGIN:VEVENT
DTSTART;VALUE=DATE:26450414
SUMMARY:Sprint 3, Week 2
UID:26450414-pentaweek@local
END:VEVENT
BEGIN:VEVENT
DTSTART;VALUE=DATE:26450421
SUMMARY:Sprint 3, Week 3
UID:26450421-pentaweek@local
END:VEVENT
BEGIN:VEVENT
DTSTART;VALUE=DATE:26450428
SUMMARY:Sprint 3, Week 4
UID:26450428-pentaweek@local
END:VEVENT
BEGIN:VEVENT
DTSTART;VALUE=DATE:26450505
SUMMARY:Sprint 3, Week 5
UID:26450505-pentaweek@local
END:VEVENT
BEGIN:VEVENT
DTSTART;VALUE=DATE:26450512
SUMMARY:Planning Sprint 4
UID:26450512-pentaweek@local
END:VEVENT
BEGIN:VEVENT
DTSTART;VALUE=DATE:26450519
SUMMARY:Sprint 4, Week 1
UID:26450519-pentaweek@local
END:VEVENT
BEGIN:VEVENT
DTSTART;VALUE=DATE:26450526
SUMMARY:Sprint 4, Week 2
UID:26450526-pentaweek@local
END:VEVENT
BEGIN:VEVENT
DTSTART;VALUE=DATE:26450602
SUMMARY:Sprint 4, Week 3
UID:26450602-pentaweek@local
END:VEVENT
BEGIN:VEVENT
DTSTART;VALUE=DATE:26450609
SUMMARY:Sprint 4, Week 4
UID:26450609-pentaweek@local
END:VEVENT
BEGIN:VEVENT
DTSTART;VALUE=DATE:26450616
SUMMARY:Sprint 4, Week 5
UID:26450616-pentaweek@local
END:VEVENT
BEGIN:VEVENT
DTSTART;VALUE=DATE:26450707
SUMMARY:Planning Sprint 5
UID:26450707-pentaweek@local
END:VEVENT
BEGIN:VEVENT
DTSTART;VALUE=DATE:26450714
SUMMARY:Sprint 5, Week 1
UID:26450714-pentaweek@local
END:VEVENT
BEGIN:VEVENT
DTSTART;VALUE=DATE:26450721
SUMMARY:Sprint 5, Week 2
UID:26450721-pentaweek@local
END:VEVENT
BEGIN:VEVENT
DTSTART;VALUE=DATE:26450728
SUMMARY:Sprint 5, Week 3
UID:26450728-pentaweek@local
END:VEVENT
BEGIN:VEVENT
DTSTART;VALUE=DATE:26450804
SUMMARY:Sprint 5, Week 4
UID:26450804-pentaweek@local
END:VEVENT
BEGIN:VEVENT
DTSTART;VALUE=DATE:26450811
SUMMARY:Sprint 5, Week 5
UID:26450811-pentaweek@local
END:VEVENT
BEGIN:VEVENT
DTSTART;VALUE=DATE:26450818
SUMMARY:Planning Sprint 6
UID:26450818-pentaweek@local
END:VEVENT
BEGIN:VEVENT
DTSTART;VALUE=DATE:26450825
SUMMARY:Sprint 6, Week 1
UID:26450825-pentaweek@local
END:VEVENT
BEGIN:VEVENT
DTSTART;VALUE=DATE:26450901
SUMMARY:Sprint 6, Week 2
UID:26450901-pentaweek@local
END:VEVENT
BEGIN:VEVENT
DTSTART;VALUE=DATE:26450908
SUMMARY:Sprint 6, Week 3
UID:26450908-pentaweek@local
END:VEVENT
BEGIN:VEVENT
DTSTART;VALUE=DATE:26450915
SUMMARY:Sprint 6, Week 4
UID:26450915-pentaweek@local
END:VEVENT
BEGIN:VEVENT
DTSTART;VALUE=DATE:26450922
SUMMARY:Sprint 6, Week 5
UID:26450922-pentaweek@local
END:VEVENT
BEGIN:VEVENT
DTSTART;VALUE=DATE:26450929
SUMMARY:Planning Sprint 7
UID:26450929-pentaweek@local
END:VEVENT
BEGIN:VEVENT
DTSTART;VALUE=DATE:26451006
SUMMARY:Sprint 7, Week 1
UID:26451006-pentaweek@local
END:VEVENT
BEGIN:VEVENT
DTSTART;VALUE=DATE:26451013
SUMMARY:Sprint 7, Week 2
UID:26451013-pentaweek@local
END:VEVENT
BEGIN:VEVENT
DTSTART;VALUE=DATE:26451020
SUMMARY:Sprint 7, Week 3
UID:26451020-pentaweek@local
END:VEVENT
BEGIN:VEVENT
DTSTART;VALUE=DATE:26451027
SUMMARY:Sprint 7, Week 4
UID:26451027-pentaweek@local
END:VEVENT
BEGIN:VEVENT
DTSTART;VALUE=DATE:26451103
SUMMARY:Sprint 7, Week 5
UID:26451103-pentaweek@local
END:VEVENT
BEGIN:VEVENT
DTSTART;VALUE=DATE:26451110
SUMMARY:Planning Sprint 8
UID:26451110-pentaweek@local
END:VEVENT
BEGIN:VEVENT
DTSTART;VALUE=DATE:26451117
SUMMARY:Sprint 8, Week 1
UID:26451117-pentaweek@local
END:VEVENT
BEGIN:VEVENT
DTSTART;VALUE=DATE:26451124
SUMMARY:Sprint 8, Week 2
UID:26451124-pentaweek@local
END:VEVENT
BEGIN:VEVENT
DTSTART;VALUE=DATE:26451201
SUMMARY:Sprint 8, Week 3
UID:26451201-pentaweek@local
END:VEVENT
BEGIN:VEVENT
DTSTART;VALUE=DATE:26451208
SUMMARY:Sprint 8, Week 4
UID:26451208-pentaweek@local
END:VEVENT
BEGIN:VEVENT
DTSTART;VALUE=DATE:26451215
SUMMARY:Sprint 8, Week 5
UID:26451215-pentaweek@local
END:VEVENT
END:VCALENDAR