BEGIN:VCALENDAR
VERSION:2.0
PRODID:-//Pentaweek Calendar//EN
BEGIN:VEVENT
DTSTART;VALUE=DATE:26440108
SUMMARY:Planning Sprint 1
UID:26440108-pentaweek@local
END:VEVENT
BEGIN:VEVENT
DTSTART;VALUE=DATE:26440115
SUMMARY:Sprint 1, Week 1
UID:26440115-pentaweek@local
END:VEVENT
BEGIN:VEVENT
DTSTART;VALUE=DATE:26440122
SUMMARY:Sprint 1, Week 2
UID:26440122-pentaweek@local
END:VEVENT
BEGIN:VEVENT
DTSTART;VALUE=DATE:26440129
SUMMARY:Sprint 1, Week 3
UID:26440129-pentaweek@local
END:VEVENT
BEGIN:VEVENT
DTSTART;VALUE=DATE:26440205
SUMMARY:Sprint 1, Week 4
UID:26440205-pentaweek@local
END:VEVENT
BEGIN:VEVENT
DTSTART;VALUE=DATE:26440212
SUMMARY:Sprint 1, Week 5
UID:26440212-pentaweek@local
END:VEVENT
BEGIN:VEVENT
DTSTART;VALUE=DATE:26440219
SUMMARY:Planning Sprint 2
UID:26440219-pentaweek@local
END:VEVENT
BEGIN:VEVENT
DTSTART;VALUE=DATE:26440226
SUMMARY:Sprint 2, Week 1
UID:26440226-pentaweek@local
END:VEVENT
BEGIN:VEVENT
DTSTART;VALUE=DATE:26440304
SUMMARY:Sprint 2, Week 2
UID:26440304-pentaweek@local
END:VEVENT
BEGIN:VEVENT
DTSTART;VALUE=DATE:26440311
SUMMARY:Sprint 2, Week 3
UID:26440311-pentaweek@local
END:VEVENT
BEGIN:VEVENT
DTSTART;VALUE=DATE:26440318
SUMMARY:Sprint 2, Week 4
UID:26440318-pentaweek@local
END:VEVENT
BEGIN:VEVENT
DTSTART;VALUE=DATE:26440325
SUMMARY:Sprint 2, Week 5
UID:26440325-pentaweek@local
END:VEVENT
BEGIN:VEVENT
DTSTART;VALUE=DATE:26440401
SUMMARY:Planning Sprint 3
UID:26440401-pentaweek@local
END:VEVENT
BEGIN:VEVENT
DTSTART;VALUE=DATE:26440408
SUMMARY:Sprint 3, Week 1
UID:26440408-pentaweek@local
END:VEVENT
BEGIN:VEVENT
DTSTART;VALUE=DATE:26440415
SUMMARY:Sprint 3, Week 2
UID:26440415-pentaweek@local
END:VEVENT
BEGIN:VEVENT
DTSTART;VALUE=DATE:26440422
SUMMARY:Sprint 3, Week 3
UID:26440422-pentaweek@local
END:VEVENT
BEGIN:VEVENT
DTSTART;VALUE=DATE:26440429
SUMMARY:Sprint 3, Week 4
UID:26440429-pentaweek@local
END:VEVENT
BEGIN:VEVENT
DTSTART;VALUE=DATE:26440506
SUMMARY:Sprint 3, Week 5
UID:26440506-pentaweek@local
END:VEVENT
BEGIN:VEVENT
DTSTART;VALUE=DATE:26440513
SUMMARY:Planning Sprint 4
UID:26440513-pentaweek@local
END:VEVENT
BEGIN:VEVENT
DTSTART;VALUE=DATE:26440520
SUMMARY:Sprint 4, Week 1
UID:26440520-pentaweek@local
END:VEVENT
BEGIN:VEVENT
DTSTART;VALUE=DATE:26440527
SUMMARY:Sprint 4, Week 2
UID:26440527-pentaweek@local
END:VEVENT
BEGIN:VEVENT
DTSTART;VALUE=DATE:26440603
SUMMARY:Sprint 4, Week 3
UID:26440603-pentaweek@local
END:VEVENT
BEGIN:VEVENT
DTSTART;VALUE=DATE:26440610
SUMMARY:Sprint 4, Week 4
UID:26440610-pentaweek@local
END:VEVENT
BEGIN:VEVENT
DTSTART;VALUE=DATE:26440617
SUMMARY:Sprint 4, Week 5
UID:26440617-pentaweek@local
END:VEVENT
BEGIN:VEVENT
DTSTART;VALUE=DATE:26440708
SUMMARY:Planning Sprint 5
UID:26440708-pentaweek@local
END:VEVENT
BEGIN:VEVENT
DTSTART;VALUE=DATE:26440715
SUMMARY:Sprint 5, Week 1
UID:26440715-pentaweek@local
END:VEVENT
BEGIN:VEVENT
DTSTART;VALUE=DATE:26440722
SUMMARY:Sprint 5, Week 2
UID:26440722-pentaweek@local
END:VEVENT
BEGIN:VEVENT
DTSTART;VALUE=DATE:26440729
SUMMARY:Sprint 5, Week 3
UID:26440729-pentaweek@local
END:VEVENT
BEGIN:VEVENT
DTSTART;VALUE=DATE:26440805
SUMMARY:Sprint 5, Week 4
UID:26440805-pentaweek@local
END:VEVENT
BEGIN:VEVENT
DTSTART;VALUE=DATE:26440812
SUMMARY:Sprint 5, Week 5
UID:26440812-pentaweek@local
END:VEVENT
BEGIN:VEVENT
DTSTART;VALUE=DATE:26440819
SUMMARY:Planning Sprint 6
UID:26440819-pentaweek@local
END:VEVENT
BEGIN:VEVENT
DTSTART;VALUE=DATE:26440826
SUMMARY:Sprint 6, Week 1
UID:26440826-pentaweek@local
END:VEVENT
BEGIN:VEVENT
DTSTART;VALUE=DATE:26440902
SUMMARY:Sprint 6, Week 2
UID:26440902-pentaweek@local
END:VEVENT
BEGIN:VEVENT
DTSTART;VALUE=DATE:26440909
SUMMARY:Sprint 6, Week 3
UID:26440909-pentaweek@local
END:VEVENT
BEGIN:VEVENT
DTSTART;VALUE=DATE:26440916
SUMMARY:Sprint 6, Week 4
UID:26440916-pentaweek@local
END:VEVENT
BEGIN:VEVENT
DTSTART;VALUE=DATE:26440923
SUMMARY:Sprint 6, Week 5
UID:26440923-pentaweek@local
END:VEVENT
BEGIN:VEVENT
DTSTART;VALUE=DATE:26440930
SUMMARY:Planning Sprint 7
UID:26440930-pentaweek@local
END:VEVENT
BEGIN:VEVENT
DTSTART;VALUE=DATE:26441007
SUMMARY:Sprint 7, Week 1
UID:26441007-pentaweek@local
END:VEVENT
BEGIN:VEVENT
DTSTART;VALUE=DATE:26441014
SUMMARY:Sprint 7, Week 2
UID:26441014-pentaweek@local
END:VEVENT
BEGIN:VEVENT
DTSTART;VALUE=DATE:26441021
SUMMARY:Sprint 7, Week 3
UID:26441021-pentaweek@local
END:VEVENT
BEGIN:VEVENT
DTSTART;VALUE=DATE:26441028
SUMMARY:Sprint 7, Week 4
UID:26441028-pentaweek@local
END:VEVENT
BEGIN:VEVENT
DTSTART;VALUE=DATE:26441104
SUMMARY:Sprint 7, Week 5
UID:26441104-pentaweek@local
END:VEVENT
BEGIN:VEVENT
DTSTART;VALUE=DATE:26441111
SUMMARY:Planning Sprint 8
UID:26441111-pentaweek@local
END:VEVENT
BEGIN:VEVENT
DTSTART;VALUE=DATE:26441118
SUMMARY:Sprint 8, Week 1
UID:26441118-pentaweek@local
END:VEVENT
BEGIN:VEVENT
DTSTART;VALUE=DATE:26441125
SUMMARY:Sprint 8, Week 2
UID:26441125-pentaweek@local
END:VEVENT
BEGIN:VEVENT
DTSTART;VALUE=DATE:26441202
SUMMARY:Sprint 8, Week 3
UID:26441202-pentaweek@local
END:VEVENT
BEGIN:VEVENT
DTSTART;VALUE=DATE:26441209
SUMMARY:Sprint 8, Week 4
UID:26441209-pentaweek@local
END:VEVENT
BEGIN:VEVENT
DTSTART;VALUE=DATE:26441216
SUMMARY:Sprint 8, Week 5
UID:26441216-pentaweek@local
END:VEVENT
END:VCALENDAR