BEGIN:VCALENDAR
VERSION:2.0
PRODID:-//Pentaweek Calendar//EN
BEGIN:VEVENT
DTSTART;VALUE=DATE:26430109
SUMMARY:Planning Sprint 1
UID:26430109-pentaweek@local
END:VEVENT
BEGIN:VEVENT
DTSTART;VALUE=DATE:26430116
SUMMARY:Sprint 1, Week 1
UID:26430116-pentaweek@local
END:VEVENT
BEGIN:VEVENT
DTSTART;VALUE=DATE:26430123
SUMMARY:Sprint 1, Week 2
UID:26430123-pentaweek@local
END:VEVENT
BEGIN:VEVENT
DTSTART;VALUE=DATE:26430130
SUMMARY:Sprint 1, Week 3
UID:26430130-pentaweek@local
END:VEVENT
BEGIN:VEVENT
DTSTART;VALUE=DATE:26430206
SUMMARY:Sprint 1, Week 4
UID:26430206-pentaweek@local
END:VEVENT
BEGIN:VEVENT
DTSTART;VALUE=DATE:26430213
SUMMARY:Sprint 1, Week 5
UID:26430213-pentaweek@local
END:VEVENT
BEGIN:VEVENT
DTSTART;VALUE=DATE:26430220
SUMMARY:Planning Sprint 2
UID:26430220-pentaweek@local
END:VEVENT
BEGIN:VEVENT
DTSTART;VALUE=DATE:26430227
SUMMARY:Sprint 2, Week 1
UID:26430227-pentaweek@local
END:VEVENT
BEGIN:VEVENT
DTSTART;VALUE=DATE:26430306
SUMMARY:Sprint 2, Week 2
UID:26430306-pentaweek@local
END:VEVENT
BEGIN:VEVENT
DTSTART;VALUE=DATE:26430313
SUMMARY:Sprint 2, Week 3
UID:26430313-pentaweek@local
END:VEVENT
BEGIN:VEVENT
DTSTART;VALUE=DATE:26430320
SUMMARY:Sprint 2, Week 4
UID:26430320-pentaweek@local
END:VEVENT
BEGIN:VEVENT
DTSTART;VALUE=DATE:26430327
SUMMARY:Sprint 2, Week 5
UID:26430327-pentaweek@local
END:VEVENT
BEGIN:VEVENT
DTSTART;VALUE=DATE:26430403
SUMMARY:Planning Sprint 3
UID:26430403-pentaweek@local
END:VEVENT
BEGIN:VEVENT
DTSTART;VALUE=DATE:26430410
SUMMARY:Sprint 3, Week 1
UID:26430410-pentaweek@local
END:VEVENT
BEGIN:VEVENT
DTSTART;VALUE=DATE:26430417
SUMMARY:Sprint 3, Week 2
UID:26430417-pentaweek@local
END:VEVENT
BEGIN:VEVENT
DTSTART;VALUE=DATE:26430424
SUMMARY:Sprint 3, Week 3
UID:26430424-pentaweek@local
END:VEVENT
BEGIN:VEVENT
DTSTART;VALUE=DATE:26430501
SUMMARY:Sprint 3, Week 4
UID:26430501-pentaweek@local
END:VEVENT
BEGIN:VEVENT
DTSTART;VALUE=DATE:26430508
SUMMARY:Sprint 3, Week 5
UID:26430508-pentaweek@local
END:VEVENT
BEGIN:VEVENT
DTSTART;VALUE=DATE:26430515
SUMMARY:Planning Sprint 4
UID:26430515-pentaweek@local
END:VEVENT
BEGIN:VEVENT
DTSTART;VALUE=DATE:26430522
SUMMARY:Sprint 4, Week 1
UID:26430522-pentaweek@local
END:VEVENT
BEGIN:VEVENT
DTSTART;VALUE=DATE:26430529
SUMMARY:Sprint 4, Week 2
UID:26430529-pentaweek@local
END:VEVENT
BEGIN:VEVENT
DTSTART;VALUE=DATE:26430605
SUMMARY:Sprint 4, Week 3
UID:26430605-pentaweek@local
END:VEVENT
BEGIN:VEVENT
DTSTART;VALUE=DATE:26430612
SUMMARY:Sprint 4, Week 4
UID:26430612-pentaweek@local
END:VEVENT
BEGIN:VEVENT
DTSTART;VALUE=DATE:26430619
SUMMARY:Sprint 4, Week 5
UID:26430619-pentaweek@local
END:VEVENT
BEGIN:VEVENT
DTSTART;VALUE=DATE:26430710
SUMMARY:Planning Sprint 5
UID:26430710-pentaweek@local
END:VEVENT
BEGIN:VEVENT
DTSTART;VALUE=DATE:26430717
SUMMARY:Sprint 5, Week 1
UID:26430717-pentaweek@local
END:VEVENT
BEGIN:VEVENT
DTSTART;VALUE=DATE:26430724
SUMMARY:Sprint 5, Week 2
UID:26430724-pentaweek@local
END:VEVENT
BEGIN:VEVENT
DTSTART;VALUE=DATE:26430731
SUMMARY:Sprint 5, Week 3
UID:26430731-pentaweek@local
END:VEVENT
BEGIN:VEVENT
DTSTART;VALUE=DATE:26430807
SUMMARY:Sprint 5, Week 4
UID:26430807-pentaweek@local
END:VEVENT
BEGIN:VEVENT
DTSTART;VALUE=DATE:26430814
SUMMARY:Sprint 5, Week 5
UID:26430814-pentaweek@local
END:VEVENT
BEGIN:VEVENT
DTSTART;VALUE=DATE:26430821
SUMMARY:Planning Sprint 6
UID:26430821-pentaweek@local
END:VEVENT
BEGIN:VEVENT
DTSTART;VALUE=DATE:26430828
SUMMARY:Sprint 6, Week 1
UID:26430828-pentaweek@local
END:VEVENT
BEGIN:VEVENT
DTSTART;VALUE=DATE:26430904
SUMMARY:Sprint 6, Week 2
UID:26430904-pentaweek@local
END:VEVENT
BEGIN:VEVENT
DTSTART;VALUE=DATE:26430911
SUMMARY:Sprint 6, Week 3
UID:26430911-pentaweek@local
END:VEVENT
BEGIN:VEVENT
DTSTART;VALUE=DATE:26430918
SUMMARY:Sprint 6, Week 4
UID:26430918-pentaweek@local
END:VEVENT
BEGIN:VEVENT
DTSTART;VALUE=DATE:26430925
SUMMARY:Sprint 6, Week 5
UID:26430925-pentaweek@local
END:VEVENT
BEGIN:VEVENT
DTSTART;VALUE=DATE:26431002
SUMMARY:Planning Sprint 7
UID:26431002-pentaweek@local
END:VEVENT
BEGIN:VEVENT
DTSTART;VALUE=DATE:26431009
SUMMARY:Sprint 7, Week 1
UID:26431009-pentaweek@local
END:VEVENT
BEGIN:VEVENT
DTSTART;VALUE=DATE:26431016
SUMMARY:Sprint 7, Week 2
UID:26431016-pentaweek@local
END:VEVENT
BEGIN:VEVENT
DTSTART;VALUE=DATE:26431023
SUMMARY:Sprint 7, Week 3
UID:26431023-pentaweek@local
END:VEVENT
BEGIN:VEVENT
DTSTART;VALUE=DATE:26431030
SUMMARY:Sprint 7, Week 4
UID:26431030-pentaweek@local
END:VEVENT
BEGIN:VEVENT
DTSTART;VALUE=DATE:26431106
SUMMARY:Sprint 7, Week 5
UID:26431106-pentaweek@local
END:VEVENT
BEGIN:VEVENT
DTSTART;VALUE=DATE:26431113
SUMMARY:Planning Sprint 8
UID:26431113-pentaweek@local
END:VEVENT
BEGIN:VEVENT
DTSTART;VALUE=DATE:26431120
SUMMARY:Sprint 8, Week 1
UID:26431120-pentaweek@local
END:VEVENT
BEGIN:VEVENT
DTSTART;VALUE=DATE:26431127
SUMMARY:Sprint 8, Week 2
UID:26431127-pentaweek@local
END:VEVENT
BEGIN:VEVENT
DTSTART;VALUE=DATE:26431204
SUMMARY:Sprint 8, Week 3
UID:26431204-pentaweek@local
END:VEVENT
BEGIN:VEVENT
DTSTART;VALUE=DATE:26431211
SUMMARY:Sprint 8, Week 4
UID:26431211-pentaweek@local
END:VEVENT
BEGIN:VEVENT
DTSTART;VALUE=DATE:26431218
SUMMARY:Sprint 8, Week 5
UID:26431218-pentaweek@local
END:VEVENT
END:VCALENDAR