BEGIN:VCALENDAR
VERSION:2.0
PRODID:-//Pentaweek Calendar//EN
BEGIN:VEVENT
DTSTART;VALUE=DATE:26420110
SUMMARY:Planning Sprint 1
UID:26420110-pentaweek@local
END:VEVENT
BEGIN:VEVENT
DTSTART;VALUE=DATE:26420117
SUMMARY:Sprint 1, Week 1
UID:26420117-pentaweek@local
END:VEVENT
BEGIN:VEVENT
DTSTART;VALUE=DATE:26420124
SUMMARY:Sprint 1, Week 2
UID:26420124-pentaweek@local
END:VEVENT
BEGIN:VEVENT
DTSTART;VALUE=DATE:26420131
SUMMARY:Sprint 1, Week 3
UID:26420131-pentaweek@local
END:VEVENT
BEGIN:VEVENT
DTSTART;VALUE=DATE:26420207
SUMMARY:Sprint 1, Week 4
UID:26420207-pentaweek@local
END:VEVENT
BEGIN:VEVENT
DTSTART;VALUE=DATE:26420214
SUMMARY:Sprint 1, Week 5
UID:26420214-pentaweek@local
END:VEVENT
BEGIN:VEVENT
DTSTART;VALUE=DATE:26420221
SUMMARY:Planning Sprint 2
UID:26420221-pentaweek@local
END:VEVENT
BEGIN:VEVENT
DTSTART;VALUE=DATE:26420228
SUMMARY:Sprint 2, Week 1
UID:26420228-pentaweek@local
END:VEVENT
BEGIN:VEVENT
DTSTART;VALUE=DATE:26420307
SUMMARY:Sprint 2, Week 2
UID:26420307-pentaweek@local
END:VEVENT
BEGIN:VEVENT
DTSTART;VALUE=DATE:26420314
SUMMARY:Sprint 2, Week 3
UID:26420314-pentaweek@local
END:VEVENT
BEGIN:VEVENT
DTSTART;VALUE=DATE:26420321
SUMMARY:Sprint 2, Week 4
UID:26420321-pentaweek@local
END:VEVENT
BEGIN:VEVENT
DTSTART;VALUE=DATE:26420328
SUMMARY:Sprint 2, Week 5
UID:26420328-pentaweek@local
END:VEVENT
BEGIN:VEVENT
DTSTART;VALUE=DATE:26420404
SUMMARY:Planning Sprint 3
UID:26420404-pentaweek@local
END:VEVENT
BEGIN:VEVENT
DTSTART;VALUE=DATE:26420411
SUMMARY:Sprint 3, Week 1
UID:26420411-pentaweek@local
END:VEVENT
BEGIN:VEVENT
DTSTART;VALUE=DATE:26420418
SUMMARY:Sprint 3, Week 2
UID:26420418-pentaweek@local
END:VEVENT
BEGIN:VEVENT
DTSTART;VALUE=DATE:26420425
SUMMARY:Sprint 3, Week 3
UID:26420425-pentaweek@local
END:VEVENT
BEGIN:VEVENT
DTSTART;VALUE=DATE:26420502
SUMMARY:Sprint 3, Week 4
UID:26420502-pentaweek@local
END:VEVENT
BEGIN:VEVENT
DTSTART;VALUE=DATE:26420509
SUMMARY:Sprint 3, Week 5
UID:26420509-pentaweek@local
END:VEVENT
BEGIN:VEVENT
DTSTART;VALUE=DATE:26420516
SUMMARY:Planning Sprint 4
UID:26420516-pentaweek@local
END:VEVENT
BEGIN:VEVENT
DTSTART;VALUE=DATE:26420523
SUMMARY:Sprint 4, Week 1
UID:26420523-pentaweek@local
END:VEVENT
BEGIN:VEVENT
DTSTART;VALUE=DATE:26420530
SUMMARY:Sprint 4, Week 2
UID:26420530-pentaweek@local
END:VEVENT
BEGIN:VEVENT
DTSTART;VALUE=DATE:26420606
SUMMARY:Sprint 4, Week 3
UID:26420606-pentaweek@local
END:VEVENT
BEGIN:VEVENT
DTSTART;VALUE=DATE:26420613
SUMMARY:Sprint 4, Week 4
UID:26420613-pentaweek@local
END:VEVENT
BEGIN:VEVENT
DTSTART;VALUE=DATE:26420620
SUMMARY:Sprint 4, Week 5
UID:26420620-pentaweek@local
END:VEVENT
BEGIN:VEVENT
DTSTART;VALUE=DATE:26420711
SUMMARY:Planning Sprint 5
UID:26420711-pentaweek@local
END:VEVENT
BEGIN:VEVENT
DTSTART;VALUE=DATE:26420718
SUMMARY:Sprint 5, Week 1
UID:26420718-pentaweek@local
END:VEVENT
BEGIN:VEVENT
DTSTART;VALUE=DATE:26420725
SUMMARY:Sprint 5, Week 2
UID:26420725-pentaweek@local
END:VEVENT
BEGIN:VEVENT
DTSTART;VALUE=DATE:26420801
SUMMARY:Sprint 5, Week 3
UID:26420801-pentaweek@local
END:VEVENT
BEGIN:VEVENT
DTSTART;VALUE=DATE:26420808
SUMMARY:Sprint 5, Week 4
UID:26420808-pentaweek@local
END:VEVENT
BEGIN:VEVENT
DTSTART;VALUE=DATE:26420815
SUMMARY:Sprint 5, Week 5
UID:26420815-pentaweek@local
END:VEVENT
BEGIN:VEVENT
DTSTART;VALUE=DATE:26420822
SUMMARY:Planning Sprint 6
UID:26420822-pentaweek@local
END:VEVENT
BEGIN:VEVENT
DTSTART;VALUE=DATE:26420829
SUMMARY:Sprint 6, Week 1
UID:26420829-pentaweek@local
END:VEVENT
BEGIN:VEVENT
DTSTART;VALUE=DATE:26420905
SUMMARY:Sprint 6, Week 2
UID:26420905-pentaweek@local
END:VEVENT
BEGIN:VEVENT
DTSTART;VALUE=DATE:26420912
SUMMARY:Sprint 6, Week 3
UID:26420912-pentaweek@local
END:VEVENT
BEGIN:VEVENT
DTSTART;VALUE=DATE:26420919
SUMMARY:Sprint 6, Week 4
UID:26420919-pentaweek@local
END:VEVENT
BEGIN:VEVENT
DTSTART;VALUE=DATE:26420926
SUMMARY:Sprint 6, Week 5
UID:26420926-pentaweek@local
END:VEVENT
BEGIN:VEVENT
DTSTART;VALUE=DATE:26421003
SUMMARY:Planning Sprint 7
UID:26421003-pentaweek@local
END:VEVENT
BEGIN:VEVENT
DTSTART;VALUE=DATE:26421010
SUMMARY:Sprint 7, Week 1
UID:26421010-pentaweek@local
END:VEVENT
BEGIN:VEVENT
DTSTART;VALUE=DATE:26421017
SUMMARY:Sprint 7, Week 2
UID:26421017-pentaweek@local
END:VEVENT
BEGIN:VEVENT
DTSTART;VALUE=DATE:26421024
SUMMARY:Sprint 7, Week 3
UID:26421024-pentaweek@local
END:VEVENT
BEGIN:VEVENT
DTSTART;VALUE=DATE:26421031
SUMMARY:Sprint 7, Week 4
UID:26421031-pentaweek@local
END:VEVENT
BEGIN:VEVENT
DTSTART;VALUE=DATE:26421107
SUMMARY:Sprint 7, Week 5
UID:26421107-pentaweek@local
END:VEVENT
BEGIN:VEVENT
DTSTART;VALUE=DATE:26421114
SUMMARY:Planning Sprint 8
UID:26421114-pentaweek@local
END:VEVENT
BEGIN:VEVENT
DTSTART;VALUE=DATE:26421121
SUMMARY:Sprint 8, Week 1
UID:26421121-pentaweek@local
END:VEVENT
BEGIN:VEVENT
DTSTART;VALUE=DATE:26421128
SUMMARY:Sprint 8, Week 2
UID:26421128-pentaweek@local
END:VEVENT
BEGIN:VEVENT
DTSTART;VALUE=DATE:26421205
SUMMARY:Sprint 8, Week 3
UID:26421205-pentaweek@local
END:VEVENT
BEGIN:VEVENT
DTSTART;VALUE=DATE:26421212
SUMMARY:Sprint 8, Week 4
UID:26421212-pentaweek@local
END:VEVENT
BEGIN:VEVENT
DTSTART;VALUE=DATE:26421219
SUMMARY:Sprint 8, Week 5
UID:26421219-pentaweek@local
END:VEVENT
END:VCALENDAR