BEGIN:VCALENDAR
VERSION:2.0
PRODID:-//Pentaweek Calendar//EN
BEGIN:VEVENT
DTSTART;VALUE=DATE:26410104
SUMMARY:Planning Sprint 1
UID:26410104-pentaweek@local
END:VEVENT
BEGIN:VEVENT
DTSTART;VALUE=DATE:26410111
SUMMARY:Sprint 1, Week 1
UID:26410111-pentaweek@local
END:VEVENT
BEGIN:VEVENT
DTSTART;VALUE=DATE:26410118
SUMMARY:Sprint 1, Week 2
UID:26410118-pentaweek@local
END:VEVENT
BEGIN:VEVENT
DTSTART;VALUE=DATE:26410125
SUMMARY:Sprint 1, Week 3
UID:26410125-pentaweek@local
END:VEVENT
BEGIN:VEVENT
DTSTART;VALUE=DATE:26410201
SUMMARY:Sprint 1, Week 4
UID:26410201-pentaweek@local
END:VEVENT
BEGIN:VEVENT
DTSTART;VALUE=DATE:26410208
SUMMARY:Sprint 1, Week 5
UID:26410208-pentaweek@local
END:VEVENT
BEGIN:VEVENT
DTSTART;VALUE=DATE:26410215
SUMMARY:Planning Sprint 2
UID:26410215-pentaweek@local
END:VEVENT
BEGIN:VEVENT
DTSTART;VALUE=DATE:26410222
SUMMARY:Sprint 2, Week 1
UID:26410222-pentaweek@local
END:VEVENT
BEGIN:VEVENT
DTSTART;VALUE=DATE:26410301
SUMMARY:Sprint 2, Week 2
UID:26410301-pentaweek@local
END:VEVENT
BEGIN:VEVENT
DTSTART;VALUE=DATE:26410308
SUMMARY:Sprint 2, Week 3
UID:26410308-pentaweek@local
END:VEVENT
BEGIN:VEVENT
DTSTART;VALUE=DATE:26410315
SUMMARY:Sprint 2, Week 4
UID:26410315-pentaweek@local
END:VEVENT
BEGIN:VEVENT
DTSTART;VALUE=DATE:26410322
SUMMARY:Sprint 2, Week 5
UID:26410322-pentaweek@local
END:VEVENT
BEGIN:VEVENT
DTSTART;VALUE=DATE:26410329
SUMMARY:Planning Sprint 3
UID:26410329-pentaweek@local
END:VEVENT
BEGIN:VEVENT
DTSTART;VALUE=DATE:26410405
SUMMARY:Sprint 3, Week 1
UID:26410405-pentaweek@local
END:VEVENT
BEGIN:VEVENT
DTSTART;VALUE=DATE:26410412
SUMMARY:Sprint 3, Week 2
UID:26410412-pentaweek@local
END:VEVENT
BEGIN:VEVENT
DTSTART;VALUE=DATE:26410419
SUMMARY:Sprint 3, Week 3
UID:26410419-pentaweek@local
END:VEVENT
BEGIN:VEVENT
DTSTART;VALUE=DATE:26410426
SUMMARY:Sprint 3, Week 4
UID:26410426-pentaweek@local
END:VEVENT
BEGIN:VEVENT
DTSTART;VALUE=DATE:26410503
SUMMARY:Sprint 3, Week 5
UID:26410503-pentaweek@local
END:VEVENT
BEGIN:VEVENT
DTSTART;VALUE=DATE:26410510
SUMMARY:Planning Sprint 4
UID:26410510-pentaweek@local
END:VEVENT
BEGIN:VEVENT
DTSTART;VALUE=DATE:26410517
SUMMARY:Sprint 4, Week 1
UID:26410517-pentaweek@local
END:VEVENT
BEGIN:VEVENT
DTSTART;VALUE=DATE:26410524
SUMMARY:Sprint 4, Week 2
UID:26410524-pentaweek@local
END:VEVENT
BEGIN:VEVENT
DTSTART;VALUE=DATE:26410531
SUMMARY:Sprint 4, Week 3
UID:26410531-pentaweek@local
END:VEVENT
BEGIN:VEVENT
DTSTART;VALUE=DATE:26410607
SUMMARY:Sprint 4, Week 4
UID:26410607-pentaweek@local
END:VEVENT
BEGIN:VEVENT
DTSTART;VALUE=DATE:26410614
SUMMARY:Sprint 4, Week 5
UID:26410614-pentaweek@local
END:VEVENT
BEGIN:VEVENT
DTSTART;VALUE=DATE:26410705
SUMMARY:Planning Sprint 5
UID:26410705-pentaweek@local
END:VEVENT
BEGIN:VEVENT
DTSTART;VALUE=DATE:26410712
SUMMARY:Sprint 5, Week 1
UID:26410712-pentaweek@local
END:VEVENT
BEGIN:VEVENT
DTSTART;VALUE=DATE:26410719
SUMMARY:Sprint 5, Week 2
UID:26410719-pentaweek@local
END:VEVENT
BEGIN:VEVENT
DTSTART;VALUE=DATE:26410726
SUMMARY:Sprint 5, Week 3
UID:26410726-pentaweek@local
END:VEVENT
BEGIN:VEVENT
DTSTART;VALUE=DATE:26410802
SUMMARY:Sprint 5, Week 4
UID:26410802-pentaweek@local
END:VEVENT
BEGIN:VEVENT
DTSTART;VALUE=DATE:26410809
SUMMARY:Sprint 5, Week 5
UID:26410809-pentaweek@local
END:VEVENT
BEGIN:VEVENT
DTSTART;VALUE=DATE:26410816
SUMMARY:Planning Sprint 6
UID:26410816-pentaweek@local
END:VEVENT
BEGIN:VEVENT
DTSTART;VALUE=DATE:26410823
SUMMARY:Sprint 6, Week 1
UID:26410823-pentaweek@local
END:VEVENT
BEGIN:VEVENT
DTSTART;VALUE=DATE:26410830
SUMMARY:Sprint 6, Week 2
UID:26410830-pentaweek@local
END:VEVENT
BEGIN:VEVENT
DTSTART;VALUE=DATE:26410906
SUMMARY:Sprint 6, Week 3
UID:26410906-pentaweek@local
END:VEVENT
BEGIN:VEVENT
DTSTART;VALUE=DATE:26410913
SUMMARY:Sprint 6, Week 4
UID:26410913-pentaweek@local
END:VEVENT
BEGIN:VEVENT
DTSTART;VALUE=DATE:26410920
SUMMARY:Sprint 6, Week 5
UID:26410920-pentaweek@local
END:VEVENT
BEGIN:VEVENT
DTSTART;VALUE=DATE:26410927
SUMMARY:Planning Sprint 7
UID:26410927-pentaweek@local
END:VEVENT
BEGIN:VEVENT
DTSTART;VALUE=DATE:26411004
SUMMARY:Sprint 7, Week 1
UID:26411004-pentaweek@local
END:VEVENT
BEGIN:VEVENT
DTSTART;VALUE=DATE:26411011
SUMMARY:Sprint 7, Week 2
UID:26411011-pentaweek@local
END:VEVENT
BEGIN:VEVENT
DTSTART;VALUE=DATE:26411018
SUMMARY:Sprint 7, Week 3
UID:26411018-pentaweek@local
END:VEVENT
BEGIN:VEVENT
DTSTART;VALUE=DATE:26411025
SUMMARY:Sprint 7, Week 4
UID:26411025-pentaweek@local
END:VEVENT
BEGIN:VEVENT
DTSTART;VALUE=DATE:26411101
SUMMARY:Sprint 7, Week 5
UID:26411101-pentaweek@local
END:VEVENT
BEGIN:VEVENT
DTSTART;VALUE=DATE:26411108
SUMMARY:Planning Sprint 8
UID:26411108-pentaweek@local
END:VEVENT
BEGIN:VEVENT
DTSTART;VALUE=DATE:26411115
SUMMARY:Sprint 8, Week 1
UID:26411115-pentaweek@local
END:VEVENT
BEGIN:VEVENT
DTSTART;VALUE=DATE:26411122
SUMMARY:Sprint 8, Week 2
UID:26411122-pentaweek@local
END:VEVENT
BEGIN:VEVENT
DTSTART;VALUE=DATE:26411129
SUMMARY:Sprint 8, Week 3
UID:26411129-pentaweek@local
END:VEVENT
BEGIN:VEVENT
DTSTART;VALUE=DATE:26411206
SUMMARY:Sprint 8, Week 4
UID:26411206-pentaweek@local
END:VEVENT
BEGIN:VEVENT
DTSTART;VALUE=DATE:26411213
SUMMARY:Sprint 8, Week 5
UID:26411213-pentaweek@local
END:VEVENT
END:VCALENDAR