BEGIN:VCALENDAR
VERSION:2.0
PRODID:-//Pentaweek Calendar//EN
BEGIN:VEVENT
DTSTART;VALUE=DATE:26400106
SUMMARY:Planning Sprint 1
UID:26400106-pentaweek@local
END:VEVENT
BEGIN:VEVENT
DTSTART;VALUE=DATE:26400113
SUMMARY:Sprint 1, Week 1
UID:26400113-pentaweek@local
END:VEVENT
BEGIN:VEVENT
DTSTART;VALUE=DATE:26400120
SUMMARY:Sprint 1, Week 2
UID:26400120-pentaweek@local
END:VEVENT
BEGIN:VEVENT
DTSTART;VALUE=DATE:26400127
SUMMARY:Sprint 1, Week 3
UID:26400127-pentaweek@local
END:VEVENT
BEGIN:VEVENT
DTSTART;VALUE=DATE:26400203
SUMMARY:Sprint 1, Week 4
UID:26400203-pentaweek@local
END:VEVENT
BEGIN:VEVENT
DTSTART;VALUE=DATE:26400210
SUMMARY:Sprint 1, Week 5
UID:26400210-pentaweek@local
END:VEVENT
BEGIN:VEVENT
DTSTART;VALUE=DATE:26400217
SUMMARY:Planning Sprint 2
UID:26400217-pentaweek@local
END:VEVENT
BEGIN:VEVENT
DTSTART;VALUE=DATE:26400224
SUMMARY:Sprint 2, Week 1
UID:26400224-pentaweek@local
END:VEVENT
BEGIN:VEVENT
DTSTART;VALUE=DATE:26400302
SUMMARY:Sprint 2, Week 2
UID:26400302-pentaweek@local
END:VEVENT
BEGIN:VEVENT
DTSTART;VALUE=DATE:26400309
SUMMARY:Sprint 2, Week 3
UID:26400309-pentaweek@local
END:VEVENT
BEGIN:VEVENT
DTSTART;VALUE=DATE:26400316
SUMMARY:Sprint 2, Week 4
UID:26400316-pentaweek@local
END:VEVENT
BEGIN:VEVENT
DTSTART;VALUE=DATE:26400323
SUMMARY:Sprint 2, Week 5
UID:26400323-pentaweek@local
END:VEVENT
BEGIN:VEVENT
DTSTART;VALUE=DATE:26400330
SUMMARY:Planning Sprint 3
UID:26400330-pentaweek@local
END:VEVENT
BEGIN:VEVENT
DTSTART;VALUE=DATE:26400406
SUMMARY:Sprint 3, Week 1
UID:26400406-pentaweek@local
END:VEVENT
BEGIN:VEVENT
DTSTART;VALUE=DATE:26400413
SUMMARY:Sprint 3, Week 2
UID:26400413-pentaweek@local
END:VEVENT
BEGIN:VEVENT
DTSTART;VALUE=DATE:26400420
SUMMARY:Sprint 3, Week 3
UID:26400420-pentaweek@local
END:VEVENT
BEGIN:VEVENT
DTSTART;VALUE=DATE:26400427
SUMMARY:Sprint 3, Week 4
UID:26400427-pentaweek@local
END:VEVENT
BEGIN:VEVENT
DTSTART;VALUE=DATE:26400504
SUMMARY:Sprint 3, Week 5
UID:26400504-pentaweek@local
END:VEVENT
BEGIN:VEVENT
DTSTART;VALUE=DATE:26400511
SUMMARY:Planning Sprint 4
UID:26400511-pentaweek@local
END:VEVENT
BEGIN:VEVENT
DTSTART;VALUE=DATE:26400518
SUMMARY:Sprint 4, Week 1
UID:26400518-pentaweek@local
END:VEVENT
BEGIN:VEVENT
DTSTART;VALUE=DATE:26400525
SUMMARY:Sprint 4, Week 2
UID:26400525-pentaweek@local
END:VEVENT
BEGIN:VEVENT
DTSTART;VALUE=DATE:26400601
SUMMARY:Sprint 4, Week 3
UID:26400601-pentaweek@local
END:VEVENT
BEGIN:VEVENT
DTSTART;VALUE=DATE:26400608
SUMMARY:Sprint 4, Week 4
UID:26400608-pentaweek@local
END:VEVENT
BEGIN:VEVENT
DTSTART;VALUE=DATE:26400615
SUMMARY:Sprint 4, Week 5
UID:26400615-pentaweek@local
END:VEVENT
BEGIN:VEVENT
DTSTART;VALUE=DATE:26400706
SUMMARY:Planning Sprint 5
UID:26400706-pentaweek@local
END:VEVENT
BEGIN:VEVENT
DTSTART;VALUE=DATE:26400713
SUMMARY:Sprint 5, Week 1
UID:26400713-pentaweek@local
END:VEVENT
BEGIN:VEVENT
DTSTART;VALUE=DATE:26400720
SUMMARY:Sprint 5, Week 2
UID:26400720-pentaweek@local
END:VEVENT
BEGIN:VEVENT
DTSTART;VALUE=DATE:26400727
SUMMARY:Sprint 5, Week 3
UID:26400727-pentaweek@local
END:VEVENT
BEGIN:VEVENT
DTSTART;VALUE=DATE:26400803
SUMMARY:Sprint 5, Week 4
UID:26400803-pentaweek@local
END:VEVENT
BEGIN:VEVENT
DTSTART;VALUE=DATE:26400810
SUMMARY:Sprint 5, Week 5
UID:26400810-pentaweek@local
END:VEVENT
BEGIN:VEVENT
DTSTART;VALUE=DATE:26400817
SUMMARY:Planning Sprint 6
UID:26400817-pentaweek@local
END:VEVENT
BEGIN:VEVENT
DTSTART;VALUE=DATE:26400824
SUMMARY:Sprint 6, Week 1
UID:26400824-pentaweek@local
END:VEVENT
BEGIN:VEVENT
DTSTART;VALUE=DATE:26400831
SUMMARY:Sprint 6, Week 2
UID:26400831-pentaweek@local
END:VEVENT
BEGIN:VEVENT
DTSTART;VALUE=DATE:26400907
SUMMARY:Sprint 6, Week 3
UID:26400907-pentaweek@local
END:VEVENT
BEGIN:VEVENT
DTSTART;VALUE=DATE:26400914
SUMMARY:Sprint 6, Week 4
UID:26400914-pentaweek@local
END:VEVENT
BEGIN:VEVENT
DTSTART;VALUE=DATE:26400921
SUMMARY:Sprint 6, Week 5
UID:26400921-pentaweek@local
END:VEVENT
BEGIN:VEVENT
DTSTART;VALUE=DATE:26400928
SUMMARY:Planning Sprint 7
UID:26400928-pentaweek@local
END:VEVENT
BEGIN:VEVENT
DTSTART;VALUE=DATE:26401005
SUMMARY:Sprint 7, Week 1
UID:26401005-pentaweek@local
END:VEVENT
BEGIN:VEVENT
DTSTART;VALUE=DATE:26401012
SUMMARY:Sprint 7, Week 2
UID:26401012-pentaweek@local
END:VEVENT
BEGIN:VEVENT
DTSTART;VALUE=DATE:26401019
SUMMARY:Sprint 7, Week 3
UID:26401019-pentaweek@local
END:VEVENT
BEGIN:VEVENT
DTSTART;VALUE=DATE:26401026
SUMMARY:Sprint 7, Week 4
UID:26401026-pentaweek@local
END:VEVENT
BEGIN:VEVENT
DTSTART;VALUE=DATE:26401102
SUMMARY:Sprint 7, Week 5
UID:26401102-pentaweek@local
END:VEVENT
BEGIN:VEVENT
DTSTART;VALUE=DATE:26401109
SUMMARY:Planning Sprint 8
UID:26401109-pentaweek@local
END:VEVENT
BEGIN:VEVENT
DTSTART;VALUE=DATE:26401116
SUMMARY:Sprint 8, Week 1
UID:26401116-pentaweek@local
END:VEVENT
BEGIN:VEVENT
DTSTART;VALUE=DATE:26401123
SUMMARY:Sprint 8, Week 2
UID:26401123-pentaweek@local
END:VEVENT
BEGIN:VEVENT
DTSTART;VALUE=DATE:26401130
SUMMARY:Sprint 8, Week 3
UID:26401130-pentaweek@local
END:VEVENT
BEGIN:VEVENT
DTSTART;VALUE=DATE:26401207
SUMMARY:Sprint 8, Week 4
UID:26401207-pentaweek@local
END:VEVENT
BEGIN:VEVENT
DTSTART;VALUE=DATE:26401214
SUMMARY:Sprint 8, Week 5
UID:26401214-pentaweek@local
END:VEVENT
END:VCALENDAR