BEGIN:VCALENDAR
VERSION:2.0
PRODID:-//Pentaweek Calendar//EN
BEGIN:VEVENT
DTSTART;VALUE=DATE:26390107
SUMMARY:Planning Sprint 1
UID:26390107-pentaweek@local
END:VEVENT
BEGIN:VEVENT
DTSTART;VALUE=DATE:26390114
SUMMARY:Sprint 1, Week 1
UID:26390114-pentaweek@local
END:VEVENT
BEGIN:VEVENT
DTSTART;VALUE=DATE:26390121
SUMMARY:Sprint 1, Week 2
UID:26390121-pentaweek@local
END:VEVENT
BEGIN:VEVENT
DTSTART;VALUE=DATE:26390128
SUMMARY:Sprint 1, Week 3
UID:26390128-pentaweek@local
END:VEVENT
BEGIN:VEVENT
DTSTART;VALUE=DATE:26390204
SUMMARY:Sprint 1, Week 4
UID:26390204-pentaweek@local
END:VEVENT
BEGIN:VEVENT
DTSTART;VALUE=DATE:26390211
SUMMARY:Sprint 1, Week 5
UID:26390211-pentaweek@local
END:VEVENT
BEGIN:VEVENT
DTSTART;VALUE=DATE:26390218
SUMMARY:Planning Sprint 2
UID:26390218-pentaweek@local
END:VEVENT
BEGIN:VEVENT
DTSTART;VALUE=DATE:26390225
SUMMARY:Sprint 2, Week 1
UID:26390225-pentaweek@local
END:VEVENT
BEGIN:VEVENT
DTSTART;VALUE=DATE:26390304
SUMMARY:Sprint 2, Week 2
UID:26390304-pentaweek@local
END:VEVENT
BEGIN:VEVENT
DTSTART;VALUE=DATE:26390311
SUMMARY:Sprint 2, Week 3
UID:26390311-pentaweek@local
END:VEVENT
BEGIN:VEVENT
DTSTART;VALUE=DATE:26390318
SUMMARY:Sprint 2, Week 4
UID:26390318-pentaweek@local
END:VEVENT
BEGIN:VEVENT
DTSTART;VALUE=DATE:26390325
SUMMARY:Sprint 2, Week 5
UID:26390325-pentaweek@local
END:VEVENT
BEGIN:VEVENT
DTSTART;VALUE=DATE:26390401
SUMMARY:Planning Sprint 3
UID:26390401-pentaweek@local
END:VEVENT
BEGIN:VEVENT
DTSTART;VALUE=DATE:26390408
SUMMARY:Sprint 3, Week 1
UID:26390408-pentaweek@local
END:VEVENT
BEGIN:VEVENT
DTSTART;VALUE=DATE:26390415
SUMMARY:Sprint 3, Week 2
UID:26390415-pentaweek@local
END:VEVENT
BEGIN:VEVENT
DTSTART;VALUE=DATE:26390422
SUMMARY:Sprint 3, Week 3
UID:26390422-pentaweek@local
END:VEVENT
BEGIN:VEVENT
DTSTART;VALUE=DATE:26390429
SUMMARY:Sprint 3, Week 4
UID:26390429-pentaweek@local
END:VEVENT
BEGIN:VEVENT
DTSTART;VALUE=DATE:26390506
SUMMARY:Sprint 3, Week 5
UID:26390506-pentaweek@local
END:VEVENT
BEGIN:VEVENT
DTSTART;VALUE=DATE:26390513
SUMMARY:Planning Sprint 4
UID:26390513-pentaweek@local
END:VEVENT
BEGIN:VEVENT
DTSTART;VALUE=DATE:26390520
SUMMARY:Sprint 4, Week 1
UID:26390520-pentaweek@local
END:VEVENT
BEGIN:VEVENT
DTSTART;VALUE=DATE:26390527
SUMMARY:Sprint 4, Week 2
UID:26390527-pentaweek@local
END:VEVENT
BEGIN:VEVENT
DTSTART;VALUE=DATE:26390603
SUMMARY:Sprint 4, Week 3
UID:26390603-pentaweek@local
END:VEVENT
BEGIN:VEVENT
DTSTART;VALUE=DATE:26390610
SUMMARY:Sprint 4, Week 4
UID:26390610-pentaweek@local
END:VEVENT
BEGIN:VEVENT
DTSTART;VALUE=DATE:26390617
SUMMARY:Sprint 4, Week 5
UID:26390617-pentaweek@local
END:VEVENT
BEGIN:VEVENT
DTSTART;VALUE=DATE:26390708
SUMMARY:Planning Sprint 5
UID:26390708-pentaweek@local
END:VEVENT
BEGIN:VEVENT
DTSTART;VALUE=DATE:26390715
SUMMARY:Sprint 5, Week 1
UID:26390715-pentaweek@local
END:VEVENT
BEGIN:VEVENT
DTSTART;VALUE=DATE:26390722
SUMMARY:Sprint 5, Week 2
UID:26390722-pentaweek@local
END:VEVENT
BEGIN:VEVENT
DTSTART;VALUE=DATE:26390729
SUMMARY:Sprint 5, Week 3
UID:26390729-pentaweek@local
END:VEVENT
BEGIN:VEVENT
DTSTART;VALUE=DATE:26390805
SUMMARY:Sprint 5, Week 4
UID:26390805-pentaweek@local
END:VEVENT
BEGIN:VEVENT
DTSTART;VALUE=DATE:26390812
SUMMARY:Sprint 5, Week 5
UID:26390812-pentaweek@local
END:VEVENT
BEGIN:VEVENT
DTSTART;VALUE=DATE:26390819
SUMMARY:Planning Sprint 6
UID:26390819-pentaweek@local
END:VEVENT
BEGIN:VEVENT
DTSTART;VALUE=DATE:26390826
SUMMARY:Sprint 6, Week 1
UID:26390826-pentaweek@local
END:VEVENT
BEGIN:VEVENT
DTSTART;VALUE=DATE:26390902
SUMMARY:Sprint 6, Week 2
UID:26390902-pentaweek@local
END:VEVENT
BEGIN:VEVENT
DTSTART;VALUE=DATE:26390909
SUMMARY:Sprint 6, Week 3
UID:26390909-pentaweek@local
END:VEVENT
BEGIN:VEVENT
DTSTART;VALUE=DATE:26390916
SUMMARY:Sprint 6, Week 4
UID:26390916-pentaweek@local
END:VEVENT
BEGIN:VEVENT
DTSTART;VALUE=DATE:26390923
SUMMARY:Sprint 6, Week 5
UID:26390923-pentaweek@local
END:VEVENT
BEGIN:VEVENT
DTSTART;VALUE=DATE:26390930
SUMMARY:Planning Sprint 7
UID:26390930-pentaweek@local
END:VEVENT
BEGIN:VEVENT
DTSTART;VALUE=DATE:26391007
SUMMARY:Sprint 7, Week 1
UID:26391007-pentaweek@local
END:VEVENT
BEGIN:VEVENT
DTSTART;VALUE=DATE:26391014
SUMMARY:Sprint 7, Week 2
UID:26391014-pentaweek@local
END:VEVENT
BEGIN:VEVENT
DTSTART;VALUE=DATE:26391021
SUMMARY:Sprint 7, Week 3
UID:26391021-pentaweek@local
END:VEVENT
BEGIN:VEVENT
DTSTART;VALUE=DATE:26391028
SUMMARY:Sprint 7, Week 4
UID:26391028-pentaweek@local
END:VEVENT
BEGIN:VEVENT
DTSTART;VALUE=DATE:26391104
SUMMARY:Sprint 7, Week 5
UID:26391104-pentaweek@local
END:VEVENT
BEGIN:VEVENT
DTSTART;VALUE=DATE:26391111
SUMMARY:Planning Sprint 8
UID:26391111-pentaweek@local
END:VEVENT
BEGIN:VEVENT
DTSTART;VALUE=DATE:26391118
SUMMARY:Sprint 8, Week 1
UID:26391118-pentaweek@local
END:VEVENT
BEGIN:VEVENT
DTSTART;VALUE=DATE:26391125
SUMMARY:Sprint 8, Week 2
UID:26391125-pentaweek@local
END:VEVENT
BEGIN:VEVENT
DTSTART;VALUE=DATE:26391202
SUMMARY:Sprint 8, Week 3
UID:26391202-pentaweek@local
END:VEVENT
BEGIN:VEVENT
DTSTART;VALUE=DATE:26391209
SUMMARY:Sprint 8, Week 4
UID:26391209-pentaweek@local
END:VEVENT
BEGIN:VEVENT
DTSTART;VALUE=DATE:26391216
SUMMARY:Sprint 8, Week 5
UID:26391216-pentaweek@local
END:VEVENT
END:VCALENDAR