BEGIN:VCALENDAR
VERSION:2.0
PRODID:-//Pentaweek Calendar//EN
BEGIN:VEVENT
DTSTART;VALUE=DATE:26380108
SUMMARY:Planning Sprint 1
UID:26380108-pentaweek@local
END:VEVENT
BEGIN:VEVENT
DTSTART;VALUE=DATE:26380115
SUMMARY:Sprint 1, Week 1
UID:26380115-pentaweek@local
END:VEVENT
BEGIN:VEVENT
DTSTART;VALUE=DATE:26380122
SUMMARY:Sprint 1, Week 2
UID:26380122-pentaweek@local
END:VEVENT
BEGIN:VEVENT
DTSTART;VALUE=DATE:26380129
SUMMARY:Sprint 1, Week 3
UID:26380129-pentaweek@local
END:VEVENT
BEGIN:VEVENT
DTSTART;VALUE=DATE:26380205
SUMMARY:Sprint 1, Week 4
UID:26380205-pentaweek@local
END:VEVENT
BEGIN:VEVENT
DTSTART;VALUE=DATE:26380212
SUMMARY:Sprint 1, Week 5
UID:26380212-pentaweek@local
END:VEVENT
BEGIN:VEVENT
DTSTART;VALUE=DATE:26380219
SUMMARY:Planning Sprint 2
UID:26380219-pentaweek@local
END:VEVENT
BEGIN:VEVENT
DTSTART;VALUE=DATE:26380226
SUMMARY:Sprint 2, Week 1
UID:26380226-pentaweek@local
END:VEVENT
BEGIN:VEVENT
DTSTART;VALUE=DATE:26380305
SUMMARY:Sprint 2, Week 2
UID:26380305-pentaweek@local
END:VEVENT
BEGIN:VEVENT
DTSTART;VALUE=DATE:26380312
SUMMARY:Sprint 2, Week 3
UID:26380312-pentaweek@local
END:VEVENT
BEGIN:VEVENT
DTSTART;VALUE=DATE:26380319
SUMMARY:Sprint 2, Week 4
UID:26380319-pentaweek@local
END:VEVENT
BEGIN:VEVENT
DTSTART;VALUE=DATE:26380326
SUMMARY:Sprint 2, Week 5
UID:26380326-pentaweek@local
END:VEVENT
BEGIN:VEVENT
DTSTART;VALUE=DATE:26380402
SUMMARY:Planning Sprint 3
UID:26380402-pentaweek@local
END:VEVENT
BEGIN:VEVENT
DTSTART;VALUE=DATE:26380409
SUMMARY:Sprint 3, Week 1
UID:26380409-pentaweek@local
END:VEVENT
BEGIN:VEVENT
DTSTART;VALUE=DATE:26380416
SUMMARY:Sprint 3, Week 2
UID:26380416-pentaweek@local
END:VEVENT
BEGIN:VEVENT
DTSTART;VALUE=DATE:26380423
SUMMARY:Sprint 3, Week 3
UID:26380423-pentaweek@local
END:VEVENT
BEGIN:VEVENT
DTSTART;VALUE=DATE:26380430
SUMMARY:Sprint 3, Week 4
UID:26380430-pentaweek@local
END:VEVENT
BEGIN:VEVENT
DTSTART;VALUE=DATE:26380507
SUMMARY:Sprint 3, Week 5
UID:26380507-pentaweek@local
END:VEVENT
BEGIN:VEVENT
DTSTART;VALUE=DATE:26380514
SUMMARY:Planning Sprint 4
UID:26380514-pentaweek@local
END:VEVENT
BEGIN:VEVENT
DTSTART;VALUE=DATE:26380521
SUMMARY:Sprint 4, Week 1
UID:26380521-pentaweek@local
END:VEVENT
BEGIN:VEVENT
DTSTART;VALUE=DATE:26380528
SUMMARY:Sprint 4, Week 2
UID:26380528-pentaweek@local
END:VEVENT
BEGIN:VEVENT
DTSTART;VALUE=DATE:26380604
SUMMARY:Sprint 4, Week 3
UID:26380604-pentaweek@local
END:VEVENT
BEGIN:VEVENT
DTSTART;VALUE=DATE:26380611
SUMMARY:Sprint 4, Week 4
UID:26380611-pentaweek@local
END:VEVENT
BEGIN:VEVENT
DTSTART;VALUE=DATE:26380618
SUMMARY:Sprint 4, Week 5
UID:26380618-pentaweek@local
END:VEVENT
BEGIN:VEVENT
DTSTART;VALUE=DATE:26380709
SUMMARY:Planning Sprint 5
UID:26380709-pentaweek@local
END:VEVENT
BEGIN:VEVENT
DTSTART;VALUE=DATE:26380716
SUMMARY:Sprint 5, Week 1
UID:26380716-pentaweek@local
END:VEVENT
BEGIN:VEVENT
DTSTART;VALUE=DATE:26380723
SUMMARY:Sprint 5, Week 2
UID:26380723-pentaweek@local
END:VEVENT
BEGIN:VEVENT
DTSTART;VALUE=DATE:26380730
SUMMARY:Sprint 5, Week 3
UID:26380730-pentaweek@local
END:VEVENT
BEGIN:VEVENT
DTSTART;VALUE=DATE:26380806
SUMMARY:Sprint 5, Week 4
UID:26380806-pentaweek@local
END:VEVENT
BEGIN:VEVENT
DTSTART;VALUE=DATE:26380813
SUMMARY:Sprint 5, Week 5
UID:26380813-pentaweek@local
END:VEVENT
BEGIN:VEVENT
DTSTART;VALUE=DATE:26380820
SUMMARY:Planning Sprint 6
UID:26380820-pentaweek@local
END:VEVENT
BEGIN:VEVENT
DTSTART;VALUE=DATE:26380827
SUMMARY:Sprint 6, Week 1
UID:26380827-pentaweek@local
END:VEVENT
BEGIN:VEVENT
DTSTART;VALUE=DATE:26380903
SUMMARY:Sprint 6, Week 2
UID:26380903-pentaweek@local
END:VEVENT
BEGIN:VEVENT
DTSTART;VALUE=DATE:26380910
SUMMARY:Sprint 6, Week 3
UID:26380910-pentaweek@local
END:VEVENT
BEGIN:VEVENT
DTSTART;VALUE=DATE:26380917
SUMMARY:Sprint 6, Week 4
UID:26380917-pentaweek@local
END:VEVENT
BEGIN:VEVENT
DTSTART;VALUE=DATE:26380924
SUMMARY:Sprint 6, Week 5
UID:26380924-pentaweek@local
END:VEVENT
BEGIN:VEVENT
DTSTART;VALUE=DATE:26381001
SUMMARY:Planning Sprint 7
UID:26381001-pentaweek@local
END:VEVENT
BEGIN:VEVENT
DTSTART;VALUE=DATE:26381008
SUMMARY:Sprint 7, Week 1
UID:26381008-pentaweek@local
END:VEVENT
BEGIN:VEVENT
DTSTART;VALUE=DATE:26381015
SUMMARY:Sprint 7, Week 2
UID:26381015-pentaweek@local
END:VEVENT
BEGIN:VEVENT
DTSTART;VALUE=DATE:26381022
SUMMARY:Sprint 7, Week 3
UID:26381022-pentaweek@local
END:VEVENT
BEGIN:VEVENT
DTSTART;VALUE=DATE:26381029
SUMMARY:Sprint 7, Week 4
UID:26381029-pentaweek@local
END:VEVENT
BEGIN:VEVENT
DTSTART;VALUE=DATE:26381105
SUMMARY:Sprint 7, Week 5
UID:26381105-pentaweek@local
END:VEVENT
BEGIN:VEVENT
DTSTART;VALUE=DATE:26381112
SUMMARY:Planning Sprint 8
UID:26381112-pentaweek@local
END:VEVENT
BEGIN:VEVENT
DTSTART;VALUE=DATE:26381119
SUMMARY:Sprint 8, Week 1
UID:26381119-pentaweek@local
END:VEVENT
BEGIN:VEVENT
DTSTART;VALUE=DATE:26381126
SUMMARY:Sprint 8, Week 2
UID:26381126-pentaweek@local
END:VEVENT
BEGIN:VEVENT
DTSTART;VALUE=DATE:26381203
SUMMARY:Sprint 8, Week 3
UID:26381203-pentaweek@local
END:VEVENT
BEGIN:VEVENT
DTSTART;VALUE=DATE:26381210
SUMMARY:Sprint 8, Week 4
UID:26381210-pentaweek@local
END:VEVENT
BEGIN:VEVENT
DTSTART;VALUE=DATE:26381217
SUMMARY:Sprint 8, Week 5
UID:26381217-pentaweek@local
END:VEVENT
END:VCALENDAR